BEGIN:VCALENDAR
VERSION:2.0
PRODID:-//Ultima Online - ECPv5.16.4.1//NONSGML v1.0//EN
CALSCALE:GREGORIAN
METHOD:PUBLISH
X-WR-CALNAME:Ultima Online
X-ORIGINAL-URL:https://uo.com
X-WR-CALDESC:Events for Ultima Online
BEGIN:VTIMEZONE
TZID:America/Los_Angeles
BEGIN:DAYLIGHT
TZOFFSETFROM:-0800
TZOFFSETTO:-0700
TZNAME:PDT
DTSTART:20170312T100000
END:DAYLIGHT
BEGIN:STANDARD
TZOFFSETFROM:-0700
TZOFFSETTO:-0800
TZNAME:PST
DTSTART:20171105T090000
END:STANDARD
END:VTIMEZONE
BEGIN:VEVENT
DTSTART;TZID=America/Los_Angeles:20170823T190000
DTEND;TZID=America/Los_Angeles:20170823T200000
DTSTAMP:20260422T084606
CREATED:20170817T033148Z
LAST-MODIFIED:20170817T033148Z
UID:14571-1503514800-1503518400@uo.com
SUMMARY:Baja - Royal Guard - A Dead Man's Treasure
DESCRIPTION:After being defeated at the Spirituality Shrine\, a map was recovered from Johnny Runner the Pirate! Vladimir the Ranger needs your help in decoding the map\, following clues\, and finding the location of Johnny Runner’s hidden pirate treasure vault!
URL:https://uo.com/event/baja-royal-guard-a-dead-mans-treasure/
LOCATION:King Blackthorn’s Courtyard
CATEGORIES:EM Event
END:VEVENT
END:VCALENDAR