BEGIN:VCALENDAR
VERSION:2.0
PRODID:-//Ultima Online - ECPv5.16.4.1//NONSGML v1.0//EN
CALSCALE:GREGORIAN
METHOD:PUBLISH
X-WR-CALNAME:Ultima Online
X-ORIGINAL-URL:https://uo.com
X-WR-CALDESC:Events for Ultima Online
BEGIN:VTIMEZONE
TZID:America/Los_Angeles
BEGIN:DAYLIGHT
TZOFFSETFROM:-0800
TZOFFSETTO:-0700
TZNAME:PDT
DTSTART:20170312T100000
END:DAYLIGHT
BEGIN:STANDARD
TZOFFSETFROM:-0700
TZOFFSETTO:-0800
TZNAME:PST
DTSTART:20171105T090000
END:STANDARD
TZID:America/New_York
BEGIN:DAYLIGHT
TZOFFSETFROM:-0500
TZOFFSETTO:-0400
TZNAME:EDT
DTSTART:20170312T070000
END:DAYLIGHT
BEGIN:STANDARD
TZOFFSETFROM:-0400
TZOFFSETTO:-0500
TZNAME:EST
DTSTART:20171105T060000
END:STANDARD
TZID:Europe/London
BEGIN:DAYLIGHT
TZOFFSETFROM:+0000
TZOFFSETTO:+0100
TZNAME:BST
DTSTART:20170326T010000
END:DAYLIGHT
BEGIN:STANDARD
TZOFFSETFROM:+0100
TZOFFSETTO:+0000
TZNAME:GMT
DTSTART:20171029T010000
END:STANDARD
TZID:Europe/Berlin
BEGIN:DAYLIGHT
TZOFFSETFROM:+0100
TZOFFSETTO:+0200
TZNAME:CEST
DTSTART:20170326T010000
END:DAYLIGHT
BEGIN:STANDARD
TZOFFSETFROM:+0200
TZOFFSETTO:+0100
TZNAME:CET
DTSTART:20171029T010000
END:STANDARD
END:VTIMEZONE
BEGIN:VEVENT
DTSTART;TZID=America/Los_Angeles:20170827T170000
DTEND;TZID=America/Los_Angeles:20170827T173000
DTSTAMP:20260422T084603
CREATED:20170731T064025Z
LAST-MODIFIED:20170731T064025Z
UID:14363-1503853200-1503855000@uo.com
SUMMARY:Napa Valley - Governor's Meeting
DESCRIPTION:
URL:https://uo.com/event/napa-valley-governors-meeting-16/
CATEGORIES:EM Event
END:VEVENT
BEGIN:VEVENT
DTSTART;TZID=America/Los_Angeles:20170827T190000
DTEND;TZID=America/Los_Angeles:20170827T200000
DTSTAMP:20260422T084603
CREATED:20170811T063408Z
LAST-MODIFIED:20170811T063408Z
UID:14510-1503860400-1503864000@uo.com
SUMMARY:Pacific - Charon’s Drift between Darkened Skies
DESCRIPTION:
URL:https://uo.com/event/pacific-charons-drift-between-darkened-skies/
CATEGORIES:EM Event
END:VEVENT
BEGIN:VEVENT
DTSTART;TZID=America/New_York:20170827T200000
DTEND;TZID=America/New_York:20170827T210000
DTSTAMP:20260422T084603
CREATED:20170820T224735Z
LAST-MODIFIED:20170820T224735Z
UID:14589-1503864000-1503867600@uo.com
SUMMARY:Atlantic - "Conseil du Roi"
DESCRIPTION:
URL:https://uo.com/event/atlantic-conseil-du-roi-6/
CATEGORIES:EM Event
END:VEVENT
BEGIN:VEVENT
DTSTART;TZID=Europe/London:20170827T203000
DTEND;TZID=Europe/London:20170827T210000
DTSTAMP:20260422T084603
CREATED:20170802T025143Z
LAST-MODIFIED:20170802T025223Z
UID:14388-1503865800-1503867600@uo.com
SUMMARY:Europa ^ The Kings’ Gathering
DESCRIPTION:
URL:https://uo.com/event/europa-the-kings-gathering-8/
LOCATION:Blackthorn Castle meeting room
CATEGORIES:EM Event
ORGANIZER;CN="EM%20Kimmie":MAILTO:kimmie@uoem.net
END:VEVENT
BEGIN:VEVENT
DTSTART;TZID=Europe/Berlin:20170827T203000
DTEND;TZID=Europe/Berlin:20170827T213000
DTSTAMP:20260422T084603
CREATED:20170804T131233Z
LAST-MODIFIED:20170814T131759Z
UID:14434-1503865800-1503869400@uo.com
SUMMARY:Drachenfels: Royal Audience | Königliche Audienz & HoF Mission
DESCRIPTION:Time: 8:30pm CEST (UTC+2).  Location: Castle Blackthorn\, Britain\, Trammel.\nA Royal Audience will be held. Afterwards a HoF (RP) mission (The Wisp) will follow. \n \nZeit: 20:30 Uhr CEST (UTC+2). Ort: Schloss Blackthorn\, Britain\, Trammel.\nEine Königliche Audienz wird abgehalten. Danach folgt eine HoF Mission (Die Wisp) statt.
URL:https://uo.com/event/drachenfels-royal-audience-konigliche-audienz-hof-mission/
LOCATION:Drachenfels
CATEGORIES:EM Event
END:VEVENT
END:VCALENDAR