BEGIN:VCALENDAR
VERSION:2.0
PRODID:-//Ultima Online - ECPv5.16.4.1//NONSGML v1.0//EN
CALSCALE:GREGORIAN
METHOD:PUBLISH
X-WR-CALNAME:Ultima Online
X-ORIGINAL-URL:https://uo.com
X-WR-CALDESC:Events for Ultima Online
BEGIN:VTIMEZONE
TZID:America/Los_Angeles
BEGIN:DAYLIGHT
TZOFFSETFROM:-0800
TZOFFSETTO:-0700
TZNAME:PDT
DTSTART:20170312T100000
END:DAYLIGHT
BEGIN:STANDARD
TZOFFSETFROM:-0700
TZOFFSETTO:-0800
TZNAME:PST
DTSTART:20171105T090000
END:STANDARD
TZID:America/New_York
BEGIN:DAYLIGHT
TZOFFSETFROM:-0500
TZOFFSETTO:-0400
TZNAME:EDT
DTSTART:20170312T070000
END:DAYLIGHT
BEGIN:STANDARD
TZOFFSETFROM:-0400
TZOFFSETTO:-0500
TZNAME:EST
DTSTART:20171105T060000
END:STANDARD
END:VTIMEZONE
BEGIN:VEVENT
DTSTART;TZID=America/Los_Angeles:20170828T190000
DTEND;TZID=America/Los_Angeles:20170828T200000
DTSTAMP:20260422T072619
CREATED:20170731T063901Z
LAST-MODIFIED:20170801T215415Z
UID:14359-1503946800-1503950400@uo.com
SUMMARY:Napa Valley - Meet At Castle Blackthorn
DESCRIPTION:
URL:https://uo.com/event/napa-valley-meet-at-castle-blackthorn-4/
CATEGORIES:EM Event
END:VEVENT
BEGIN:VEVENT
DTSTART;TZID=America/New_York:20170828T190000
DTEND;TZID=America/New_York:20170828T210000
DTSTAMP:20260422T072619
CREATED:20170822T191328Z
LAST-MODIFIED:20170822T191328Z
UID:14603-1503946800-1503954000@uo.com
SUMMARY:Catskills - Governors Meeting
DESCRIPTION:Governors to meet at Castle Blackthorn!
URL:https://uo.com/event/catskills-governors-meeting-14/
LOCATION:Catskills
CATEGORIES:EM Event
END:VEVENT
END:VCALENDAR