BEGIN:VCALENDAR
VERSION:2.0
PRODID:-//Ultima Online - ECPv5.16.4.1//NONSGML v1.0//EN
CALSCALE:GREGORIAN
METHOD:PUBLISH
X-WR-CALNAME:Ultima Online
X-ORIGINAL-URL:https://uo.com
X-WR-CALDESC:Events for Ultima Online
BEGIN:VTIMEZONE
TZID:America/Los_Angeles
BEGIN:DAYLIGHT
TZOFFSETFROM:-0800
TZOFFSETTO:-0700
TZNAME:PDT
DTSTART:20170312T100000
END:DAYLIGHT
BEGIN:STANDARD
TZOFFSETFROM:-0700
TZOFFSETTO:-0800
TZNAME:PST
DTSTART:20171105T090000
END:STANDARD
TZID:America/New_York
BEGIN:DAYLIGHT
TZOFFSETFROM:-0500
TZOFFSETTO:-0400
TZNAME:EDT
DTSTART:20170312T070000
END:DAYLIGHT
BEGIN:STANDARD
TZOFFSETFROM:-0400
TZOFFSETTO:-0500
TZNAME:EST
DTSTART:20171105T060000
END:STANDARD
TZID:Asia/Taipei
BEGIN:STANDARD
TZOFFSETFROM:+0800
TZOFFSETTO:+0800
TZNAME:CST
DTSTART:20170101T000000
END:STANDARD
END:VTIMEZONE
BEGIN:VEVENT
DTSTART;TZID=America/Los_Angeles:20170830T190000
DTEND;TZID=America/Los_Angeles:20170830T200000
DTSTAMP:20260422T072624
CREATED:20170817T035011Z
LAST-MODIFIED:20170817T035011Z
UID:14577-1504119600-1504123200@uo.com
SUMMARY:Baja - The Dark Monks
DESCRIPTION:Vladimir the Ranger needs your help in tracking down and capturing a mysterious cultist for questioning!
URL:https://uo.com/event/baja-the-dark-monks/
LOCATION:Meet At Counselor Hall
CATEGORIES:EM Event
END:VEVENT
BEGIN:VEVENT
DTSTART;TZID=America/New_York:20170830T200000
DTEND;TZID=America/New_York:20170830T210000
DTSTAMP:20260422T072624
CREATED:20170823T211554Z
LAST-MODIFIED:20170823T211654Z
UID:14614-1504123200-1504126800@uo.com
SUMMARY:Sonoma - Governers Meeting 8/30 8PM PDT
DESCRIPTION:There will be a Governors Meeting on August 30th at 8PM PDT.
URL:https://uo.com/event/sonoma-governers-meeting-830-8pm-pdt/
LOCATION:Sonoma
CATEGORIES:EM Event
END:VEVENT
BEGIN:VEVENT
DTSTART;TZID=Asia/Taipei:20170830T210000
DTEND;TZID=Asia/Taipei:20170830T223000
DTSTAMP:20260422T072624
CREATED:20170829T213650Z
LAST-MODIFIED:20170829T214217Z
UID:14691-1504126800-1504132200@uo.com
SUMMARY:Formosa Drive to Demon’s
DESCRIPTION:Live Arc \nBlackthorn Castle
URL:https://uo.com/event/formosa-drive-to-demons/
LOCATION:Formosa Britain EM Hall
CATEGORIES:EM Event
END:VEVENT
END:VCALENDAR