BEGIN:VCALENDAR
VERSION:2.0
PRODID:-//Ultima Online - ECPv5.16.4.1//NONSGML v1.0//EN
CALSCALE:GREGORIAN
METHOD:PUBLISH
X-WR-CALNAME:Ultima Online
X-ORIGINAL-URL:https://uo.com
X-WR-CALDESC:Events for Ultima Online
BEGIN:VTIMEZONE
TZID:Asia/Tokyo
BEGIN:STANDARD
TZOFFSETFROM:+0900
TZOFFSETTO:+0900
TZNAME:JST
DTSTART:20170101T000000
END:STANDARD
TZID:America/Chicago
BEGIN:DAYLIGHT
TZOFFSETFROM:-0600
TZOFFSETTO:-0500
TZNAME:CDT
DTSTART:20170312T080000
END:DAYLIGHT
BEGIN:STANDARD
TZOFFSETFROM:-0500
TZOFFSETTO:-0600
TZNAME:CST
DTSTART:20171105T070000
END:STANDARD
TZID:America/New_York
BEGIN:DAYLIGHT
TZOFFSETFROM:-0500
TZOFFSETTO:-0400
TZNAME:EDT
DTSTART:20170312T070000
END:DAYLIGHT
BEGIN:STANDARD
TZOFFSETFROM:-0400
TZOFFSETTO:-0500
TZNAME:EST
DTSTART:20171105T060000
END:STANDARD
TZID:Europe/London
BEGIN:DAYLIGHT
TZOFFSETFROM:+0000
TZOFFSETTO:+0100
TZNAME:BST
DTSTART:20170326T010000
END:DAYLIGHT
BEGIN:STANDARD
TZOFFSETFROM:+0100
TZOFFSETTO:+0000
TZNAME:GMT
DTSTART:20171029T010000
END:STANDARD
END:VTIMEZONE
BEGIN:VEVENT
DTSTART;TZID=Asia/Tokyo:20170901T210000
DTEND;TZID=Asia/Tokyo:20170903T224500
DTSTAMP:20260422T072649
CREATED:20170813T061449Z
LAST-MODIFIED:20170825T122146Z
UID:14541-1504299600-1504478700@uo.com
SUMMARY:All Japanese Shards - 20th Anniversary Live event Part 2
DESCRIPTION:Date & Time:\n————\n9/1 (Fri)\nWakoku / 21：00～\nMugen / 22：00～\nﾟ・*:.｡..｡.:+・ﾟ・*:.｡..｡.:+・ﾟ・*:.｡..｡.:+・ﾟ \n9/2 (Sat)\nIzumo / 20：30～\nYamato / 21：15～\nHokuto / 22：00～ \nﾟ・*:.｡..｡.:+・ﾟ・*:.｡..｡.:+・ﾟ・*:.｡..｡.:+・ﾟ \n9/3 (Sun)\nAsuka / 20：30～\nSakura / 21：15～\nMizuho / 22：00～ \n  \nMeeting Place:\n————–\nMeet Sherry the mouse at WBB.\nThe gate to the location will be provided from Nujel’m EM hall except for Mugen. \nSee you soon!
URL:https://uo.com/event/all-japanese-shards-20th-anniversary-live-event-part-2/
LOCATION:WBB
CATEGORIES:EM Event
END:VEVENT
BEGIN:VEVENT
DTSTART;TZID=America/Chicago:20170902T200000
DTEND;TZID=America/Chicago:20170902T200000
DTSTAMP:20260422T072649
CREATED:20170902T012445Z
LAST-MODIFIED:20170902T012445Z
UID:14752-1504382400-1504382400@uo.com
SUMMARY:Great Lakes - Royal Britannian Guard
DESCRIPTION:This Royal Britannian Guard mission has the codename “Evening Tide”. To attend\, go through the moongate inside the Britain Counselor Hall.
URL:https://uo.com/event/great-lakes-royal-britannian-guard-30/
LOCATION:Great Lakes – Counselor Hall
CATEGORIES:EM Event
END:VEVENT
BEGIN:VEVENT
DTSTART;TZID=America/New_York:20170902T213000
DTEND;TZID=America/New_York:20170902T223000
DTSTAMP:20260422T072649
CREATED:20170831T020822Z
LAST-MODIFIED:20170901T155837Z
UID:14731-1504387800-1504391400@uo.com
SUMMARY:Chessy – Community Get-Together
DESCRIPTION:
URL:https://uo.com/event/chessy-community-get-together/
LOCATION:EM Counselor Hall (Britain)
CATEGORIES:EM Event
END:VEVENT
BEGIN:VEVENT
DTSTART;TZID=Europe/London:20170902T220000
DTEND;TZID=Europe/London:20170902T230000
DTSTAMP:20260422T072649
CREATED:20170828T160641Z
LAST-MODIFIED:20170828T160641Z
UID:14674-1504389600-1504393200@uo.com
SUMMARY:Siege Perilous - The Great Vesper Bank Robbery
DESCRIPTION:The Great Vesper Bank Robbery: 2nd September\, 5 pm EST\n“But Captain”\, protested Governor Spyderbite\, “You don’t understand!” \n“Governor Spyderbite\, it is you who does not seem to understand. My men are the best in Vesper – possibly even in the entirety of Britannia. A crime has been committed\, and we will see justice done!” \n“But – ” spluttered Spyderbite\, “but – ” \n“Governor\, your protests are only delaying the inevitable. We do not allow criminals to simply get away with this type of behaviour! I would think a man in your position would have a deeper appreciation of that! This is beneath you! Accept this like a man!” \n“But they stole from ME!” the black-robed man whined\, playing with his chain of office\, then putting it safely into a pocket\, just in case the robbers were still about. “You cannot imagine the value *cough* the sentimental value of what was in those chests!” \n“Yes\, and a great many other citizens of Vesper have lost their savings as well. As I said\, my men are on the case. Robbing the bank of Vesper is not something that we can allow anyone to get away with. We will most assuredly find these perpetrators\, and give them their just deserts!” \n“I don’t care about pudding!” exploded the governor “I just want my safety deposit chests back! In exactly the same state I last saw them!” \n“We will do our jobs\, sir. Now\, if you’ll excuse me\, I have to make enquiries.” \nSpyderbite trudged off\, muttering something about “if they find my ledgers…” \nSoon\, wanted posters were all across the area\, nailed to many a tree. \nWanted for Bank Robbery : The Purple Llama Gang
URL:https://uo.com/event/siege-perilous-the-great-vesper-bank-robbery/
LOCATION:Siege Perilous
CATEGORIES:EM Event
END:VEVENT
END:VCALENDAR