BEGIN:VCALENDAR
VERSION:2.0
PRODID:-//Ultima Online - ECPv5.16.4.1//NONSGML v1.0//EN
CALSCALE:GREGORIAN
METHOD:PUBLISH
X-WR-CALNAME:Ultima Online
X-ORIGINAL-URL:https://uo.com
X-WR-CALDESC:Events for Ultima Online
BEGIN:VTIMEZONE
TZID:America/Los_Angeles
BEGIN:DAYLIGHT
TZOFFSETFROM:-0800
TZOFFSETTO:-0700
TZNAME:PDT
DTSTART:20170312T100000
END:DAYLIGHT
BEGIN:STANDARD
TZOFFSETFROM:-0700
TZOFFSETTO:-0800
TZNAME:PST
DTSTART:20171105T090000
END:STANDARD
TZID:America/Chicago
BEGIN:DAYLIGHT
TZOFFSETFROM:-0600
TZOFFSETTO:-0500
TZNAME:CDT
DTSTART:20170312T080000
END:DAYLIGHT
BEGIN:STANDARD
TZOFFSETFROM:-0500
TZOFFSETTO:-0600
TZNAME:CST
DTSTART:20171105T070000
END:STANDARD
TZID:Asia/Seoul
BEGIN:STANDARD
TZOFFSETFROM:+0900
TZOFFSETTO:+0900
TZNAME:KST
DTSTART:20170101T000000
END:STANDARD
TZID:Europe/London
BEGIN:DAYLIGHT
TZOFFSETFROM:+0000
TZOFFSETTO:+0100
TZNAME:BST
DTSTART:20170326T010000
END:DAYLIGHT
BEGIN:STANDARD
TZOFFSETFROM:+0100
TZOFFSETTO:+0000
TZNAME:GMT
DTSTART:20171029T010000
END:STANDARD
END:VTIMEZONE
BEGIN:VEVENT
DTSTART;TZID=America/Los_Angeles:20170916T190000
DTEND;TZID=America/Los_Angeles:20170916T200000
DTSTAMP:20260422T072754
CREATED:20170906T010831Z
LAST-MODIFIED:20170906T010831Z
UID:14793-1505588400-1505592000@uo.com
SUMMARY:Baja - Governors Meeting
DESCRIPTION:King Blackthorn invites all to attend September’s Governor Meeting!
URL:https://uo.com/event/baja-governors-meeting-6/
LOCATION:King Blackthorn’s Castle
CATEGORIES:EM Event
END:VEVENT
BEGIN:VEVENT
DTSTART;TZID=America/Chicago:20170916T200000
DTEND;TZID=America/Chicago:20170916T210000
DTSTAMP:20260422T072754
CREATED:20170914T031957Z
LAST-MODIFIED:20170914T031957Z
UID:14851-1505592000-1505595600@uo.com
SUMMARY:Lake Austin - Help Save Skara Brae
DESCRIPTION:Friends and Foes it is time to band together to help push back the evil attacking Skara Brae! \n  \nMeet at EM Hall 8PM Central Time \n 
URL:https://uo.com/event/lake-austin-help-save-skara-brae/
CATEGORIES:EM Event
END:VEVENT
BEGIN:VEVENT
DTSTART;TZID=Asia/Seoul:20170916T200000
DTEND;TZID=Asia/Seoul:20170916T210000
DTSTAMP:20260422T072754
CREATED:20170914T082803Z
LAST-MODIFIED:20170914T082803Z
UID:14855-1505592000-1505595600@uo.com
SUMMARY:Arirang - Beyond Death
DESCRIPTION:Event Schedule \nDate/Time: September 16th\, 2017 08:00PM KST\nMeeting Place: Britain EM Hall \nEvent Story \nGolem has been teleported to somewhere in the Abyss by daemon’s scheme. He begin the journey to rescue his companions who teleported with him. Check out what waiting for him in the Abyss. \nCaution! \nWe’re expecting battle in this event\, please insure your precious items or leave them to your bank box. Event time is not that long so we’ll start it right in time. \nWarning \nIf anyone disrupt the event\, spamming\, insulting\, and harassing others or EM\, event will be stopped until the situation is handled. Please be advice that any inappropriate behavior will noted to your account\, and some of them can be fatal. EM will trying to hear your suggestion\, complain\, question\, and feedback willingly. Even though EM willing to hear and deal with the issue\, please note that there are some things that EM cannot deal with. \nEvent Chat Channel \nDuring the event\, we’ll use “Arirang EM Event” chat channel. To communicate with EM\, it is highly recommended to join the channel. EM will not take any responsibility for any penalties of information because of this.
URL:https://uo.com/event/arirang-beyond-death/
LOCATION:Arirang
CATEGORIES:EM Event
END:VEVENT
BEGIN:VEVENT
DTSTART;TZID=Europe/London:20170916T220000
DTEND;TZID=Europe/London:20170916T230000
DTSTAMP:20260422T072754
CREATED:20170828T162037Z
LAST-MODIFIED:20170828T162037Z
UID:14680-1505599200-1505602800@uo.com
SUMMARY:Siege Perilous - Siege Council Meeting
DESCRIPTION:  \n  \n  \n  \n  \n  \n  \n  \n  \n 
URL:https://uo.com/event/siege-perilous-siege-council-meeting-3/
CATEGORIES:EM Event
END:VEVENT
END:VCALENDAR