BEGIN:VCALENDAR
VERSION:2.0
PRODID:-//Ultima Online - ECPv5.16.4.1//NONSGML v1.0//EN
CALSCALE:GREGORIAN
METHOD:PUBLISH
X-WR-CALNAME:Ultima Online
X-ORIGINAL-URL:https://uo.com
X-WR-CALDESC:Events for Ultima Online
BEGIN:VTIMEZONE
TZID:Asia/Tokyo
BEGIN:STANDARD
TZOFFSETFROM:+0900
TZOFFSETTO:+0900
TZNAME:JST
DTSTART:20170101T000000
END:STANDARD
TZID:Europe/London
BEGIN:DAYLIGHT
TZOFFSETFROM:+0000
TZOFFSETTO:+0100
TZNAME:BST
DTSTART:20170326T010000
END:DAYLIGHT
BEGIN:STANDARD
TZOFFSETFROM:+0100
TZOFFSETTO:+0000
TZNAME:GMT
DTSTART:20171029T010000
END:STANDARD
TZID:America/New_York
BEGIN:DAYLIGHT
TZOFFSETFROM:-0500
TZOFFSETTO:-0400
TZNAME:EDT
DTSTART:20170312T070000
END:DAYLIGHT
BEGIN:STANDARD
TZOFFSETFROM:-0400
TZOFFSETTO:-0500
TZNAME:EST
DTSTART:20171105T060000
END:STANDARD
END:VTIMEZONE
BEGIN:VEVENT
DTSTART;TZID=Asia/Tokyo:20170922T203000
DTEND;TZID=Asia/Tokyo:20170924T224500
DTSTAMP:20260422T072818
CREATED:20170914T141411Z
LAST-MODIFIED:20170914T141411Z
UID:14859-1506112200-1506293100@uo.com
SUMMARY:All Japanese Shards – 20th Anniversary Live event Part 3
DESCRIPTION:Date & Time:\n————\n9/22 (Fri)\nWakoku / 21：00～\nMugen / 22：00～\nﾟ・*:.｡..｡.:+・ﾟ・*:.｡..｡.:+・ﾟ・*:.｡..｡.:+・ﾟ\n9/23 (Sat)\nAsuka / 20：30～\nSakura / 21：15～\nHokuto / 22：00～ \nﾟ・*:.｡..｡.:+・ﾟ・*:.｡..｡.:+・ﾟ・*:.｡..｡.:+・ﾟ \n9/24 (Sun)\nIzumo / 20：30～\nYamato / 21：15～\nMizuho / 22：00～ \nMeeting Place:\n————–\nMeet Sir Dupre at the small camp in front of the Keg & Anchor in Trinsic.\nThe gate to the location will be provided from Nujel’m EM hall except for Mugen. \nSee you soon!
URL:https://uo.com/event/all-japanese-shards-20th-anniversary-live-event-part-3/
LOCATION:Trinsic
CATEGORIES:EM Event
END:VEVENT
BEGIN:VEVENT
DTSTART;TZID=Europe/London:20170922T220000
DTEND;TZID=Europe/London:20170922T233000
DTSTAMP:20260422T072818
CREATED:20170828T162144Z
LAST-MODIFIED:20170828T162243Z
UID:14683-1506117600-1506123000@uo.com
SUMMARY:Siege Perilous - Treasure Hunting
DESCRIPTION:The scenario\, as you’re probably used to by now\, is this: \nThe Royal archaeologist will dig here\, there and everywhere. \nAll the loot will find its way into your hands – the hard part will be keeping it in your hands if \nyour fellow citizens of Siege covet it badly enough! \nThe lowest level map will be level 6. We give thanks to Glorious Mesanna for the level 7 maps\, may her name be praised and small pastries sacrificed in her name. \nThis is also a great chance for animal tamers to get some help taming ice dragons and other chest dwellers. Although I’m still trying to work out how you fit an ice dragon inside a chest that can only hold 125 items.
URL:https://uo.com/event/siege-perilous-treasure-hunting/
LOCATION:Siege Perilous
CATEGORIES:EM Event
END:VEVENT
BEGIN:VEVENT
DTSTART;TZID=America/New_York:20170922T220000
DTEND;TZID=America/New_York:20170922T230000
DTSTAMP:20260422T072818
CREATED:20170921T084409Z
LAST-MODIFIED:20170921T084409Z
UID:14898-1506117600-1506121200@uo.com
SUMMARY:Sonoma - Governors Meeting at 7PM PDT
DESCRIPTION:Governors Meeting at 7pm PDT  on Sept 22nd
URL:https://uo.com/event/sonoma-governors-meeting-at-7pm-pdt/
LOCATION:Sonoma
CATEGORIES:EM Event
END:VEVENT
END:VCALENDAR