BEGIN:VCALENDAR
VERSION:2.0
PRODID:-//Ultima Online - ECPv5.16.4.1//NONSGML v1.0//EN
CALSCALE:GREGORIAN
METHOD:PUBLISH
X-WR-CALNAME:Ultima Online
X-ORIGINAL-URL:https://uo.com
X-WR-CALDESC:Events for Ultima Online
BEGIN:VTIMEZONE
TZID:America/Los_Angeles
BEGIN:DAYLIGHT
TZOFFSETFROM:-0800
TZOFFSETTO:-0700
TZNAME:PDT
DTSTART:20170312T100000
END:DAYLIGHT
BEGIN:STANDARD
TZOFFSETFROM:-0700
TZOFFSETTO:-0800
TZNAME:PST
DTSTART:20171105T090000
END:STANDARD
TZID:America/New_York
BEGIN:DAYLIGHT
TZOFFSETFROM:-0500
TZOFFSETTO:-0400
TZNAME:EDT
DTSTART:20170312T070000
END:DAYLIGHT
BEGIN:STANDARD
TZOFFSETFROM:-0400
TZOFFSETTO:-0500
TZNAME:EST
DTSTART:20171105T060000
END:STANDARD
END:VTIMEZONE
BEGIN:VEVENT
DTSTART;TZID=America/Los_Angeles:20170925T190000
DTEND;TZID=America/Los_Angeles:20170925T200000
DTSTAMP:20260422T072753
CREATED:20170917T013109Z
LAST-MODIFIED:20170917T013109Z
UID:14869-1506366000-1506369600@uo.com
SUMMARY:Napa Valley - Meet At Castle Blackthorn
DESCRIPTION:
URL:https://uo.com/event/napa-valley-meet-at-castle-blackthorn-6/
CATEGORIES:EM Event
END:VEVENT
BEGIN:VEVENT
DTSTART;TZID=America/New_York:20170925T190000
DTEND;TZID=America/New_York:20170925T210000
DTSTAMP:20260422T072753
CREATED:20170925T131409Z
LAST-MODIFIED:20170925T131409Z
UID:14902-1506366000-1506373200@uo.com
SUMMARY:Catskills - Event
DESCRIPTION:Adventurers to gather! Moongate opening from Luna.
URL:https://uo.com/event/catskills-event-2/
LOCATION:Catskills
CATEGORIES:EM Event
END:VEVENT
END:VCALENDAR