BEGIN:VCALENDAR
VERSION:2.0
PRODID:-//Ultima Online - ECPv5.16.4.1//NONSGML v1.0//EN
CALSCALE:GREGORIAN
METHOD:PUBLISH
X-WR-CALNAME:Ultima Online
X-ORIGINAL-URL:https://uo.com
X-WR-CALDESC:Events for Ultima Online
BEGIN:VTIMEZONE
TZID:America/New_York
BEGIN:DAYLIGHT
TZOFFSETFROM:-0500
TZOFFSETTO:-0400
TZNAME:EDT
DTSTART:20170312T070000
END:DAYLIGHT
BEGIN:STANDARD
TZOFFSETFROM:-0400
TZOFFSETTO:-0500
TZNAME:EST
DTSTART:20171105T060000
END:STANDARD
TZID:America/Chicago
BEGIN:DAYLIGHT
TZOFFSETFROM:-0600
TZOFFSETTO:-0500
TZNAME:CDT
DTSTART:20170312T080000
END:DAYLIGHT
BEGIN:STANDARD
TZOFFSETFROM:-0500
TZOFFSETTO:-0600
TZNAME:CST
DTSTART:20171105T070000
END:STANDARD
TZID:Asia/Seoul
BEGIN:STANDARD
TZOFFSETFROM:+0900
TZOFFSETTO:+0900
TZNAME:KST
DTSTART:20170101T000000
END:STANDARD
TZID:Europe/London
BEGIN:DAYLIGHT
TZOFFSETFROM:+0000
TZOFFSETTO:+0100
TZNAME:BST
DTSTART:20170326T010000
END:DAYLIGHT
BEGIN:STANDARD
TZOFFSETFROM:+0100
TZOFFSETTO:+0000
TZNAME:GMT
DTSTART:20171029T010000
END:STANDARD
END:VTIMEZONE
BEGIN:VEVENT
DTSTART;VALUE=DATE:20170930
DTEND;VALUE=DATE:20171001
DTSTAMP:20260422T054704
CREATED:20170828T162632Z
LAST-MODIFIED:20170828T162632Z
UID:14688-1506729600-1506815999@uo.com
SUMMARY:Siege Perilous - Fishing Contest
DESCRIPTION:This month’s fish : a Black Marlin!\nWhoever deposits the largest Black Marlin in the EM’s postbox wins. Simple as that. \nOur secondary contest\, for the biggest “Big Fish” of the year also continues! Drop those in as well! \nHappy hunting! \nThe winner each month will have at trophy with their name on displayed at the EM Hall for a while. Eventually all will be transferred to the Hall of Champions!
URL:https://uo.com/event/siege-perilous-fishing-contest/
LOCATION:Siege Perilous
CATEGORIES:EM Event
END:VEVENT
BEGIN:VEVENT
DTSTART;TZID=America/Chicago:20170930T200000
DTEND;TZID=America/Chicago:20170930T210000
DTSTAMP:20260422T054704
CREATED:20170914T032242Z
LAST-MODIFIED:20170914T032242Z
UID:14853-1506801600-1506805200@uo.com
SUMMARY:Lake Austin - Robbed!
DESCRIPTION:King Blackthorn is down! While he was away battling for the safety of the realm someone snuck into the castle! Shenanigans! \n  \nMeet At EM Hall 8PM Central Time \n 
URL:https://uo.com/event/lake-austin-robbed/
CATEGORIES:EM Event
END:VEVENT
BEGIN:VEVENT
DTSTART;TZID=Asia/Seoul:20170930T200000
DTEND;TZID=Asia/Seoul:20170930T210000
DTSTAMP:20260422T054704
CREATED:20170914T082921Z
LAST-MODIFIED:20170914T082921Z
UID:14857-1506801600-1506805200@uo.com
SUMMARY:Arirang - The Cleansing
DESCRIPTION:Event Schedule \nDate/Time: September 30th\, 2017 08:00PM KST\nMeeting Place: Britain EM Hall \nEvent Story \nBritannian once again saved from Pagan threat by warriors of Ether. But it was not over yet. King Blackthorn made his mind to prevent any further Pagan threat\, and summoned Sir Dupre\, Alberich the Royal Guard\, and heroes of Britannia. \nCaution! \nWe’re expecting battle in this event\, please insure your precious items or leave them to your bank box. Event time is not that long so we’ll start it right in time. \nWarning \nIf anyone disrupt the event\, spamming\, insulting\, and harassing others or EM\, event will be stopped until the situation is handled. Please be advice that any inappropriate behavior will noted to your account\, and some of them can be fatal. EM will trying to hear your suggestion\, complain\, question\, and feedback willingly. Even though EM willing to hear and deal with the issue\, please note that there are some things that EM cannot deal with. \nEvent Chat Channel \nDuring the event\, we’ll use “Arirang EM Event” chat channel. To communicate with EM\, it is highly recommended to join the channel. EM will not take any responsibility for any penalties of information because of this.
URL:https://uo.com/event/arirang-the-cleansing/
LOCATION:Arirang
CATEGORIES:EM Event
END:VEVENT
BEGIN:VEVENT
DTSTART;TZID=Europe/London:20170930T200000
DTEND;TZID=Europe/London:20170930T203000
DTSTAMP:20260422T054704
CREATED:20170926T071934Z
LAST-MODIFIED:20170926T072238Z
UID:14904-1506801600-1506803400@uo.com
SUMMARY:Europa - Royal Council
DESCRIPTION:Gather at Castle Blackthorn – 8 PM UK Time zone
URL:https://uo.com/event/europa-royal-council/
CATEGORIES:EM Event
END:VEVENT
BEGIN:VEVENT
DTSTART;TZID=Europe/London:20170930T203000
DTEND;TZID=Europe/London:20170930T213000
DTSTAMP:20260422T054704
CREATED:20170926T072140Z
LAST-MODIFIED:20170926T072140Z
UID:14906-1506803400-1506807000@uo.com
SUMMARY:Europa - Royal Guard Event: the missing child
DESCRIPTION:Gather at EM Hall – 8.30 PM UK Time zone \n 
URL:https://uo.com/event/europa-royal-guard-event-the-missing-child/
CATEGORIES:EM Event
END:VEVENT
BEGIN:VEVENT
DTSTART;TZID=Europe/London:20170930T220000
DTEND;TZID=Europe/London:20170930T230000
DTSTAMP:20260422T054704
CREATED:20170828T162407Z
LAST-MODIFIED:20170828T162407Z
UID:14686-1506808800-1506812400@uo.com
SUMMARY:Siege Perilous - Awaken the Seer
DESCRIPTION:Mariah of Moonglow continued to worry about the Seer Naxatilor. Struck down at the start of the current troubles\, he had still not regained consciousness. But\, there had been tales of numerous brigands\, and worse\, on the roads. Who knew what would meet her if she tried to journey back to him? \nShe gathered all the healing herbs she could find\, checked the potions the adventurers had gathered for her\, and then gathered her courage. Perhaps the others could help her to reach him? And perhaps\, once awakened\, he would speak of things to come..
URL:https://uo.com/event/siege-perilous-awaken-the-seer/
LOCATION:Siege Perilous
CATEGORIES:EM Event
END:VEVENT
END:VCALENDAR