BEGIN:VCALENDAR
VERSION:2.0
PRODID:-//Ultima Online - ECPv5.16.4.1//NONSGML v1.0//EN
CALSCALE:GREGORIAN
METHOD:PUBLISH
X-WR-CALNAME:Ultima Online
X-ORIGINAL-URL:https://uo.com
X-WR-CALDESC:Events for Ultima Online
BEGIN:VTIMEZONE
TZID:America/Los_Angeles
BEGIN:DAYLIGHT
TZOFFSETFROM:-0800
TZOFFSETTO:-0700
TZNAME:PDT
DTSTART:20170312T100000
END:DAYLIGHT
BEGIN:STANDARD
TZOFFSETFROM:-0700
TZOFFSETTO:-0800
TZNAME:PST
DTSTART:20171105T090000
END:STANDARD
TZID:Asia/Tokyo
BEGIN:STANDARD
TZOFFSETFROM:+0900
TZOFFSETTO:+0900
TZNAME:JST
DTSTART:20170101T000000
END:STANDARD
END:VTIMEZONE
BEGIN:VEVENT
DTSTART;TZID=America/Los_Angeles:20171015T180000
DTEND;TZID=America/Los_Angeles:20171015T183000
DTSTAMP:20260422T072706
CREATED:20171010T153623Z
LAST-MODIFIED:20171010T153623Z
UID:15025-1508090400-1508092200@uo.com
SUMMARY:Origin ~ The King’s Meeting
DESCRIPTION:
URL:https://uo.com/event/origin-the-kings-meeting-2/
LOCATION:Blackthorn Castle meeting room
CATEGORIES:EM Event
END:VEVENT
BEGIN:VEVENT
DTSTART;TZID=America/Los_Angeles:20171015T183000
DTEND;TZID=America/Los_Angeles:20171015T193000
DTSTAMP:20260422T072706
CREATED:20171010T153944Z
LAST-MODIFIED:20171010T153944Z
UID:15027-1508092200-1508095800@uo.com
SUMMARY:Origin ~ O.R.G. Boot Camp XXI (Fall Session I)
DESCRIPTION:
URL:https://uo.com/event/origin-o-r-g-boot-camp-xxi-fall-session-i/
LOCATION:O.R.G. Training Grounds (Malas)
CATEGORIES:EM Event
END:VEVENT
BEGIN:VEVENT
DTSTART;TZID=Asia/Tokyo:20171015T220000
DTEND;TZID=Asia/Tokyo:20171015T220000
DTSTAMP:20260422T072706
CREATED:20170914T141718Z
LAST-MODIFIED:20170914T141718Z
UID:14860-1508104800-1508104800@uo.com
SUMMARY:Sakura - Mini Event
DESCRIPTION:TBD
URL:https://uo.com/event/sakura-mini-event-5/
LOCATION:Sakura – EM Hall\, Japan
CATEGORIES:EM Event
END:VEVENT
END:VCALENDAR