BEGIN:VCALENDAR
VERSION:2.0
PRODID:-//Ultima Online - ECPv5.16.4.1//NONSGML v1.0//EN
CALSCALE:GREGORIAN
METHOD:PUBLISH
X-WR-CALNAME:Ultima Online
X-ORIGINAL-URL:https://uo.com
X-WR-CALDESC:Events for Ultima Online
BEGIN:VTIMEZONE
TZID:America/Los_Angeles
BEGIN:DAYLIGHT
TZOFFSETFROM:-0800
TZOFFSETTO:-0700
TZNAME:PDT
DTSTART:20170312T100000
END:DAYLIGHT
BEGIN:STANDARD
TZOFFSETFROM:-0700
TZOFFSETTO:-0800
TZNAME:PST
DTSTART:20171105T090000
END:STANDARD
TZID:Europe/Berlin
BEGIN:DAYLIGHT
TZOFFSETFROM:+0100
TZOFFSETTO:+0200
TZNAME:CEST
DTSTART:20170326T010000
END:DAYLIGHT
BEGIN:STANDARD
TZOFFSETFROM:+0200
TZOFFSETTO:+0100
TZNAME:CET
DTSTART:20171029T010000
END:STANDARD
END:VTIMEZONE
BEGIN:VEVENT
DTSTART;TZID=America/Los_Angeles:20171018T190000
DTEND;TZID=America/Los_Angeles:20171018T200000
DTSTAMP:20260422T054637
CREATED:20171009T023609Z
LAST-MODIFIED:20171009T023609Z
UID:15016-1508353200-1508356800@uo.com
SUMMARY:Baja - Royal Guard - Loose Ends
DESCRIPTION:Vladimir the Ranger needs your help in tracking down the remaining Dark Monks\, and bringing them to justice!
URL:https://uo.com/event/baja-royal-guard-loose-ends/
LOCATION:King Blackthorn’s Courtyard
CATEGORIES:EM Event
END:VEVENT
BEGIN:VEVENT
DTSTART;TZID=America/Los_Angeles:20171018T190000
DTEND;TZID=America/Los_Angeles:20171018T200000
DTSTAMP:20260422T054637
CREATED:20171010T155837Z
LAST-MODIFIED:20171010T160116Z
UID:15033-1508353200-1508356800@uo.com
SUMMARY:*Pacific* – Kings Meeting
DESCRIPTION:
URL:https://uo.com/event/pacific-kings-meeting-15/
LOCATION:Castle Blackthorn Governors Hall
CATEGORIES:EM Event
END:VEVENT
BEGIN:VEVENT
DTSTART;TZID=Europe/Berlin:20171018T203000
DTEND;TZID=Europe/Berlin:20171018T213000
DTSTAMP:20260422T054637
CREATED:20171001T120010Z
LAST-MODIFIED:20171101T064456Z
UID:14914-1508358600-1508362200@uo.com
SUMMARY:Drachenfels: The Legacy of the Titans | Das Erbe der Titanen
DESCRIPTION:Time: 8:30pm CEST (UTC+2).  Location: Counselor’s Hall\, Trammel.\nMain Event: Meet Mariah the Mage\, and hear what she has discovered after the Titans were forced out of Sosaria. \nZeit: 20:30 Uhr CEST (UTC+2). Ort: Counselor’s Hall\, Trammel.\nHaupt Event: Trefft Mariah die Magierin\, und hört\, was sie entdeckt hat\, nachdem die Titanen aus Sosaria vertrieben worden sind.
URL:https://uo.com/event/drachenfels-the-legacy-of-the-titans-das-erbe-der-titanen/
LOCATION:Drachenfels
CATEGORIES:EM Event
END:VEVENT
END:VCALENDAR