BEGIN:VCALENDAR
VERSION:2.0
PRODID:-//Ultima Online - ECPv5.16.4.1//NONSGML v1.0//EN
CALSCALE:GREGORIAN
METHOD:PUBLISH
X-WR-CALNAME:Ultima Online
X-ORIGINAL-URL:https://uo.com
X-WR-CALDESC:Events for Ultima Online
BEGIN:VTIMEZONE
TZID:America/Los_Angeles
BEGIN:DAYLIGHT
TZOFFSETFROM:-0800
TZOFFSETTO:-0700
TZNAME:PDT
DTSTART:20170312T100000
END:DAYLIGHT
BEGIN:STANDARD
TZOFFSETFROM:-0700
TZOFFSETTO:-0800
TZNAME:PST
DTSTART:20171105T090000
END:STANDARD
TZID:Europe/London
BEGIN:DAYLIGHT
TZOFFSETFROM:+0000
TZOFFSETTO:+0100
TZNAME:BST
DTSTART:20170326T010000
END:DAYLIGHT
BEGIN:STANDARD
TZOFFSETFROM:+0100
TZOFFSETTO:+0000
TZNAME:GMT
DTSTART:20171029T010000
END:STANDARD
TZID:America/New_York
BEGIN:DAYLIGHT
TZOFFSETFROM:-0500
TZOFFSETTO:-0400
TZNAME:EDT
DTSTART:20170312T070000
END:DAYLIGHT
BEGIN:STANDARD
TZOFFSETFROM:-0400
TZOFFSETTO:-0500
TZNAME:EST
DTSTART:20171105T060000
END:STANDARD
END:VTIMEZONE
BEGIN:VEVENT
DTSTART;TZID=America/Los_Angeles:20171022T190000
DTEND;TZID=America/Los_Angeles:20171022T200000
DTSTAMP:20260422T054644
CREATED:20171010T160438Z
LAST-MODIFIED:20171010T160439Z
UID:15035-1508698800-1508702400@uo.com
SUMMARY:*Pacific* – A Tribute Loss
DESCRIPTION:
URL:https://uo.com/event/pacific-a-tribute-loss/
LOCATION:Blackthorn’s Castle Courtyard
CATEGORIES:EM Event
END:VEVENT
BEGIN:VEVENT
DTSTART;TZID=Europe/London:20171022T203000
DTEND;TZID=Europe/London:20171022T213000
DTSTAMP:20260422T054644
CREATED:20171012T093623Z
LAST-MODIFIED:20171017T144823Z
UID:15057-1508704200-1508707800@uo.com
SUMMARY:Europa - The Terrible Mage
DESCRIPTION:An Evil warrior tries to become the strongest mage of Sosaria…but something goes clearly wrong and unexpected… Help the Royal Guard to investigate this case! \nGather at EM Hall 8.30 PM UK TIME
URL:https://uo.com/event/europa-the-terrible-mage/
CATEGORIES:EM Event
END:VEVENT
BEGIN:VEVENT
DTSTART;TZID=America/New_York:20171022T210000
DTEND;TZID=America/New_York:20171022T213000
DTSTAMP:20260422T054644
CREATED:20171012T204909Z
LAST-MODIFIED:20171012T204909Z
UID:15065-1508706000-1508707800@uo.com
SUMMARY:Chessy – The King’s Assembly
DESCRIPTION:
URL:https://uo.com/event/chessy-the-kings-assembly-2/
LOCATION:Blackthorn Castle meeting room
CATEGORIES:EM Event
END:VEVENT
BEGIN:VEVENT
DTSTART;TZID=America/New_York:20171022T220000
DTEND;TZID=America/New_York:20171022T230000
DTSTAMP:20260422T054644
CREATED:20171017T215407Z
LAST-MODIFIED:20171017T215629Z
UID:15118-1508709600-1508713200@uo.com
SUMMARY:Sonoma - Royal Guard Meeting
DESCRIPTION:There will be a Royal Guard meeting from 7PM PDT – 8pm PDT. All are welcome to attend!
URL:https://uo.com/event/sonoma-royal-guard-meeting/
LOCATION:Sonoma
CATEGORIES:EM Event
END:VEVENT
END:VCALENDAR