BEGIN:VCALENDAR
VERSION:2.0
PRODID:-//Ultima Online - ECPv5.16.4.1//NONSGML v1.0//EN
CALSCALE:GREGORIAN
METHOD:PUBLISH
X-WR-CALNAME:Ultima Online
X-ORIGINAL-URL:https://uo.com
X-WR-CALDESC:Events for Ultima Online
BEGIN:VTIMEZONE
TZID:America/Los_Angeles
BEGIN:DAYLIGHT
TZOFFSETFROM:-0800
TZOFFSETTO:-0700
TZNAME:PDT
DTSTART:20170312T100000
END:DAYLIGHT
BEGIN:STANDARD
TZOFFSETFROM:-0700
TZOFFSETTO:-0800
TZNAME:PST
DTSTART:20171105T090000
END:STANDARD
TZID:America/New_York
BEGIN:DAYLIGHT
TZOFFSETFROM:-0500
TZOFFSETTO:-0400
TZNAME:EDT
DTSTART:20170312T070000
END:DAYLIGHT
BEGIN:STANDARD
TZOFFSETFROM:-0400
TZOFFSETTO:-0500
TZNAME:EST
DTSTART:20171105T060000
END:STANDARD
END:VTIMEZONE
BEGIN:VEVENT
DTSTART;TZID=America/Los_Angeles:20171025T190000
DTEND;TZID=America/Los_Angeles:20171025T200000
DTSTAMP:20260422T054637
CREATED:20171009T025432Z
LAST-MODIFIED:20171009T025432Z
UID:15020-1508958000-1508961600@uo.com
SUMMARY:Baja - Governors Meeting
DESCRIPTION:King Blackthorn invites all to attend the October governor’s meeting!
URL:https://uo.com/event/baja-governors-meeting-7/
LOCATION:King Blackthorn’s Castle
CATEGORIES:EM Event
END:VEVENT
BEGIN:VEVENT
DTSTART;TZID=America/New_York:20171025T200000
DTEND;TZID=America/New_York:20171025T210000
DTSTAMP:20260422T054637
CREATED:20171010T234027Z
LAST-MODIFIED:20171010T234027Z
UID:15039-1508961600-1508965200@uo.com
SUMMARY:Legends - The Final Ride of the Knights of Mondain Part I
DESCRIPTION:On Wednesday\, October 25th at 8:00 PM EST\, meet with Commander Forthwin at Castle Blackthorn.
URL:https://uo.com/event/legends-the-final-ride-of-the-knights-of-mondain-part-i/
LOCATION:Legends
CATEGORIES:EM Event
END:VEVENT
BEGIN:VEVENT
DTSTART;TZID=America/New_York:20171025T200000
DTEND;TZID=America/New_York:20171025T210000
DTSTAMP:20260422T054637
CREATED:20171011T224103Z
LAST-MODIFIED:20171011T224103Z
UID:15051-1508961600-1508965200@uo.com
SUMMARY:Atlantic - Castle Blackthorn Courtyard
DESCRIPTION:
URL:https://uo.com/event/atlantic-castle-blackthorn-courtyard-2/
CATEGORIES:EM Event
END:VEVENT
END:VCALENDAR