BEGIN:VCALENDAR
VERSION:2.0
PRODID:-//Ultima Online - ECPv5.16.4.1//NONSGML v1.0//EN
CALSCALE:GREGORIAN
METHOD:PUBLISH
X-WR-CALNAME:Ultima Online
X-ORIGINAL-URL:https://uo.com
X-WR-CALDESC:Events for Ultima Online
BEGIN:VTIMEZONE
TZID:America/New_York
BEGIN:DAYLIGHT
TZOFFSETFROM:-0500
TZOFFSETTO:-0400
TZNAME:EDT
DTSTART:20170312T070000
END:DAYLIGHT
BEGIN:STANDARD
TZOFFSETFROM:-0400
TZOFFSETTO:-0500
TZNAME:EST
DTSTART:20171105T060000
END:STANDARD
TZID:America/Los_Angeles
BEGIN:DAYLIGHT
TZOFFSETFROM:-0800
TZOFFSETTO:-0700
TZNAME:PDT
DTSTART:20170312T100000
END:DAYLIGHT
BEGIN:STANDARD
TZOFFSETFROM:-0700
TZOFFSETTO:-0800
TZNAME:PST
DTSTART:20171105T090000
END:STANDARD
TZID:Asia/Seoul
BEGIN:STANDARD
TZOFFSETFROM:+0900
TZOFFSETTO:+0900
TZNAME:KST
DTSTART:20170101T000000
END:STANDARD
TZID:America/Chicago
BEGIN:DAYLIGHT
TZOFFSETFROM:-0600
TZOFFSETTO:-0500
TZNAME:CDT
DTSTART:20170312T080000
END:DAYLIGHT
BEGIN:STANDARD
TZOFFSETFROM:-0500
TZOFFSETTO:-0600
TZNAME:CST
DTSTART:20171105T070000
END:STANDARD
TZID:Asia/Tokyo
BEGIN:STANDARD
TZOFFSETFROM:+0900
TZOFFSETTO:+0900
TZNAME:JST
DTSTART:20170101T000000
END:STANDARD
END:VTIMEZONE
BEGIN:VEVENT
DTSTART;TZID=America/New_York:20171118T170000
DTEND;TZID=America/New_York:20171118T190000
DTSTAMP:20260422T040504
CREATED:20171118T205317Z
LAST-MODIFIED:20171118T205317Z
UID:15278-1511024400-1511031600@uo.com
SUMMARY:Siege Perilous - Love
DESCRIPTION:5 pm EST \n \n  \n  \n  \n  \n  \n  \n  \n  \n  \n  \n  \n  \n\nThe cult begun by the Pagan Titans continued to work its way across the land\, like a sickness. \nDespite the victories over the Titans\, despite the celebrations in Britain\, many felt wronged\, somehow. It didn’t take much. Some had rewards from the king for fighting the titans\, some had not. Some had won strange weapons from the followers of the titans\, some had not. Some were simply fated to never be happy with their lot\, and needed little excuse to throw in with the cultists – some needed more persuasion. Some were easily bought with offers of gold\, power and fame. \nIn any case\, there was a common thread – the hatred that was being stirred up in their hearts. And so\, it came to pass that the place that had once housed the altar of love in Empath Abbey was desecrated\, and many of the monks murdered. Strange sounds had been heard coming from the compassion desert\, and the Royal Guard found someone trying to sell the great heart from the Compassion Shrine in New Magincia’s marketplace! \nKing Blackthorn read these reports\, and pondered. This cult needed to be stopped\, most certainly – but how did one build up love\, while opposing a hate-filled enemy with blades and spells? \nHe had a feeling that it would be easier to answer that question once all cultists were in the dungeon or the graveyard – but what of the second principle? How did that apply to destructive enemies? \n  \n \n  \nWhat you need to know \n\nNo\, nobody is asking you to love monsters and cultists to death. Just hit them.\nGates will be available at the usual places.  The list can be found here.\nSome of this will be in a guard zone\, some it will be outside. Dress appropriately. The Compassion Shrine is in a desert – I hate getting sand in my robe.\nNo\, I still won’t tell you if there are drops. There will be loot. There will be fun. Come along!\n\n 
URL:https://uo.com/event/siege-perilous-love/
LOCATION:Siege Perilous
CATEGORIES:EM Event
END:VEVENT
BEGIN:VEVENT
DTSTART;TZID=America/Los_Angeles:20171118T190000
DTEND;TZID=America/Los_Angeles:20171118T200000
DTSTAMP:20260422T040504
CREATED:20171112T031402Z
LAST-MODIFIED:20171112T031402Z
UID:15237-1511031600-1511035200@uo.com
SUMMARY:*Pacific* Anu Arisen
DESCRIPTION:
URL:https://uo.com/event/pacific-anu-arisen/
LOCATION:Castle Blackthorn Courtyard
CATEGORIES:EM Event
END:VEVENT
BEGIN:VEVENT
DTSTART;TZID=Asia/Seoul:20171118T200000
DTEND;TZID=Asia/Seoul:20171118T210000
DTSTAMP:20260422T040504
CREATED:20171108T175605Z
LAST-MODIFIED:20171108T175605Z
UID:15231-1511035200-1511038800@uo.com
SUMMARY:Arirang - Aftermath
DESCRIPTION:Event Schedule\nDate/Time: November 18st\, 2017 08:00PM KST \nMeeting Place: Britain EM Hall \nEvent Story\nAlberich the Royal Guard Lieutenant left the Ter Mur with grief for some of trustworthy his knew\, and return to Britannia. But still\, he couldn’t shake off the memories he experienced during the Pagan war. Now he had to confront a critical decision. \nCaution!\nWe’re expecting battle in this event\, please insure your precious items or leave them to your bank box. Event time is not that long so we’ll start it right in time. \nWarning\nIf anyone disrupt the event\, spamming\, insulting\, and harassing others or EM\, event will be stopped until the situation is handled. Please be advice that any inappropriate behavior will noted to your account\, and some of them can be fatal. EM will trying to hear your suggestion\, complain\, question\, and feedback willingly. Even though EM willing to hear and deal with the issue\, please note that there are some things that EM cannot deal with. \nEvent Chat Channel\nDuring the event\, we’ll use “Arirang EM Event” chat channel. To communicate with EM\, it is highly recommended to join the channel. EM will not take any responsibility for any penalties of information because of this.
URL:https://uo.com/event/arirang-aftermath/
LOCATION:Arirang
CATEGORIES:EM Event
END:VEVENT
BEGIN:VEVENT
DTSTART;TZID=America/Chicago:20171118T200000
DTEND;TZID=America/Chicago:20171118T210000
DTSTAMP:20260422T040504
CREATED:20171113T221151Z
LAST-MODIFIED:20171113T221151Z
UID:15258-1511035200-1511038800@uo.com
SUMMARY:Lake Austin - "Preparing For a Feast"
DESCRIPTION:11/18 8PM Central- Join us on Lake Austin for a fun Thanksgiving Event \n“Preparing For a Feast” \nEveryone welcome! Meet at the EM Hall \n 
URL:https://uo.com/event/lake-austin-preparing-for-a-feast/
CATEGORIES:EM Event
END:VEVENT
BEGIN:VEVENT
DTSTART;TZID=Asia/Tokyo:20171118T220000
DTEND;TZID=Asia/Tokyo:20171118T220000
DTSTAMP:20260422T040504
CREATED:20171008T122546Z
LAST-MODIFIED:20171008T123221Z
UID:15006-1511042400-1511042400@uo.com
SUMMARY:Yamato - Mini Event
DESCRIPTION:TBD
URL:https://uo.com/event/yamato-mini-event/
LOCATION:TBD
CATEGORIES:EM Event
END:VEVENT
END:VCALENDAR