BEGIN:VCALENDAR
VERSION:2.0
PRODID:-//Ultima Online - ECPv5.16.4.1//NONSGML v1.0//EN
CALSCALE:GREGORIAN
METHOD:PUBLISH
X-WR-CALNAME:Ultima Online
X-ORIGINAL-URL:https://uo.com
X-WR-CALDESC:Events for Ultima Online
BEGIN:VTIMEZONE
TZID:America/New_York
BEGIN:DAYLIGHT
TZOFFSETFROM:-0500
TZOFFSETTO:-0400
TZNAME:EDT
DTSTART:20170312T070000
END:DAYLIGHT
BEGIN:STANDARD
TZOFFSETFROM:-0400
TZOFFSETTO:-0500
TZNAME:EST
DTSTART:20171105T060000
END:STANDARD
TZID:Europe/London
BEGIN:DAYLIGHT
TZOFFSETFROM:+0000
TZOFFSETTO:+0100
TZNAME:BST
DTSTART:20170326T010000
END:DAYLIGHT
BEGIN:STANDARD
TZOFFSETFROM:+0100
TZOFFSETTO:+0000
TZNAME:GMT
DTSTART:20171029T010000
END:STANDARD
TZID:Asia/Seoul
BEGIN:STANDARD
TZOFFSETFROM:+0900
TZOFFSETTO:+0900
TZNAME:KST
DTSTART:20170101T000000
END:STANDARD
TZID:Europe/Berlin
BEGIN:DAYLIGHT
TZOFFSETFROM:+0100
TZOFFSETTO:+0200
TZNAME:CEST
DTSTART:20170326T010000
END:DAYLIGHT
BEGIN:STANDARD
TZOFFSETFROM:+0200
TZOFFSETTO:+0100
TZNAME:CET
DTSTART:20171029T010000
END:STANDARD
TZID:Asia/Tokyo
BEGIN:STANDARD
TZOFFSETFROM:+0900
TZOFFSETTO:+0900
TZNAME:JST
DTSTART:20170101T000000
END:STANDARD
END:VTIMEZONE
BEGIN:VEVENT
DTSTART;TZID=America/New_York:20171126T080000
DTEND;TZID=America/New_York:20171126T170000
DTSTAMP:20260422T040536
CREATED:20171121T162318Z
LAST-MODIFIED:20171121T162318Z
UID:15295-1511683200-1511715600@uo.com
SUMMARY:King Blackthorn Meeting - Chessy 9pm
DESCRIPTION:Meet at King Blackthorns castle at 9pm Est. I look forward to seeing all of the governors.
URL:https://uo.com/event/king-blackthorn-meeting-chessy-9pm/
CATEGORIES:EM Event
END:VEVENT
BEGIN:VEVENT
DTSTART;TZID=Europe/London:20171126T193000
DTEND;TZID=Europe/London:20171126T203000
DTSTAMP:20260422T040536
CREATED:20171114T153416Z
LAST-MODIFIED:20171114T153416Z
UID:15266-1511724600-1511728200@uo.com
SUMMARY:Europa - Royal Council
DESCRIPTION:Gather at Castle Blackthorn\, meet your King! \n7.30 PM UK time
URL:https://uo.com/event/europa-royal-council-3/
CATEGORIES:EM Event
END:VEVENT
BEGIN:VEVENT
DTSTART;TZID=Asia/Seoul:20171126T200000
DTEND;TZID=Asia/Seoul:20171126T210000
DTSTAMP:20260422T040536
CREATED:20171108T175731Z
LAST-MODIFIED:20171108T175731Z
UID:15234-1511726400-1511730000@uo.com
SUMMARY:Arirang - Odd or Even
DESCRIPTION:Event Schedule\nDate/Time: October 28th\, 2017 08:00PM KST \nMeeting Place: Britain EM Hall \nCaution!\nThis is non-reward event\, but the season competition event. \nThis event is tournament. Thus there is no combat. \nThis event is predict dice number is odd or even. Before two players roll the dice\, each players have their turn to predict the dice number will be odd or even. If player got it right\, will gets score. The one who scored 5 times first will win the game\, and each round will be best of five. \nPlease be noticed that if there is any cheat or interruption to the game\, will be result in restriction to the event or eventually bad effect to the account. \nIf the number of participants aren’t enough to pair up\, the one who has highest number from the dice win by default. \nWarning\nIf anyone disrupt the event\, spamming\, insulting\, and harassing others or EM\, event will be stopped until the situation is handled. Please be advice that any inappropriate behavior will noted to your account\, and some of them can be fatal. EM will trying to hear your suggestion\, complain\, question\, and feedback willingly. Even though EM willing to hear and deal with the issue\, please note that there are some things that EM cannot deal with. \nEvent Chat Channel\nDuring the event\, we’ll use “Arirang EM Event” chat channel. To communicate with EM\, it is highly recommended to join the channel. EM will not take any responsibility for any penalties of information because of this.
URL:https://uo.com/event/arirang-odd-or-even/
LOCATION:Arirang
CATEGORIES:EM Event
END:VEVENT
BEGIN:VEVENT
DTSTART;TZID=America/New_York:20171126T200000
DTEND;TZID=America/New_York:20171126T210000
DTSTAMP:20260422T040536
CREATED:20171113T212513Z
LAST-MODIFIED:20171113T212513Z
UID:15250-1511726400-1511730000@uo.com
SUMMARY:Atlantic - Conseil du Roi
DESCRIPTION:
URL:https://uo.com/event/atlantic-conseil-du-roi-7/
CATEGORIES:EM Event
END:VEVENT
BEGIN:VEVENT
DTSTART;TZID=Europe/Berlin:20171126T203000
DTEND;TZID=Europe/Berlin:20171126T213000
DTSTAMP:20260422T040536
CREATED:20171101T070549Z
LAST-MODIFIED:20171101T070643Z
UID:15175-1511728200-1511731800@uo.com
SUMMARY:Drachenfels: Royal Audience | Königliche Audienz & HoF Mission
DESCRIPTION:Time: 8:30pm CET (UTC+1).  Location: Castle Blackthorn\, Britain\, Trammel.\nA Royal Audience will be held. Afterwards a Game Night (HoF/RP) follows.\n \nZeit: 20:30 Uhr CET (UTC+1). Ort: Schloss Blackthorn\, Britain\, Trammel.\nEine Königliche Audienz wird abgehalten. Danach folgt ein Spielabend (HoF/RP).
URL:https://uo.com/event/drachenfels-royal-audience-konigliche-audienz-hof-mission-4/
LOCATION:Drachenfels
CATEGORIES:EM Event
END:VEVENT
BEGIN:VEVENT
DTSTART;TZID=Europe/London:20171126T203000
DTEND;TZID=Europe/London:20171126T213000
DTSTAMP:20260422T040536
CREATED:20171114T153305Z
LAST-MODIFIED:20171114T153547Z
UID:15264-1511728200-1511731800@uo.com
SUMMARY:Europa - Fast and Furios (PvP Event)
DESCRIPTION:Gather at 8.30 PM UK time at EM Hall \nThe event will be in Felucca\, simple rules: \n\nall the players will have to be on foot\nno hiding or stealth allowed\nno pets of any sort allowed\nplayers will have to run on foot through a customized area \, they are able to kill each other and drop fields or walls .\nThe first player who arrives at destination will be the Fast and Furios Champion of Europa 2017.
URL:https://uo.com/event/europa-fast-and-furios-pvp-event/
CATEGORIES:EM Event
END:VEVENT
BEGIN:VEVENT
DTSTART;TZID=Asia/Tokyo:20171126T220000
DTEND;TZID=Asia/Tokyo:20171126T220000
DTSTAMP:20260422T040536
CREATED:20171008T122955Z
LAST-MODIFIED:20171008T122955Z
UID:15012-1511733600-1511733600@uo.com
SUMMARY:Yamato - The Council Meeting with the King
DESCRIPTION:The King invites all Governors and Citizens to the Council Meeting.\n*Please note this meeting requires everyone is “in-character”\, and thus roleplay is expected of all who attend.
URL:https://uo.com/event/yamato-the-council-meeting-with-the-king-15/
LOCATION:Castle Blackthorn
CATEGORIES:EM Event
END:VEVENT
BEGIN:VEVENT
DTSTART;TZID=Asia/Tokyo:20171126T220000
DTEND;TZID=Asia/Tokyo:20171126T220000
DTSTAMP:20260422T040536
CREATED:20171024T011447Z
LAST-MODIFIED:20171024T011447Z
UID:15152-1511733600-1511733600@uo.com
SUMMARY:Sakura - The Council Meeting with the King
DESCRIPTION:The monthly governor’s meeting with King Blackthorn. Everyone is invited.
URL:https://uo.com/event/sakura-the-council-meeting-with-the-king-14/
LOCATION:Blackthorn Castle
CATEGORIES:EM Event
END:VEVENT
END:VCALENDAR