BEGIN:VCALENDAR
VERSION:2.0
PRODID:-//Ultima Online - ECPv5.16.4.1//NONSGML v1.0//EN
CALSCALE:GREGORIAN
METHOD:PUBLISH
X-WR-CALNAME:Ultima Online
X-ORIGINAL-URL:https://uo.com
X-WR-CALDESC:Events for Ultima Online
BEGIN:VTIMEZONE
TZID:America/New_York
BEGIN:DAYLIGHT
TZOFFSETFROM:-0500
TZOFFSETTO:-0400
TZNAME:EDT
DTSTART:20170312T070000
END:DAYLIGHT
BEGIN:STANDARD
TZOFFSETFROM:-0400
TZOFFSETTO:-0500
TZNAME:EST
DTSTART:20171105T060000
END:STANDARD
TZID:Asia/Tokyo
BEGIN:STANDARD
TZOFFSETFROM:+0900
TZOFFSETTO:+0900
TZNAME:JST
DTSTART:20170101T000000
END:STANDARD
END:VTIMEZONE
BEGIN:VEVENT
DTSTART;TZID=America/New_York:20171215T170000
DTEND;TZID=America/New_York:20171215T190000
DTSTAMP:20260422T020308
CREATED:20171130T214728Z
LAST-MODIFIED:20171130T214728Z
UID:15330-1513357200-1513364400@uo.com
SUMMARY:Siege Perilous - Three Wise Goblins
DESCRIPTION:5 pm EST is goblin hunting time! \n\nWith apologies to anyone of a poetic nature\, anyone who actually likes “We three kings” and anyone who is offended by drunken goblins. Oh\, and that guy over there who is always professionally offended. YOU know who you are! \n  \nWe three goblins of the Abyss are\nSmelling ghastly we burp from afar\nFouling fountains\, littering mountains\,\nLooking for the nearest bar \nO Bar of Eodon\, open all night\nBar with pirate brandy blight\nMoonshine flowing\, all things knowing\,\nDrink makes us think we’re right! \nBorn goblins of underground plain\,\nIt stinks below\, but we can’t complain\,\nThinking slightly\, planning lightly\nBehold my two-celled brain! \nO Bar of Eodon\, on mountain’s height\,\nBar with buccaneer grog so right!\nLiquor flowing\, now we’re going\nto drink and throw up all night! \nGoblins wise\, you’ll know us by name\,\nOur boasts are a thing of fame\,\nWe can’t write\, and we can’t read\,\nBut we think we’re wise all the same! \nO Bar of Eodon\, bar of booze\,\nOur brains are pickled\, not much to lose\,\nAs we goblins party\, ever hearty\,\nNow to lie down for a quick snooze \nGoblins wise\, well-read are we\,\nAlthough we don’t know our ABC\nBoasting\, lying\, scheming\, prying\nBelieve all we say\, will ye! \nO Bar of Eodon\, bar well stocked\,\nCute barmaid with her ale-stained smock\,\nNo fool she\, not fooled by we\,\nShe hit me with a lumpy rock! \nGoblins now\, from the bar are banned\,\nThrown out the door\, cap in hand\,\nPuking\, sighing\, screaming\, crying\,\nThis wasn’t what we planned! \nOn to the lands possessed of men\,\nLands with fresh taverns to raid again\,\nWe will drink soon\, we will fight you\,\nWise goblins arise again! \n  \nWow\, you read this far down?  Amazing! Ok then… \nWhat you need to know: \n\nLegend has it that\, at this time of year\, three wise goblins will come seeking… something. Even they don’t seem to know what. Probably a good fight.\nGates to the EM Hall will appear in the hour before the event.\nNo guard zone events here. Come prepared to die\, and possibly to be looted.\nThat’s about it. And apologies if you now have “we 3 kings” stuck in your head.
URL:https://uo.com/event/siege-perilous-three-wise-goblins/
LOCATION:Siege Perilous
CATEGORIES:EM Event
END:VEVENT
BEGIN:VEVENT
DTSTART;TZID=Asia/Tokyo:20171215T220000
DTEND;TZID=Asia/Tokyo:20171215T220000
DTSTAMP:20260422T020308
CREATED:20171108T131228Z
LAST-MODIFIED:20171108T131228Z
UID:15217-1513375200-1513375200@uo.com
SUMMARY:Mizuho - Event
DESCRIPTION:TBD
URL:https://uo.com/event/mizuho-event-10/
LOCATION:TBD
CATEGORIES:EM Event
END:VEVENT
BEGIN:VEVENT
DTSTART;TZID=Asia/Tokyo:20171215T220000
DTEND;TZID=Asia/Tokyo:20171215T220000
DTSTAMP:20260422T020308
CREATED:20171125T044520Z
LAST-MODIFIED:20171127T003117Z
UID:15297-1513375200-1513375200@uo.com
SUMMARY:Mizuho - Event
DESCRIPTION:
URL:https://uo.com/event/mizuho-event-12/
LOCATION:Mizuho
CATEGORIES:EM Event
END:VEVENT
BEGIN:VEVENT
DTSTART;TZID=America/New_York:20171215T220000
DTEND;TZID=America/New_York:20171215T230000
DTSTAMP:20260422T020308
CREATED:20171213T114142Z
LAST-MODIFIED:20171213T114142Z
UID:15399-1513375200-1513378800@uo.com
SUMMARY:Sonoma - Sonoma Community Holiday Group Picture
DESCRIPTION:Time of the year for the community on Sonoma to come together and take a holiday group picture! The location for the picture will be revealed on the day of the event. It will be held on Dec 15th at 7PM PDT.
URL:https://uo.com/event/sonoma-sonoma-community-holiday-group-picture/
LOCATION:Sonoma
CATEGORIES:EM Event
END:VEVENT
END:VCALENDAR