BEGIN:VCALENDAR
VERSION:2.0
PRODID:-//Ultima Online - ECPv5.16.4.1//NONSGML v1.0//EN
CALSCALE:GREGORIAN
METHOD:PUBLISH
X-WR-CALNAME:Ultima Online
X-ORIGINAL-URL:https://uo.com
X-WR-CALDESC:Events for Ultima Online
BEGIN:VTIMEZONE
TZID:America/New_York
BEGIN:DAYLIGHT
TZOFFSETFROM:-0500
TZOFFSETTO:-0400
TZNAME:EDT
DTSTART:20170312T070000
END:DAYLIGHT
BEGIN:STANDARD
TZOFFSETFROM:-0400
TZOFFSETTO:-0500
TZNAME:EST
DTSTART:20171105T060000
END:STANDARD
END:VTIMEZONE
BEGIN:VEVENT
DTSTART;TZID=America/New_York:20171222T200000
DTEND;TZID=America/New_York:20171222T210000
DTSTAMP:20260422T020221
CREATED:20171208T001729Z
LAST-MODIFIED:20171219T030531Z
UID:15389-1513972800-1513976400@uo.com
SUMMARY:Legends - One Somber\, Christmas Night
DESCRIPTION:On Friday\, December 22st at 8:00 PM EST\, meet at Castle Blackthorn. \nNote: The date has been changed to 12/22\, apologies for any inconvenience.
URL:https://uo.com/event/legends-one-somber-christmas-night/
CATEGORIES:EM Event
END:VEVENT
BEGIN:VEVENT
DTSTART;TZID=America/New_York:20171222T220000
DTEND;TZID=America/New_York:20171222T230000
DTSTAMP:20260422T020221
CREATED:20171220T172659Z
LAST-MODIFIED:20171220T174057Z
UID:15409-1513980000-1513983600@uo.com
SUMMARY:Sonoma - A Grinch’s Christmas
DESCRIPTION:The Grinch is up to no good! Join us on Dec 22nd at 7PM PDT to stop The Grinch from ruining The Holidays!
URL:https://uo.com/event/sonoma-a-grinchs-christmas/
LOCATION:Sonoma
CATEGORIES:EM Event
END:VEVENT
END:VCALENDAR