BEGIN:VCALENDAR
VERSION:2.0
PRODID:-//Ultima Online - ECPv5.16.4.1//NONSGML v1.0//EN
CALSCALE:GREGORIAN
METHOD:PUBLISH
X-WR-CALNAME:Ultima Online
X-ORIGINAL-URL:https://uo.com
X-WR-CALDESC:Events for Ultima Online
BEGIN:VTIMEZONE
TZID:America/Los_Angeles
BEGIN:DAYLIGHT
TZOFFSETFROM:-0800
TZOFFSETTO:-0700
TZNAME:PDT
DTSTART:20170312T100000
END:DAYLIGHT
BEGIN:STANDARD
TZOFFSETFROM:-0700
TZOFFSETTO:-0800
TZNAME:PST
DTSTART:20171105T090000
END:STANDARD
TZID:America/New_York
BEGIN:DAYLIGHT
TZOFFSETFROM:-0500
TZOFFSETTO:-0400
TZNAME:EDT
DTSTART:20170312T070000
END:DAYLIGHT
BEGIN:STANDARD
TZOFFSETFROM:-0400
TZOFFSETTO:-0500
TZNAME:EST
DTSTART:20171105T060000
END:STANDARD
END:VTIMEZONE
BEGIN:VEVENT
DTSTART;TZID=America/Los_Angeles:20171231T180000
DTEND;TZID=America/Los_Angeles:20171231T193000
DTSTAMP:20260422T020223
CREATED:20171227T044007Z
LAST-MODIFIED:20171227T044007Z
UID:15415-1514743200-1514748600@uo.com
SUMMARY:Origin ~ ZiggyMer Spreads the Magic ...
DESCRIPTION:
URL:https://uo.com/event/origin-ziggymer-spreads-the-magic/
LOCATION:Luna Stables (meet at)
CATEGORIES:EM Event
END:VEVENT
BEGIN:VEVENT
DTSTART;TZID=America/New_York:20171231T233000
DTEND;TZID=America/New_York:20171231T235900
DTSTAMP:20260422T020223
CREATED:20171130T220716Z
LAST-MODIFIED:20171130T220716Z
UID:15336-1514763000-1514764740@uo.com
SUMMARY:Siege Perilous - December Fishing Contest
DESCRIPTION:What more appropriate for December than the Winter Dragonfish? \nSo\, pull on your warmest fishing gear\, bait those lines\, and get hunting! \nDrop all the fish you catch in the mailbox at the EM Hall. \nThe largest Winter Dragonfish in the mailbox by the end of December wins\, and will have their fish mounted in the reward hall. \nAlso remember the ongoing contest for the biggest fish of the year – any “big fish” you catch can also be thrown into the EM’s smelly mailbox!
URL:https://uo.com/event/siege-perilous-december-fishing-contest/
LOCATION:Siege Perilous
CATEGORIES:EM Event
END:VEVENT
END:VCALENDAR