BEGIN:VCALENDAR
VERSION:2.0
PRODID:-//Ultima Online - ECPv5.16.4.1//NONSGML v1.0//EN
CALSCALE:GREGORIAN
METHOD:PUBLISH
X-WR-CALNAME:Ultima Online
X-ORIGINAL-URL:https://uo.com
X-WR-CALDESC:Events for Ultima Online
BEGIN:VTIMEZONE
TZID:America/New_York
BEGIN:DAYLIGHT
TZOFFSETFROM:-0500
TZOFFSETTO:-0400
TZNAME:EDT
DTSTART:20180311T070000
END:DAYLIGHT
BEGIN:STANDARD
TZOFFSETFROM:-0400
TZOFFSETTO:-0500
TZNAME:EST
DTSTART:20181104T060000
END:STANDARD
END:VTIMEZONE
BEGIN:VEVENT
DTSTART;TZID=America/New_York:20180106T170000
DTEND;TZID=America/New_York:20180106T180000
DTSTAMP:20260422T000426
CREATED:20180102T182818Z
LAST-MODIFIED:20180102T182818Z
UID:15430-1515258000-1515261600@uo.com
SUMMARY:Siege Perilous - Siege Council Meeting
DESCRIPTION:Starting time : 5 pm EST at the Council Chambers (Serpents Hold) \n \n  \nWelcome new and returning governors! \nOur first council meeting of the year will take place on January 6th. King Blackthorn bids you welcome! \nAll governors are asked to attend\, to send a representative\, or to submit a report in writing – either to the EM Hall mailbox\, or via email. \nRepresentatives of player-run towns are also welcome\, and hold the same position as governors. However\, they are not obliged to submit a report unless they want to. \nCitizens of Sosaria\, you are welcome to attend\, and will have opportunity to speak your mind at the end of the meeting.
URL:https://uo.com/event/siege-perilous-siege-council-meeting-6/
LOCATION:Siege Perilous
CATEGORIES:EM Event
END:VEVENT
END:VCALENDAR