BEGIN:VCALENDAR
VERSION:2.0
PRODID:-//Ultima Online - ECPv5.16.4.1//NONSGML v1.0//EN
CALSCALE:GREGORIAN
METHOD:PUBLISH
X-WR-CALNAME:Ultima Online
X-ORIGINAL-URL:https://uo.com
X-WR-CALDESC:Events for Ultima Online
BEGIN:VTIMEZONE
TZID:America/New_York
BEGIN:DAYLIGHT
TZOFFSETFROM:-0500
TZOFFSETTO:-0400
TZNAME:EDT
DTSTART:20180311T070000
END:DAYLIGHT
BEGIN:STANDARD
TZOFFSETFROM:-0400
TZOFFSETTO:-0500
TZNAME:EST
DTSTART:20181104T060000
END:STANDARD
TZID:America/Los_Angeles
BEGIN:DAYLIGHT
TZOFFSETFROM:-0800
TZOFFSETTO:-0700
TZNAME:PDT
DTSTART:20180311T100000
END:DAYLIGHT
BEGIN:STANDARD
TZOFFSETFROM:-0700
TZOFFSETTO:-0800
TZNAME:PST
DTSTART:20181104T090000
END:STANDARD
END:VTIMEZONE
BEGIN:VEVENT
DTSTART;TZID=America/New_York:20180112T170000
DTEND;TZID=America/New_York:20180112T190000
DTSTAMP:20260422T000744
CREATED:20180102T183118Z
LAST-MODIFIED:20180102T183118Z
UID:15432-1515776400-1515783600@uo.com
SUMMARY:Siege Perilous - Hawkwind's Chronoturgical Hampster
DESCRIPTION:Starting time : 5 pm EST at the House of Commons (EM Hall) \n \nHawkwind gazed into his time viewer\, observing the birth of another new year. This one seemed fairly normal\, filled with invasions of monsters\, people complaining about their lot in life\, and the occasional explosion from an alchemist’s laboratory. No universe-ending threats in this one\, and no newly invented types of cheesecake either. \nA noise near his elbow drew Hawkwind’s attention to his pet hampster\, who was snuffling at the bars of his cage. It was feeding time. Hawkwind opened a bag of hampster feed\, and poured it into the small feeding trough in the cage\, not noticing that the ties for the bag had looped around the catch of the cage door. \nAs he put the bag down\, the door flew open\, and the weight of the bag propelled the hapless hampster into his time viewer’s screen. There was a terrible crack\, and a horrified squeak\, and a flash of purple and black. Hawkwind flew across the room\, and struck his head. \nWhen he awoke\, the screen was humming with a strange energy\, and there was no sign of the hampster. However\, the number of world-threatening emergencies on the display had increased since his earlier viewing. he turned on his spare viewer\, and groaned. \nThere\, scampering across Sosaria\, was the biggest hampster he had ever seen\, intent on sating its hunger any way it possibly could… \n  \nWhat you need to know: \n\nHampsters are hard to kill. No\, really. They’re terrifyingly strong\, have massive teeth\, and really sharp claws. They also grow to the size of a large bull\, and make a mess wherever they roam. You think I make this stuff up?!?\nGates to the EM Hall will appear in the usual places\, between an hour to half an hour before the event.\nThis will take place outside the guard zone\, so come prepared.
URL:https://uo.com/event/siege-perilous-hawkwinds-chronoturgical-hampster/
LOCATION:Siege Perilous
CATEGORIES:EM Event
END:VEVENT
BEGIN:VEVENT
DTSTART;TZID=America/Los_Angeles:20180112T190000
DTEND;TZID=America/Los_Angeles:20180112T200000
DTSTAMP:20260422T000744
CREATED:20180108T150015Z
LAST-MODIFIED:20180108T150015Z
UID:15480-1515783600-1515787200@uo.com
SUMMARY:Origin ~ ZiggyMer’s ‘Quest Seekers’ 9
DESCRIPTION:
URL:https://uo.com/event/origin-ziggymers-quest-seekers-9/
LOCATION:Luna Stables (meet at)
CATEGORIES:EM Event
END:VEVENT
END:VCALENDAR