BEGIN:VCALENDAR
VERSION:2.0
PRODID:-//Ultima Online - ECPv5.16.4.1//NONSGML v1.0//EN
CALSCALE:GREGORIAN
METHOD:PUBLISH
X-WR-CALNAME:Ultima Online
X-ORIGINAL-URL:https://uo.com
X-WR-CALDESC:Events for Ultima Online
BEGIN:VTIMEZONE
TZID:America/Los_Angeles
BEGIN:DAYLIGHT
TZOFFSETFROM:-0800
TZOFFSETTO:-0700
TZNAME:PDT
DTSTART:20180311T100000
END:DAYLIGHT
BEGIN:STANDARD
TZOFFSETFROM:-0700
TZOFFSETTO:-0800
TZNAME:PST
DTSTART:20181104T090000
END:STANDARD
TZID:Asia/Tokyo
BEGIN:STANDARD
TZOFFSETFROM:+0900
TZOFFSETTO:+0900
TZNAME:JST
DTSTART:20180101T000000
END:STANDARD
END:VTIMEZONE
BEGIN:VEVENT
DTSTART;TZID=America/Los_Angeles:20180113T190000
DTEND;TZID=America/Los_Angeles:20180113T200000
DTSTAMP:20260422T000630
CREATED:20180105T075243Z
LAST-MODIFIED:20180105T075243Z
UID:15462-1515870000-1515873600@uo.com
SUMMARY:*Pacific* Meet & Greet
DESCRIPTION:
URL:https://uo.com/event/pacific-meet-greet/
CATEGORIES:EM Event
END:VEVENT
BEGIN:VEVENT
DTSTART;TZID=Asia/Tokyo:20180113T220000
DTEND;TZID=Asia/Tokyo:20180113T220000
DTSTAMP:20260422T000630
CREATED:20171126T063552Z
LAST-MODIFIED:20171126T063552Z
UID:15307-1515880800-1515880800@uo.com
SUMMARY:Sakura - Mini Event
DESCRIPTION:TBD \nchat# JapanEMevent
URL:https://uo.com/event/sakura-mini-event-7/
LOCATION:Sakura – EM Hall\, Japan
CATEGORIES:EM Event
END:VEVENT
END:VCALENDAR