BEGIN:VCALENDAR
VERSION:2.0
PRODID:-//Ultima Online - ECPv5.16.4.1//NONSGML v1.0//EN
CALSCALE:GREGORIAN
METHOD:PUBLISH
X-WR-CALNAME:Ultima Online
X-ORIGINAL-URL:https://uo.com
X-WR-CALDESC:Events for Ultima Online
BEGIN:VTIMEZONE
TZID:America/New_York
BEGIN:DAYLIGHT
TZOFFSETFROM:-0500
TZOFFSETTO:-0400
TZNAME:EDT
DTSTART:20180311T070000
END:DAYLIGHT
BEGIN:STANDARD
TZOFFSETFROM:-0400
TZOFFSETTO:-0500
TZNAME:EST
DTSTART:20181104T060000
END:STANDARD
TZID:America/Los_Angeles
BEGIN:DAYLIGHT
TZOFFSETFROM:-0800
TZOFFSETTO:-0700
TZNAME:PDT
DTSTART:20180311T100000
END:DAYLIGHT
BEGIN:STANDARD
TZOFFSETFROM:-0700
TZOFFSETTO:-0800
TZNAME:PST
DTSTART:20181104T090000
END:STANDARD
TZID:America/Chicago
BEGIN:DAYLIGHT
TZOFFSETFROM:-0600
TZOFFSETTO:-0500
TZNAME:CDT
DTSTART:20180311T080000
END:DAYLIGHT
BEGIN:STANDARD
TZOFFSETFROM:-0500
TZOFFSETTO:-0600
TZNAME:CST
DTSTART:20181104T070000
END:STANDARD
TZID:Asia/Seoul
BEGIN:STANDARD
TZOFFSETFROM:+0900
TZOFFSETTO:+0900
TZNAME:KST
DTSTART:20180101T000000
END:STANDARD
TZID:Asia/Tokyo
BEGIN:STANDARD
TZOFFSETFROM:+0900
TZOFFSETTO:+0900
TZNAME:JST
DTSTART:20180101T000000
END:STANDARD
END:VTIMEZONE
BEGIN:VEVENT
DTSTART;TZID=America/New_York:20180120T170000
DTEND;TZID=America/New_York:20180120T190000
DTSTAMP:20260422T000425
CREATED:20180102T183413Z
LAST-MODIFIED:20180102T183413Z
UID:15435-1516467600-1516474800@uo.com
SUMMARY:Siege Perilous - Treasure Hunt
DESCRIPTION:Starting time : 5 pm EST at the House of Commons (EM Hall) \nAs was once written by the wisened scribe Fergus of Delta 4 software : \nGold is a lovely metal\,\nmuch better than copper or brass.\nBut a dragon stole mine\,\nso I’ll settle\nfor kicking him hard up the\n \n  \n  \n  \nWhat you need to know: \n\nWe start from the House of Commons (EM Hall)\nThe Royal Treasure Hunter will transport the group to each map location\, one by one.\nThe Chests will be dug up by the Royal Treasure Hunter.\nThe contents will be placed in backpacks on the ground.\nAt this point\, anyone can help themselves to the contents.\nThe only request is that NOBODY takes the backpacks. Thank you.\nIf you want to tame one of the creatures that leaps out of the chest\, SAY SO LOUDLY.\nIf you don’t say so\, people will try to kill them. Guaranteed.\nYou can join in and leave at any point.
URL:https://uo.com/event/siege-perilous-treasure-hunt-3/
LOCATION:Siege Perilous
CATEGORIES:EM Event
END:VEVENT
BEGIN:VEVENT
DTSTART;TZID=America/Los_Angeles:20180120T190000
DTEND;TZID=America/Los_Angeles:20180120T200000
DTSTAMP:20260422T000425
CREATED:20180105T075407Z
LAST-MODIFIED:20180105T075407Z
UID:15464-1516474800-1516478400@uo.com
SUMMARY:*Pacific* Fallen Darkness
DESCRIPTION:
URL:https://uo.com/event/pacific-fallen-darkness/
CATEGORIES:EM Event
END:VEVENT
BEGIN:VEVENT
DTSTART;TZID=America/Chicago:20180120T200000
DTEND;TZID=America/Chicago:20180120T203000
DTSTAMP:20260422T000425
CREATED:20180113T081655Z
LAST-MODIFIED:20180113T081655Z
UID:15587-1516478400-1516480200@uo.com
SUMMARY:Lake Austin - Town Hall Meeting/Governor’s Meeting -
DESCRIPTION:Town Hall Meeting/Governor’s Meeting \n8PM Central Time \nCitizens of Lake Austin are requested to attend. Everyone welcome. We will discuss the coming year’s events and Governor’s council meetings. Confirm times and dates for events and just socialize. \nGates provided in Luna and WBB
URL:https://uo.com/event/lake-austin-town-hall-meeting-governors-meeting/
CATEGORIES:EM Event
END:VEVENT
BEGIN:VEVENT
DTSTART;TZID=Asia/Seoul:20180120T200000
DTEND;TZID=Asia/Seoul:20180120T210000
DTSTAMP:20260422T000425
CREATED:20180116T141940Z
LAST-MODIFIED:20180116T141940Z
UID:15611-1516478400-1516482000@uo.com
SUMMARY:Arirang - The Strife
DESCRIPTION:Event Schedule\nDate/Time: January 20th\, 2018 08:00PM KST \nMeeting Place: Britain EM Hall \nEvent Story\nRoyal Inspector Alberich who helped Shamino to recover the Well of Souls is now heading to Trinsic as Shamino advised. \nCaution!\nWe’re expecting battle in this event\, please insure your precious items or leave them to your bank box. Event time is not that long so we’ll start it right in time. \nWarning\nIf anyone disrupt the event\, spamming\, insulting\, and harassing others or EM\, event will be stopped until the situation is handled. Please be advice that any inappropriate behavior will noted to your account\, and some of them can be fatal. EM will trying to hear your suggestion\, complain\, question\, and feedback willingly. Even though EM willing to hear and deal with the issue\, please note that there are some things that EM cannot deal with. \nEvent Chat Channel\nDuring the event\, we’ll use “Arirang EM Event” chat channel. To communicate with EM\, it is highly recommended to join the channel. EM will not take any responsibility for any penalties of information because of this.
URL:https://uo.com/event/arirang-the-strife-2/
LOCATION:Arirang
CATEGORIES:EM Event
END:VEVENT
BEGIN:VEVENT
DTSTART;TZID=Asia/Tokyo:20180120T220000
DTEND;TZID=Asia/Tokyo:20180120T220000
DTSTAMP:20260422T000425
CREATED:20171108T132005Z
LAST-MODIFIED:20180114T065532Z
UID:15227-1516485600-1516485600@uo.com
SUMMARY:Yamato - A Winter’s Tale of Twin Oaks Tavern 2018
DESCRIPTION:Meet Lissbet the Flower Girl at Skating Rink next to Twin Oaks Tavern in Ilsh. \nSextant Loc:  45o 16’N\, 14o 58’E \n  \nSee you soon!
URL:https://uo.com/event/yamato-a-winters-tale-of-twin-oaks-tavern-2018/
CATEGORIES:EM Event
END:VEVENT
END:VCALENDAR