BEGIN:VCALENDAR
VERSION:2.0
PRODID:-//Ultima Online - ECPv5.16.4.1//NONSGML v1.0//EN
CALSCALE:GREGORIAN
METHOD:PUBLISH
X-WR-CALNAME:Ultima Online
X-ORIGINAL-URL:https://uo.com
X-WR-CALDESC:Events for Ultima Online
BEGIN:VTIMEZONE
TZID:Europe/London
BEGIN:DAYLIGHT
TZOFFSETFROM:+0000
TZOFFSETTO:+0100
TZNAME:BST
DTSTART:20180325T010000
END:DAYLIGHT
BEGIN:STANDARD
TZOFFSETFROM:+0100
TZOFFSETTO:+0000
TZNAME:GMT
DTSTART:20181028T010000
END:STANDARD
TZID:America/Los_Angeles
BEGIN:DAYLIGHT
TZOFFSETFROM:-0800
TZOFFSETTO:-0700
TZNAME:PDT
DTSTART:20180311T100000
END:DAYLIGHT
BEGIN:STANDARD
TZOFFSETFROM:-0700
TZOFFSETTO:-0800
TZNAME:PST
DTSTART:20181104T090000
END:STANDARD
TZID:America/New_York
BEGIN:DAYLIGHT
TZOFFSETFROM:-0500
TZOFFSETTO:-0400
TZNAME:EDT
DTSTART:20180311T070000
END:DAYLIGHT
BEGIN:STANDARD
TZOFFSETFROM:-0400
TZOFFSETTO:-0500
TZNAME:EST
DTSTART:20181104T060000
END:STANDARD
END:VTIMEZONE
BEGIN:VEVENT
DTSTART;TZID=Europe/London:20180131T193000
DTEND;TZID=Europe/London:20180131T203000
DTSTAMP:20260421T221651
CREATED:20180124T102809Z
LAST-MODIFIED:20180124T102809Z
UID:15624-1517427000-1517430600@uo.com
SUMMARY:Europa - Royal Council
DESCRIPTION:Gather at 7.30 PM UK Time at Castle Blackthorn! Meet your King!
URL:https://uo.com/event/europa-royal-council-4/
CATEGORIES:EM Event
END:VEVENT
BEGIN:VEVENT
DTSTART;TZID=Europe/London:20180131T203000
DTEND;TZID=Europe/London:20180131T213000
DTSTAMP:20260421T221651
CREATED:20180124T102650Z
LAST-MODIFIED:20180124T102650Z
UID:15622-1517430600-1517434200@uo.com
SUMMARY:Europa - The Labyrinth Of Death - Felucca Event
DESCRIPTION:Gather at 8.30 PM – EM Hall . Gates will be provided at WBB Fel Facet . \nThis is a PVP Event . We will create a deadly Labyrinth where pvpers will have to face each other\, the last group to survive ( or player…) will be rewarded with their or his…name by the EM Hall…
URL:https://uo.com/event/europa-the-labyrinth-of-death-felucca-event/
CATEGORIES:EM Event
END:VEVENT
BEGIN:VEVENT
DTSTART;TZID=America/Los_Angeles:20180131T210000
DTEND;TZID=America/Los_Angeles:20180131T220000
DTSTAMP:20260421T221651
CREATED:20180105T075554Z
LAST-MODIFIED:20180125T170502Z
UID:15468-1517432400-1517436000@uo.com
SUMMARY:*Pacific* Kings Meeting
DESCRIPTION:
URL:https://uo.com/event/pacific-kings-meeting-17/
CATEGORIES:EM Event
END:VEVENT
BEGIN:VEVENT
DTSTART;TZID=America/New_York:20180131T220000
DTEND;TZID=America/New_York:20180131T230000
DTSTAMP:20260421T221651
CREATED:20180126T225452Z
LAST-MODIFIED:20180126T225452Z
UID:15640-1517436000-1517439600@uo.com
SUMMARY:Sonoma - Stolen Artifact
DESCRIPTION:Stolen Artifact Event Will begin at 7PM PST
URL:https://uo.com/event/sonoma-stolen-artifact/
LOCATION:Sonoma
CATEGORIES:EM Event
END:VEVENT
END:VCALENDAR