BEGIN:VCALENDAR
VERSION:2.0
PRODID:-//Ultima Online - ECPv5.16.4.1//NONSGML v1.0//EN
CALSCALE:GREGORIAN
METHOD:PUBLISH
X-WR-CALNAME:Ultima Online
X-ORIGINAL-URL:https://uo.com
X-WR-CALDESC:Events for Ultima Online
BEGIN:VTIMEZONE
TZID:Asia/Tokyo
BEGIN:STANDARD
TZOFFSETFROM:+0900
TZOFFSETTO:+0900
TZNAME:JST
DTSTART:20180101T000000
END:STANDARD
TZID:America/Los_Angeles
BEGIN:DAYLIGHT
TZOFFSETFROM:-0800
TZOFFSETTO:-0700
TZNAME:PDT
DTSTART:20180311T100000
END:DAYLIGHT
BEGIN:STANDARD
TZOFFSETFROM:-0700
TZOFFSETTO:-0800
TZNAME:PST
DTSTART:20181104T090000
END:STANDARD
TZID:Europe/Berlin
BEGIN:DAYLIGHT
TZOFFSETFROM:+0100
TZOFFSETTO:+0200
TZNAME:CEST
DTSTART:20180325T010000
END:DAYLIGHT
BEGIN:STANDARD
TZOFFSETFROM:+0200
TZOFFSETTO:+0100
TZNAME:CET
DTSTART:20181028T010000
END:STANDARD
END:VTIMEZONE
BEGIN:VEVENT
DTSTART;TZID=Asia/Tokyo:20180202T210000
DTEND;TZID=Asia/Tokyo:20180204T224500
DTSTAMP:20260421T221547
CREATED:20180113T065633Z
LAST-MODIFIED:20180126T141957Z
UID:15576-1517605200-1517784300@uo.com
SUMMARY:All Japanese Shards - Setsubun Event
DESCRIPTION:Setsubun Event Schedule \n*Meet at Inu’s House at the Waste\, Makoto Jima. \n2/2 (Fri)\n———–\nWakoku 21:00 JST\nMizuho 22:00 JST \n2/3 (Sat)\n———–\nAsuka 20:30 JST\nYamato 21:15 JST\nMugen 22:00 JST \n2/4 (Sun)\n———–\nIzumo 20:30 JST\nSakura 21:15 JST\nHokuto 22:00 JST
URL:https://uo.com/event/all-japanese-shards-setsubun-event/
LOCATION:TBD
CATEGORIES:EM Event
END:VEVENT
BEGIN:VEVENT
DTSTART;TZID=America/Los_Angeles:20180204T180000
DTEND;TZID=America/Los_Angeles:20180204T193000
DTSTAMP:20260421T221547
CREATED:20180201T053429Z
LAST-MODIFIED:20180201T053429Z
UID:15677-1517767200-1517772600@uo.com
SUMMARY:Origin ~ Fireside Chat & Zig’s Mini Monster Mash!
DESCRIPTION:
URL:https://uo.com/event/origin-fireside-chat-zigs-mini-monster-mash-4/
LOCATION:Award Hall BBQ Area (Malas)
CATEGORIES:EM Event
END:VEVENT
BEGIN:VEVENT
DTSTART;TZID=Europe/Berlin:20180204T203000
DTEND;TZID=Europe/Berlin:20180204T213000
DTSTAMP:20260421T221547
CREATED:20180201T140647Z
LAST-MODIFIED:20180201T140736Z
UID:15688-1517776200-1517779800@uo.com
SUMMARY:Drachenfels: Gifts | Geschenke (HoF/RP)
DESCRIPTION:Time: 8:30pm CET (UTC+1).  Location: Castle Blackthorn\, Trammel.\nMini HoF (RP) Event: Meet at Castle Blackthorn and go on an intriguing scavenger hunt for mysterious gifts… \nZeit: 20:30 Uhr CET (UTC+1). Ort: Schloss Blackthorn\, Trammel.\nMini HoF (RP) Event: Trefft euch auf Schloss Blackthorn und geht auf eine faszinierende Schnitzeljagd nach geheimnisvollen Geschenken…
URL:https://uo.com/event/drachenfels-gifts-geschenke-hof-rp/
LOCATION:Drachenfels
CATEGORIES:EM Event
END:VEVENT
END:VCALENDAR