BEGIN:VCALENDAR
VERSION:2.0
PRODID:-//Ultima Online - ECPv5.16.4.1//NONSGML v1.0//EN
CALSCALE:GREGORIAN
METHOD:PUBLISH
X-WR-CALNAME:Ultima Online
X-ORIGINAL-URL:https://uo.com
X-WR-CALDESC:Events for Ultima Online
BEGIN:VTIMEZONE
TZID:America/New_York
BEGIN:DAYLIGHT
TZOFFSETFROM:-0500
TZOFFSETTO:-0400
TZNAME:EDT
DTSTART:20180311T070000
END:DAYLIGHT
BEGIN:STANDARD
TZOFFSETFROM:-0400
TZOFFSETTO:-0500
TZNAME:EST
DTSTART:20181104T060000
END:STANDARD
TZID:Asia/Seoul
BEGIN:STANDARD
TZOFFSETFROM:+0900
TZOFFSETTO:+0900
TZNAME:KST
DTSTART:20180101T000000
END:STANDARD
END:VTIMEZONE
BEGIN:VEVENT
DTSTART;TZID=America/New_York:20180210T170000
DTEND;TZID=America/New_York:20180210T190000
DTSTAMP:20260421T221650
CREATED:20180130T180944Z
LAST-MODIFIED:20180130T180944Z
UID:15646-1518282000-1518289200@uo.com
SUMMARY:Siege Perilous - The Mysterious Case of Queen Blackthorn
DESCRIPTION:“Make way for the Queen!” bellowed the footman\, as the carriage trundled down the main road of Trinsic “Make way for her Royal Highness!” \nHeads popped out of windows all along the road. “Queen?” asked a merchant\, as the footman passed “What Queen?!?” \n“Her Royal Highness\, Queen Blackthorn the first\, fairest amongst women\, finest Jewel of Britannia’s crown\, most glorious sovereign of all Sosaria! Make way!” yelled the footman \n“What? Old Blackthorn finally got married?” “I didn’t know there was a wedding!” “You’d think the town criers would have said something\, useless lot!” \nThe comments and complaints became a low rumble from the townsfolk\, as confusion spread through the town. \nThe carriage carefully avoided the rubble in the road as it neared Trinsic’s largest bank\, and came to a halt outside. \nA large guard\, dressed in red and gold\, strode away from the carriage\, and banged heavily on the front door of the bank. “Manager! Your Queen demands you presence!” \nA small\, nervous looking man stuck his head out the doors. “Yes? What is all this commotion? Can I help you?” \n“We have come to collect the gracious wedding present that your town offered to Her Majesty\, Queen Blackthorn\, to celebrate her union with the king! The Queen was so taken with your generosity\, she has come in person to offer her thanks!” intoned the guard. \nThe door of the carriage swung open\, and a tall woman emerged\, smiling and waving to the crowd.  “All hail Queen Blackthorn!” bellowed the footman “Honor and glory to her majesty!” \nThe bank manager spluttered and gaped. “What gift? I wasn’t informed of any gift!” \nThe guard glared at him “Why\, a carriage load of gold and precious jewels\, just as it said in the letter from the governor’s office! I hope you have it all ready! Her Majesty has come all this way – I’d hate to see her disappointed.  The consequences… ”  He drew his sword ever so slightly from its scabbard. The bank manager gulped. \n“Well\, if the governor approved it – ” he started\, before being cut off in mid-sentence by the guard.  “Excellent! I’ll come in and start loading up the carriage with your gift then!” \nLater that day\, after the last of the cheering crowds had dispersed\, and the last merchant was trying to sell hastily put-together royal souvenirs\, the governor of Trinsic came riding back into town\, tired from a long inspection of the area’s bridges. \n“What is all this in the streets? Ribbons? Palm leaves? What happened here?” \n“It was the Queen\, sir. She came to collect the gift you promised her!” said the bank manager\, appearing at his elbow suddenly. “I hope you have plenty of people lined up to do trade runs\, because we haven’t got much gold left!” \n“You gave what to who?!?” asked the governor\, mouth agape. \n“The Queen\, sir. Queen Blackthorn.” \nFar away\, another small\, weedy man finished counting the day’s takings into large wooden chests\, and ticked them off on his clipboard. It had been a good day – unless you happened to live in Trinsic. \n  \nWhat you need to know: \n\nMost of this event will take place outside the guard zone.\nGates will appear at all the usual places about half an hour before the event.\nHard luck to all those ladies who wanted to marry Blackthorn – looks like he’s spoken for!\n\n 
URL:https://uo.com/event/siege-perilous-the-mysterious-case-of-queen-blackthorn/
CATEGORIES:EM Event
END:VEVENT
BEGIN:VEVENT
DTSTART;TZID=Asia/Seoul:20180210T200000
DTEND;TZID=Asia/Seoul:20180210T210000
DTSTAMP:20260421T221650
CREATED:20180203T050206Z
LAST-MODIFIED:20180203T050206Z
UID:15703-1518292800-1518296400@uo.com
SUMMARY:Arirang - Missing People
DESCRIPTION:Event Schedule\nDate/Time: February 10th\, 2018 08:00PM KST \nMeeting Place: Britain EM Hall \nEvent Story\nWhat happend in Trinsic clearly shows Britannia did not recovered from the war with Pagan. Alberich the Royal Inspector was able to settle down paladins with help of brave travelers. Even though\, however\, there might be many places where needs aid. \nCaution!\nWe’re expecting battle in this event\, please insure your precious items or leave them to your bank box. Event time is not that long so we’ll start it right in time. \nWarning\nIf anyone disrupt the event\, spamming\, insulting\, and harassing others or EM\, event will be stopped until the situation is handled. Please be advice that any inappropriate behavior will noted to your account\, and some of them can be fatal. EM will trying to hear your suggestion\, complain\, question\, and feedback willingly. Even though EM willing to hear and deal with the issue\, please note that there are some things that EM cannot deal with. \nEvent Chat Channel\nDuring the event\, we’ll use “Arirang EM Event” chat channel. To communicate with EM\, it is highly recommended to join the channel. EM will not take any responsibility for any penalties of information because of this.
URL:https://uo.com/event/arirang-missing-people/
LOCATION:Arirang
CATEGORIES:EM Event
END:VEVENT
END:VCALENDAR