BEGIN:VCALENDAR
VERSION:2.0
PRODID:-//Ultima Online - ECPv5.16.4.1//NONSGML v1.0//EN
CALSCALE:GREGORIAN
METHOD:PUBLISH
X-WR-CALNAME:Ultima Online
X-ORIGINAL-URL:https://uo.com
X-WR-CALDESC:Events for Ultima Online
BEGIN:VTIMEZONE
TZID:America/New_York
BEGIN:DAYLIGHT
TZOFFSETFROM:-0500
TZOFFSETTO:-0400
TZNAME:EDT
DTSTART:20180311T070000
END:DAYLIGHT
BEGIN:STANDARD
TZOFFSETFROM:-0400
TZOFFSETTO:-0500
TZNAME:EST
DTSTART:20181104T060000
END:STANDARD
TZID:Europe/Berlin
BEGIN:DAYLIGHT
TZOFFSETFROM:+0100
TZOFFSETTO:+0200
TZNAME:CEST
DTSTART:20180325T010000
END:DAYLIGHT
BEGIN:STANDARD
TZOFFSETFROM:+0200
TZOFFSETTO:+0100
TZNAME:CET
DTSTART:20181028T010000
END:STANDARD
TZID:Asia/Taipei
BEGIN:STANDARD
TZOFFSETFROM:+0800
TZOFFSETTO:+0800
TZNAME:CST
DTSTART:20180101T000000
END:STANDARD
TZID:Asia/Tokyo
BEGIN:STANDARD
TZOFFSETFROM:+0900
TZOFFSETTO:+0900
TZNAME:JST
DTSTART:20180101T000000
END:STANDARD
END:VTIMEZONE
BEGIN:VEVENT
DTSTART;TZID=America/New_York:20180216T170000
DTEND;TZID=America/New_York:20180216T200000
DTSTAMP:20260421T221718
CREATED:20180130T181443Z
LAST-MODIFIED:20180130T213412Z
UID:15649-1518800400-1518811200@uo.com
SUMMARY:Siege Perilous - Treasure Hunting Time!
DESCRIPTION:Gold\, gold\, gold. \nGold\, gold\, gold. \nWe need some new lyrics. \n \nAnyway\, here’s what you need to know! \nThe Royal Archaeologist’s Assistant will lead you on a trail of treasure and terror\, all across the lands. She has a pouch full of high-end treasure maps. \nShe will dig up each chest for you. \nAt least one backpack will be placed on the ground. PLEASE leave it there. \nAs the chest is emptied\, the backpack(s) will fill up with loot. \nAs soon as the first item hits the first backpack\, you are welcome to start taking things from the backpack. Again\, do not take the backpack itself. \nIf you want to tame any of the rare monsters that leap out of the chest\, let everyone know. If you don’t\, they will almost certainly be killed before you can tame them. \nOnce each chest is empty\, the backpacks will be taken back to the EM Hall\, locked down\, and set to public access. Help yourselves! \nNot a single one of these maps will lead to a spot inside a guard zone. PKs might show up. They might decide to kill you. So\, come prepared\, whatever “prepared” means to you\, personally! \nThe event goes on until we run out of maps\, or until the EM falls asleep\, whichever comes first!
URL:https://uo.com/event/siege-perilous-treasure-hunting-time/
CATEGORIES:EM Event
END:VEVENT
BEGIN:VEVENT
DTSTART;TZID=Europe/Berlin:20180216T203000
DTEND;TZID=Europe/Berlin:20180216T213000
DTSTAMP:20260421T221718
CREATED:20180201T135235Z
LAST-MODIFIED:20180201T135235Z
UID:15683-1518813000-1518816600@uo.com
SUMMARY:Drachenfels: Royal Audience | Königliche Audienz & HoF Mission
DESCRIPTION:Time: 8:30pm CET (UTC+1).  Location: Castle Blackthorn\, Britain\, Trammel.\nA Royal Audience will be held. Afterwards Zibalba will take you on a short T-Hunt trip in Ilshenar or Ter Mur (HoF/RP).\n \nZeit: 20:30 Uhr CET (UTC+1). Ort: Schloss Blackthorn\, Britain\, Trammel.\nEine Königliche Audienz wird abgehalten. Danach wird euch Zibalba auf einen kurzen T-Hunt Ausflug nach Ilshenar oder Ter Mur mitnehmen (HoF/RP).
URL:https://uo.com/event/drachenfels-royal-audience-konigliche-audienz-hof-mission-5/
LOCATION:Drachenfels
CATEGORIES:EM Event
END:VEVENT
BEGIN:VEVENT
DTSTART;TZID=Asia/Taipei:20180216T210000
DTEND;TZID=Asia/Taipei:20180216T230000
DTSTAMP:20260421T221718
CREATED:20180131T174322Z
LAST-MODIFIED:20180131T174322Z
UID:15673-1518814800-1518822000@uo.com
SUMMARY:Formosa Chinese New Year
DESCRIPTION:Chinese new year Event
URL:https://uo.com/event/formosa-chinese-new-year/
LOCATION:Formosa Britain EM Hall
CATEGORIES:EM Event
END:VEVENT
BEGIN:VEVENT
DTSTART;TZID=Asia/Tokyo:20180216T220000
DTEND;TZID=Asia/Tokyo:20180216T230000
DTSTAMP:20260421T221718
CREATED:20180131T103626Z
LAST-MODIFIED:20180131T103626Z
UID:15668-1518818400-1518822000@uo.com
SUMMARY:Mizuho - Mini Event
DESCRIPTION:
URL:https://uo.com/event/mizuho-mini-event-12/
LOCATION:Mizuho
CATEGORIES:EM Event
END:VEVENT
BEGIN:VEVENT
DTSTART;TZID=America/New_York:20180216T220000
DTEND;TZID=America/New_York:20180216T230000
DTSTAMP:20260421T221718
CREATED:20180215T024316Z
LAST-MODIFIED:20180215T024316Z
UID:15779-1518818400-1518822000@uo.com
SUMMARY:Sonoma - Governors Meeting - 7PM PST
DESCRIPTION:Governors Meeting will be at 7PM PDT/10PMEST
URL:https://uo.com/event/sonoma-governors-meeting-7pm-pst-2/
LOCATION:Sonoma
CATEGORIES:EM Event
END:VEVENT
END:VCALENDAR