BEGIN:VCALENDAR
VERSION:2.0
PRODID:-//Ultima Online - ECPv5.16.4.1//NONSGML v1.0//EN
CALSCALE:GREGORIAN
METHOD:PUBLISH
X-WR-CALNAME:Ultima Online
X-ORIGINAL-URL:https://uo.com
X-WR-CALDESC:Events for Ultima Online
BEGIN:VTIMEZONE
TZID:America/Los_Angeles
BEGIN:DAYLIGHT
TZOFFSETFROM:-0800
TZOFFSETTO:-0700
TZNAME:PDT
DTSTART:20180311T100000
END:DAYLIGHT
BEGIN:STANDARD
TZOFFSETFROM:-0700
TZOFFSETTO:-0800
TZNAME:PST
DTSTART:20181104T090000
END:STANDARD
TZID:Asia/Tokyo
BEGIN:STANDARD
TZOFFSETFROM:+0900
TZOFFSETTO:+0900
TZNAME:JST
DTSTART:20180101T000000
END:STANDARD
TZID:Asia/Seoul
BEGIN:STANDARD
TZOFFSETFROM:+0900
TZOFFSETTO:+0900
TZNAME:KST
DTSTART:20180101T000000
END:STANDARD
END:VTIMEZONE
BEGIN:VEVENT
DTSTART;TZID=America/Los_Angeles:20180218T180000
DTEND;TZID=America/Los_Angeles:20180218T183000
DTSTAMP:20260421T221716
CREATED:20180214T012559Z
LAST-MODIFIED:20180214T012634Z
UID:15763-1518976800-1518978600@uo.com
SUMMARY:Origin ~ The King’s Meeting
DESCRIPTION:
URL:https://uo.com/event/origin-the-kings-meeting-5/
LOCATION:Blackthorn Castle meeting room
CATEGORIES:EM Event
END:VEVENT
BEGIN:VEVENT
DTSTART;TZID=America/Los_Angeles:20180218T183000
DTEND;TZID=America/Los_Angeles:20180218T193000
DTSTAMP:20260421T221716
CREATED:20180214T013002Z
LAST-MODIFIED:20180214T013002Z
UID:15765-1518978600-1518982200@uo.com
SUMMARY:Origin ~ O.R.G. Boot Camp XXIV (Winter Session II)
DESCRIPTION:
URL:https://uo.com/event/origin-o-r-g-boot-camp-xxiv-winter-session-ii/
LOCATION:O.R.G. Training Grounds (Malas)
CATEGORIES:EM Event
END:VEVENT
BEGIN:VEVENT
DTSTART;TZID=Asia/Tokyo:20180218T220000
DTEND;TZID=Asia/Tokyo:20180218T220000
DTSTAMP:20260421T221716
CREATED:20180114T051208Z
LAST-MODIFIED:20180211T074145Z
UID:15599-1518991200-1518991200@uo.com
SUMMARY:Sakura - Mini Event
DESCRIPTION:TBD \nFishing competition \nchat# JapanEMevent
URL:https://uo.com/event/sakura-mini-event-8/
LOCATION:Sakura – EM Hall\, Japan
CATEGORIES:EM Event
END:VEVENT
BEGIN:VEVENT
DTSTART;TZID=Asia/Seoul:20180218T220000
DTEND;TZID=Asia/Seoul:20180218T233000
DTSTAMP:20260421T221716
CREATED:20180131T174556Z
LAST-MODIFIED:20180131T174556Z
UID:15675-1518991200-1518996600@uo.com
SUMMARY:Balhae Chinese New Year
DESCRIPTION:Balhae Chinese New Year !!
URL:https://uo.com/event/balhae-chinese-new-year/
LOCATION:Balhae EM Britain Hall
CATEGORIES:EM Event
END:VEVENT
END:VCALENDAR