BEGIN:VCALENDAR
VERSION:2.0
PRODID:-//Ultima Online - ECPv5.16.4.1//NONSGML v1.0//EN
CALSCALE:GREGORIAN
METHOD:PUBLISH
X-WR-CALNAME:Ultima Online
X-ORIGINAL-URL:https://uo.com
X-WR-CALDESC:Events for Ultima Online
BEGIN:VTIMEZONE
TZID:America/Los_Angeles
BEGIN:DAYLIGHT
TZOFFSETFROM:-0800
TZOFFSETTO:-0700
TZNAME:PDT
DTSTART:20180311T100000
END:DAYLIGHT
BEGIN:STANDARD
TZOFFSETFROM:-0700
TZOFFSETTO:-0800
TZNAME:PST
DTSTART:20181104T090000
END:STANDARD
TZID:America/Chicago
BEGIN:DAYLIGHT
TZOFFSETFROM:-0600
TZOFFSETTO:-0500
TZNAME:CDT
DTSTART:20180311T080000
END:DAYLIGHT
BEGIN:STANDARD
TZOFFSETFROM:-0500
TZOFFSETTO:-0600
TZNAME:CST
DTSTART:20181104T070000
END:STANDARD
TZID:America/New_York
BEGIN:DAYLIGHT
TZOFFSETFROM:-0500
TZOFFSETTO:-0400
TZNAME:EDT
DTSTART:20180311T070000
END:DAYLIGHT
BEGIN:STANDARD
TZOFFSETFROM:-0400
TZOFFSETTO:-0500
TZNAME:EST
DTSTART:20181104T060000
END:STANDARD
END:VTIMEZONE
BEGIN:VEVENT
DTSTART;TZID=America/Los_Angeles:20180223T190000
DTEND;TZID=America/Los_Angeles:20180223T200000
DTSTAMP:20260421T221717
CREATED:20180209T024939Z
LAST-MODIFIED:20180209T024939Z
UID:15734-1519412400-1519416000@uo.com
SUMMARY:Baja - Royal Guard - Finding A Replacment
DESCRIPTION:After the murder of Vladimir the Ranger\, the Royal guard is left without a Captain. Please join us as we search for a potential replacement!
URL:https://uo.com/event/baja-royal-guard-finding-a-replacment/
LOCATION:King Blackthorn’s Courtyard
CATEGORIES:EM Event
END:VEVENT
BEGIN:VEVENT
DTSTART;TZID=America/Los_Angeles:20180223T190000
DTEND;TZID=America/Los_Angeles:20180223T200000
DTSTAMP:20260421T221717
CREATED:20180219T044230Z
LAST-MODIFIED:20180219T044323Z
UID:15797-1519412400-1519416000@uo.com
SUMMARY:Origin ~ Have Gear Will Travel #30: ‘Who knows what evil...’ *Felucca*
DESCRIPTION:
URL:https://uo.com/event/origin-have-gear-will-travel-30-who-knows-what-evil-felucca/
LOCATION:Luna Stables (meet at)
CATEGORIES:EM Event
END:VEVENT
BEGIN:VEVENT
DTSTART;TZID=America/Chicago:20180223T200000
DTEND;TZID=America/Chicago:20180223T200000
DTSTAMP:20260421T221717
CREATED:20180202T034756Z
LAST-MODIFIED:20180202T034756Z
UID:15699-1519416000-1519416000@uo.com
SUMMARY:Great Lakes - Frog Speed Dating
DESCRIPTION:Let’s Go to the Hop! To attend\, go through the moongate inside the Britain Counselor Hall.
URL:https://uo.com/event/great-lakes-frog-speed-dating/
LOCATION:Great Lakes – Counselor Hall
CATEGORIES:EM Event
END:VEVENT
BEGIN:VEVENT
DTSTART;TZID=America/New_York:20180223T220000
DTEND;TZID=America/New_York:20180223T230000
DTSTAMP:20260421T221717
CREATED:20180222T022911Z
LAST-MODIFIED:20180222T022911Z
UID:15811-1519423200-1519426800@uo.com
SUMMARY:Sonoma - Trinsic Jones and the desolation of Dydra
DESCRIPTION:Join Trinsic Jones as he looks to defeat Dydra and her minions. Event is at 7PM PDT
URL:https://uo.com/event/sonoma-trinsic-jones-and-the-desolation-of-dydra/
LOCATION:Sonoma
CATEGORIES:EM Event
END:VEVENT
END:VCALENDAR