BEGIN:VCALENDAR
VERSION:2.0
PRODID:-//Ultima Online - ECPv5.16.4.1//NONSGML v1.0//EN
CALSCALE:GREGORIAN
METHOD:PUBLISH
X-WR-CALNAME:Ultima Online
X-ORIGINAL-URL:https://uo.com
X-WR-CALDESC:Events for Ultima Online
BEGIN:VTIMEZONE
TZID:America/New_York
BEGIN:DAYLIGHT
TZOFFSETFROM:-0500
TZOFFSETTO:-0400
TZNAME:EDT
DTSTART:20180311T070000
END:DAYLIGHT
BEGIN:STANDARD
TZOFFSETFROM:-0400
TZOFFSETTO:-0500
TZNAME:EST
DTSTART:20181104T060000
END:STANDARD
TZID:America/Los_Angeles
BEGIN:DAYLIGHT
TZOFFSETFROM:-0800
TZOFFSETTO:-0700
TZNAME:PDT
DTSTART:20180311T100000
END:DAYLIGHT
BEGIN:STANDARD
TZOFFSETFROM:-0700
TZOFFSETTO:-0800
TZNAME:PST
DTSTART:20181104T090000
END:STANDARD
TZID:Asia/Seoul
BEGIN:STANDARD
TZOFFSETFROM:+0900
TZOFFSETTO:+0900
TZNAME:KST
DTSTART:20180101T000000
END:STANDARD
TZID:America/Chicago
BEGIN:DAYLIGHT
TZOFFSETFROM:-0600
TZOFFSETTO:-0500
TZNAME:CDT
DTSTART:20180311T080000
END:DAYLIGHT
BEGIN:STANDARD
TZOFFSETFROM:-0500
TZOFFSETTO:-0600
TZNAME:CST
DTSTART:20181104T070000
END:STANDARD
TZID:Asia/Tokyo
BEGIN:STANDARD
TZOFFSETFROM:+0900
TZOFFSETTO:+0900
TZNAME:JST
DTSTART:20180101T000000
END:STANDARD
END:VTIMEZONE
BEGIN:VEVENT
DTSTART;TZID=America/New_York:20180224T150000
DTEND;TZID=America/New_York:20180224T160000
DTSTAMP:20260421T221650
CREATED:20180205T054546Z
LAST-MODIFIED:20180205T054546Z
UID:15712-1519484400-1519488000@uo.com
SUMMARY:Legends - Hedge Hell [R]
DESCRIPTION:On Saturday\, February 24th at 3:00 PM EST\, meet at the Rangers Guild hall in Skara Brae.\nNote: This event will have light roleplay with heavy combat\, and a reward.
URL:https://uo.com/event/legends-hedge-hell-r/
CATEGORIES:EM Event
END:VEVENT
BEGIN:VEVENT
DTSTART;TZID=America/New_York:20180224T170000
DTEND;TZID=America/New_York:20180224T190000
DTSTAMP:20260421T221650
CREATED:20180130T184931Z
LAST-MODIFIED:20180130T213456Z
UID:15651-1519491600-1519498800@uo.com
SUMMARY:Siege Perilous - Working on the chain gang
DESCRIPTION:“Boss\, boss!” shouted one of the workmen\, waving at the surveyor “We’ve got something weird here!” \nThe Royal Surveyor looked up from his notes\, to where the workmen had been clearing the path from the moongate\, ready for him to inspect it. The men were pulling some large stone object out of the ground\, and not being terribly careful about it. \nHe walked up to it\, and rubbed some of the dirt off the stone. There was an inscription or a carving there. How odd. Brushing away more dirt\, a face began to appear. A brutish\, snarling face\, with fangs. \n“Why would anyone want to carve such an ugly face?” He wondered. He didn’t have long to wonder\, though. A large club struck him in the back of the head\, and the last sound he heard was “Hoowaaah!!!” \nThe orcs were all over the survey team in no time at all. Not a single Britannian survived. The orcish war party carefully\, almost lovingly\, picked up the stone carving\, and began carrying it away. \n“Dumhed pushdug oomies! Nub ged thingys!” \n  \nWhat you need to know: \n\nYou get to fight orcs. What else do you need to know?\nOh\, ok. Gates will appear in the usual places.\nGather at the EM Hall – which is where the gates go to\nBe careful – the orcs may be gathering near the hall!
URL:https://uo.com/event/siege-perilous-working-on-the-chain-gang/
CATEGORIES:EM Event
END:VEVENT
BEGIN:VEVENT
DTSTART;TZID=America/Los_Angeles:20180224T190000
DTEND;TZID=America/Los_Angeles:20180224T200000
DTSTAMP:20260421T221650
CREATED:20180216T072228Z
LAST-MODIFIED:20180216T072228Z
UID:15782-1519498800-1519502400@uo.com
SUMMARY:*Pacific* - Lover's Leap
DESCRIPTION:
URL:https://uo.com/event/pacific-lovers-leap/
LOCATION:Castle Blackthorn Courtyard
CATEGORIES:EM Event
END:VEVENT
BEGIN:VEVENT
DTSTART;TZID=Asia/Seoul:20180224T200000
DTEND;TZID=Asia/Seoul:20180224T210000
DTSTAMP:20260421T221650
CREATED:20180203T050302Z
LAST-MODIFIED:20180203T050302Z
UID:15705-1519502400-1519506000@uo.com
SUMMARY:Arirang - Britannia Chess Tournament
DESCRIPTION:Event Schedule\nDate/Time: February 24th\, 2018 08:00PM KST \nMeeting Place: Britain EM Hall \nCaution!\nThis is non-reward event\, but the competition event. \nThis event will use in-game chess board. We hope all of participants act according to conscience. However\, for the safety\, referee will be chosen from other participants. Be advice that referee rule can be changed. Final will be done in specially designed stage. \nIf you are not familiar with Chess\, please read this before participate the tournament. If you are familiar with chess rules\, please tell EM before the tournament start. \nWarning\nIf anyone disrupt the event\, spamming\, insulting\, and harassing others or EM\, event will be stopped until the situation is handled. Please be advice that any inappropriate behavior will noted to your account\, and some of them can be fatal. EM will trying to hear your suggestion\, complain\, question\, and feedback willingly. Even though EM willing to hear and deal with the issue\, please note that there are some things that EM cannot deal with. \nEvent Chat Channel\nDuring the event\, we’ll use “Arirang EM Event” chat channel. To communicate with EM\, it is highly recommended to join the channel. EM will not take any responsibility for any penalties of information because of this.
URL:https://uo.com/event/arirang-britannia-chess-tournament/
LOCATION:Arirang
CATEGORIES:EM Event
END:VEVENT
BEGIN:VEVENT
DTSTART;TZID=America/Chicago:20180224T200000
DTEND;TZID=America/Chicago:20180224T210000
DTSTAMP:20260421T221650
CREATED:20180210T232641Z
LAST-MODIFIED:20180210T232641Z
UID:15743-1519502400-1519506000@uo.com
SUMMARY:LA Event 8PM Central
DESCRIPTION:All welcome! Please meet at the EM Hall in Brit. (Gates provided in Luna and WBB)\nSpecial assignment to be announced. It is encouraged that you be on time. \n8pm Central/9pm Eastern \nEM Topaz
URL:https://uo.com/event/la-event-8pm-central/
CATEGORIES:EM Event
END:VEVENT
BEGIN:VEVENT
DTSTART;TZID=Asia/Tokyo:20180224T220000
DTEND;TZID=Asia/Tokyo:20180224T230000
DTSTAMP:20260421T221650
CREATED:20180113T065751Z
LAST-MODIFIED:20180217T154822Z
UID:15582-1519509600-1519513200@uo.com
SUMMARY:Yamato - Mini event "Roof Art Contest Tour"
DESCRIPTION:Meet at Luna bank
URL:https://uo.com/event/yamato-mini-event-2/
LOCATION:Luna bank
CATEGORIES:EM Event
END:VEVENT
BEGIN:VEVENT
DTSTART;TZID=Asia/Tokyo:20180224T220000
DTEND;TZID=Asia/Tokyo:20180224T230000
DTSTAMP:20260421T221650
CREATED:20180131T103322Z
LAST-MODIFIED:20180131T103322Z
UID:15666-1519509600-1519513200@uo.com
SUMMARY:Mizuho - The Council Meeting With The King
DESCRIPTION:The monthly governor’s meeting with King Blackthorn. Everyone is invited.
URL:https://uo.com/event/mizuho-the-council-meeting-with-the-king-17/
LOCATION:Mizuho
CATEGORIES:EM Event
END:VEVENT
END:VCALENDAR