BEGIN:VCALENDAR
VERSION:2.0
PRODID:-//Ultima Online - ECPv5.16.4.1//NONSGML v1.0//EN
CALSCALE:GREGORIAN
METHOD:PUBLISH
X-WR-CALNAME:Ultima Online
X-ORIGINAL-URL:https://uo.com
X-WR-CALDESC:Events for Ultima Online
BEGIN:VTIMEZONE
TZID:America/Los_Angeles
BEGIN:DAYLIGHT
TZOFFSETFROM:-0800
TZOFFSETTO:-0700
TZNAME:PDT
DTSTART:20180311T100000
END:DAYLIGHT
BEGIN:STANDARD
TZOFFSETFROM:-0700
TZOFFSETTO:-0800
TZNAME:PST
DTSTART:20181104T090000
END:STANDARD
TZID:Europe/Berlin
BEGIN:DAYLIGHT
TZOFFSETFROM:+0100
TZOFFSETTO:+0200
TZNAME:CEST
DTSTART:20180325T010000
END:DAYLIGHT
BEGIN:STANDARD
TZOFFSETFROM:+0200
TZOFFSETTO:+0100
TZNAME:CET
DTSTART:20181028T010000
END:STANDARD
TZID:Europe/London
BEGIN:DAYLIGHT
TZOFFSETFROM:+0000
TZOFFSETTO:+0100
TZNAME:BST
DTSTART:20180325T010000
END:DAYLIGHT
BEGIN:STANDARD
TZOFFSETFROM:+0100
TZOFFSETTO:+0000
TZNAME:GMT
DTSTART:20181028T010000
END:STANDARD
TZID:America/New_York
BEGIN:DAYLIGHT
TZOFFSETFROM:-0500
TZOFFSETTO:-0400
TZNAME:EDT
DTSTART:20180311T070000
END:DAYLIGHT
BEGIN:STANDARD
TZOFFSETFROM:-0400
TZOFFSETTO:-0500
TZNAME:EST
DTSTART:20181104T060000
END:STANDARD
TZID:Asia/Tokyo
BEGIN:STANDARD
TZOFFSETFROM:+0900
TZOFFSETTO:+0900
TZNAME:JST
DTSTART:20180101T000000
END:STANDARD
END:VTIMEZONE
BEGIN:VEVENT
DTSTART;TZID=America/Los_Angeles:20180225T190000
DTEND;TZID=America/Los_Angeles:20180225T200000
DTSTAMP:20260421T221717
CREATED:20180216T072322Z
LAST-MODIFIED:20180216T072322Z
UID:15784-1519585200-1519588800@uo.com
SUMMARY:*Pacific* - King's Meeting
DESCRIPTION:
URL:https://uo.com/event/pacific-kings-meeting-18/
LOCATION:Castle Blackthorn Governors Hall
CATEGORIES:EM Event
END:VEVENT
BEGIN:VEVENT
DTSTART;TZID=Europe/Berlin:20180225T203000
DTEND;TZID=Europe/Berlin:20180225T213000
DTSTAMP:20260421T221717
CREATED:20180201T134608Z
LAST-MODIFIED:20180201T134903Z
UID:15680-1519590600-1519594200@uo.com
SUMMARY:Drachenfels: The Coat Hanger | Der Kleiderbügel
DESCRIPTION:Time: 8:30pm CET (UTC+1).  Location: Counselor’s Hall\, Trammel.\nMain Event: There was a stranger roaming different towns in the lands\, always checking in at the famous Inns. After paying generously for his stay\, he just vanished. But always\, he left a coat behind! Help Garina Mamba to clean up this obnoxious problem! \nZeit: 20:30 Uhr CET (UTC+1). Ort: Counselor’s Hall\, Trammel.\nHaupt Event: Es gab einen Fremden\, der durch die verschiedenen Städte des Landes streifte und immer wieder in den berühmten Gasthäusern übernachtete. Nachdem er großzügig für seinen Aufenthalt bezahlt hatte\, verschwand er einfach. Aber er ließ jedes Mal einen Mantel zurück! Helft Garina Mamba\, dieses widerwärtige Problem zu beseitigen!
URL:https://uo.com/event/drachenfels-the-coat-hanger-der-kleiderbugel/
LOCATION:Drachenfels
CATEGORIES:EM Event
END:VEVENT
BEGIN:VEVENT
DTSTART;TZID=Europe/London:20180225T203000
DTEND;TZID=Europe/London:20180225T213000
DTSTAMP:20260421T221717
CREATED:20180213T165225Z
LAST-MODIFIED:20180213T165225Z
UID:15753-1519590600-1519594200@uo.com
SUMMARY:Europa - The Golden Man part II
DESCRIPTION:Are you ready to face the Golden Man again? Gather at 8.30 pm UK time at EM HALL! Save yourself if you can!
URL:https://uo.com/event/europa-the-golden-man-part-ii/
CATEGORIES:EM Event
END:VEVENT
BEGIN:VEVENT
DTSTART;TZID=America/New_York:20180225T210000
DTEND;TZID=America/New_York:20180225T220000
DTSTAMP:20260421T221717
CREATED:20180221T013314Z
LAST-MODIFIED:20180221T013314Z
UID:15807-1519592400-1519596000@uo.com
SUMMARY:Governors Meeting - Chessy 2/25/18 9pm Est
DESCRIPTION:Governors Meeting – Chessy 2/25/18 9pm Est
URL:https://uo.com/event/governors-meeting-chessy-2-25-18-9pm-est/
LOCATION:Chesapeake
CATEGORIES:EM Event
END:VEVENT
BEGIN:VEVENT
DTSTART;TZID=Asia/Tokyo:20180225T220000
DTEND;TZID=Asia/Tokyo:20180225T230000
DTSTAMP:20260421T221717
CREATED:20180114T051906Z
LAST-MODIFIED:20180114T051906Z
UID:15601-1519596000-1519599600@uo.com
SUMMARY:Sakura - The Council Meeting With The King
DESCRIPTION:The monthly governor’s meeting with King Blackthorn. Everyone is invited.
URL:https://uo.com/event/sakura-the-council-meeting-with-the-king-17/
LOCATION:Blackthorn Castle
CATEGORIES:EM Event
END:VEVENT
BEGIN:VEVENT
DTSTART;TZID=America/New_York:20180225T220000
DTEND;TZID=America/New_York:20180225T230000
DTSTAMP:20260421T221717
CREATED:20180222T023023Z
LAST-MODIFIED:20180222T023023Z
UID:15813-1519596000-1519599600@uo.com
SUMMARY:Fishing Net Toss Event
DESCRIPTION:Join the fun! fishing net toss event at 7PM PDT!
URL:https://uo.com/event/fishing-net-toss-event/
LOCATION:Sonoma
CATEGORIES:EM Event
END:VEVENT
BEGIN:VEVENT
DTSTART;TZID=Asia/Tokyo:20180225T220000
DTEND;TZID=Asia/Tokyo:20180225T223000
DTSTAMP:20260421T221717
CREATED:20180222T130042Z
LAST-MODIFIED:20180222T130042Z
UID:15815-1519596000-1519597800@uo.com
SUMMARY:Hokuto-Mini event
DESCRIPTION:The details\, please look at the Web site on Hokuto.
URL:https://uo.com/event/hokuto-mini-event-9/
LOCATION:Hokuto
CATEGORIES:EM Event
END:VEVENT
END:VCALENDAR