BEGIN:VCALENDAR
VERSION:2.0
PRODID:-//Ultima Online - ECPv5.16.4.1//NONSGML v1.0//EN
CALSCALE:GREGORIAN
METHOD:PUBLISH
X-WR-CALNAME:Ultima Online
X-ORIGINAL-URL:https://uo.com
X-WR-CALDESC:Events for Ultima Online
BEGIN:VTIMEZONE
TZID:America/Chicago
BEGIN:DAYLIGHT
TZOFFSETFROM:-0600
TZOFFSETTO:-0500
TZNAME:CDT
DTSTART:20180311T080000
END:DAYLIGHT
BEGIN:STANDARD
TZOFFSETFROM:-0500
TZOFFSETTO:-0600
TZNAME:CST
DTSTART:20181104T070000
END:STANDARD
TZID:America/Los_Angeles
BEGIN:DAYLIGHT
TZOFFSETFROM:-0800
TZOFFSETTO:-0700
TZNAME:PDT
DTSTART:20180311T100000
END:DAYLIGHT
BEGIN:STANDARD
TZOFFSETFROM:-0700
TZOFFSETTO:-0800
TZNAME:PST
DTSTART:20181104T090000
END:STANDARD
TZID:America/New_York
BEGIN:DAYLIGHT
TZOFFSETFROM:-0500
TZOFFSETTO:-0400
TZNAME:EDT
DTSTART:20180311T070000
END:DAYLIGHT
BEGIN:STANDARD
TZOFFSETFROM:-0400
TZOFFSETTO:-0500
TZNAME:EST
DTSTART:20181104T060000
END:STANDARD
END:VTIMEZONE
BEGIN:VEVENT
DTSTART;TZID=America/Chicago:20180227T080000
DTEND;TZID=America/Chicago:20180227T170000
DTSTAMP:20260421T203507
CREATED:20180202T034832Z
LAST-MODIFIED:20180202T034832Z
UID:15701-1519718400-1519750800@uo.com
SUMMARY:Great Lakes - Royal Spy Mission
DESCRIPTION:This Royal Spy mission has the codename “The Cult of Runes”. To attend\, go to the Britain Counselor Hall and investigate the suit of armor.
URL:https://uo.com/event/great-lakes-royal-spy-mission-63/
LOCATION:Great Lakes – Counselor Hall
CATEGORIES:EM Event
END:VEVENT
BEGIN:VEVENT
DTSTART;TZID=America/Los_Angeles:20180227T190000
DTEND;TZID=America/Los_Angeles:20180227T200000
DTSTAMP:20260421T203507
CREATED:20180209T025611Z
LAST-MODIFIED:20180209T025611Z
UID:15736-1519758000-1519761600@uo.com
SUMMARY:Baja - Governors Meeting
DESCRIPTION:King Blackthorn invites all to attend February’s Governor Meeting!
URL:https://uo.com/event/baja-governors-meeting-10/
LOCATION:King Blackthorn’s Castle
CATEGORIES:EM Event
END:VEVENT
BEGIN:VEVENT
DTSTART;TZID=America/New_York:20180227T190000
DTEND;TZID=America/New_York:20180227T210000
DTSTAMP:20260421T203507
CREATED:20180214T042434Z
LAST-MODIFIED:20180214T042434Z
UID:15769-1519758000-1519765200@uo.com
SUMMARY:Catskills - Governors Meeting
DESCRIPTION:Governors to meet at Castle Blackthorn!
URL:https://uo.com/event/catskills-governors-meeting-17/
LOCATION:Catskills
CATEGORIES:EM Event
END:VEVENT
BEGIN:VEVENT
DTSTART;TZID=America/Los_Angeles:20180227T190000
DTEND;TZID=America/Los_Angeles:20180227T200000
DTSTAMP:20260421T203507
CREATED:20180224T022542Z
LAST-MODIFIED:20180224T022542Z
UID:15828-1519758000-1519761600@uo.com
SUMMARY:Origin ~ The 'Tree of Love'
DESCRIPTION:
URL:https://uo.com/event/origin-the-tree-of-love/
LOCATION:Luna Stables (meet at)
CATEGORIES:EM Event
END:VEVENT
BEGIN:VEVENT
DTSTART;TZID=America/New_York:20180227T210000
DTEND;TZID=America/New_York:20180227T220000
DTSTAMP:20260421T203508
CREATED:20180221T013148Z
LAST-MODIFIED:20180221T013148Z
UID:15805-1519765200-1519768800@uo.com
SUMMARY:Follow The Wise Words - Chessy 2/27/18 9pm Est
DESCRIPTION:Follow the wise words event – Chessy 2/27/18 at 9pm Est
URL:https://uo.com/event/follow-the-wise-words-chessy-2-27-18-9pm-est/
LOCATION:Chesapeake
CATEGORIES:EM Event
END:VEVENT
END:VCALENDAR