BEGIN:VCALENDAR
VERSION:2.0
PRODID:-//Ultima Online - ECPv5.16.4.1//NONSGML v1.0//EN
CALSCALE:GREGORIAN
METHOD:PUBLISH
X-WR-CALNAME:Ultima Online
X-ORIGINAL-URL:https://uo.com
X-WR-CALDESC:Events for Ultima Online
BEGIN:VTIMEZONE
TZID:Europe/London
BEGIN:DAYLIGHT
TZOFFSETFROM:+0000
TZOFFSETTO:+0100
TZNAME:BST
DTSTART:20180325T010000
END:DAYLIGHT
BEGIN:STANDARD
TZOFFSETFROM:+0100
TZOFFSETTO:+0000
TZNAME:GMT
DTSTART:20181028T010000
END:STANDARD
TZID:America/Los_Angeles
BEGIN:DAYLIGHT
TZOFFSETFROM:-0800
TZOFFSETTO:-0700
TZNAME:PDT
DTSTART:20180311T100000
END:DAYLIGHT
BEGIN:STANDARD
TZOFFSETFROM:-0700
TZOFFSETTO:-0800
TZNAME:PST
DTSTART:20181104T090000
END:STANDARD
TZID:America/Chicago
BEGIN:DAYLIGHT
TZOFFSETFROM:-0600
TZOFFSETTO:-0500
TZNAME:CDT
DTSTART:20180311T080000
END:DAYLIGHT
BEGIN:STANDARD
TZOFFSETFROM:-0500
TZOFFSETTO:-0600
TZNAME:CST
DTSTART:20181104T070000
END:STANDARD
TZID:Asia/Tokyo
BEGIN:STANDARD
TZOFFSETFROM:+0900
TZOFFSETTO:+0900
TZNAME:JST
DTSTART:20180101T000000
END:STANDARD
END:VTIMEZONE
BEGIN:VEVENT
DTSTART;TZID=Europe/London:20180324T183000
DTEND;TZID=Europe/London:20180324T193000
DTSTAMP:20260421T203409
CREATED:20180312T114627Z
LAST-MODIFIED:20180312T114627Z
UID:15945-1521916200-1521919800@uo.com
SUMMARY:Europa - Royal Council
DESCRIPTION:Meet your King! Blackthorn’s Castle 6.30 pm UK time
URL:https://uo.com/event/europa-royal-council-6/
CATEGORIES:EM Event
END:VEVENT
BEGIN:VEVENT
DTSTART;TZID=America/Los_Angeles:20180324T190000
DTEND;TZID=America/Los_Angeles:20180324T200000
DTSTAMP:20260421T203409
CREATED:20180313T034751Z
LAST-MODIFIED:20180313T034751Z
UID:15949-1521918000-1521921600@uo.com
SUMMARY:*Pacific* Vision Keeper
DESCRIPTION:
URL:https://uo.com/event/pacific-vision-keeper/
LOCATION:Castle Blackthorn Courtyard
CATEGORIES:EM Event
END:VEVENT
BEGIN:VEVENT
DTSTART;TZID=America/Chicago:20180324T200000
DTEND;TZID=America/Chicago:20180324T210000
DTSTAMP:20260421T203409
CREATED:20180315T041402Z
LAST-MODIFIED:20180315T041402Z
UID:16022-1521921600-1521925200@uo.com
SUMMARY:Lake Austin - Search For A Cure
DESCRIPTION:Meet at 8pm Central time at the EM Hall. Gates will be provided in Luna and at the Circle in West Brit. \nBring your thinking caps! 😉
URL:https://uo.com/event/lake-austin-search-for-a-cure/
CATEGORIES:EM Event
END:VEVENT
BEGIN:VEVENT
DTSTART;TZID=Europe/London:20180324T203000
DTEND;TZID=Europe/London:20180324T213000
DTSTAMP:20260421T203409
CREATED:20180312T114100Z
LAST-MODIFIED:20180312T114100Z
UID:15943-1521923400-1521927000@uo.com
SUMMARY:Europa - PvP Event - Bagball Horror
DESCRIPTION:8.30 pm UK Time – EM Hall \nA bagball will be placed at the center of a specific area…teams will have to conquer the bagball and drag it to their side… kill and use any strategy to win the matches! No rules… just blood!!
URL:https://uo.com/event/europa-pvp-event-bagball-horror/
CATEGORIES:EM Event
END:VEVENT
BEGIN:VEVENT
DTSTART;TZID=Asia/Tokyo:20180324T220000
DTEND;TZID=Asia/Tokyo:20180324T220000
DTSTAMP:20260421T203409
CREATED:20180211T073816Z
LAST-MODIFIED:20180211T073816Z
UID:15747-1521928800-1521928800@uo.com
SUMMARY:Sakura- Mini Event
DESCRIPTION:TBD\nchat# JapanEMevent
URL:https://uo.com/event/sakura-mini-event-9/
LOCATION:Sakura – EM Hall\, Japan
CATEGORIES:EM Event
END:VEVENT
END:VCALENDAR