BEGIN:VCALENDAR
VERSION:2.0
PRODID:-//Ultima Online - ECPv5.16.4.1//NONSGML v1.0//EN
CALSCALE:GREGORIAN
METHOD:PUBLISH
X-WR-CALNAME:Ultima Online
X-ORIGINAL-URL:https://uo.com
X-WR-CALDESC:Events for Ultima Online
BEGIN:VTIMEZONE
TZID:America/New_York
BEGIN:DAYLIGHT
TZOFFSETFROM:-0500
TZOFFSETTO:-0400
TZNAME:EDT
DTSTART:20180311T070000
END:DAYLIGHT
BEGIN:STANDARD
TZOFFSETFROM:-0400
TZOFFSETTO:-0500
TZNAME:EST
DTSTART:20181104T060000
END:STANDARD
END:VTIMEZONE
BEGIN:VEVENT
DTSTART;TZID=America/New_York:20180329T210000
DTEND;TZID=America/New_York:20180329T220000
DTSTAMP:20260421T185138
CREATED:20180316T020625Z
LAST-MODIFIED:20180316T020625Z
UID:16032-1522357200-1522360800@uo.com
SUMMARY:Atlantic - Meet and Greet
DESCRIPTION:Come meet EM Roenick and EM Obsidian at the Meet and Greet.   Feel free to ask any questions you may have about upcoming events and whats to come here on Atlantic.  Any feedback is always appreciated.
URL:https://uo.com/event/atlantic-meet-and-greet/
LOCATION:Meet At Counselor Hall
CATEGORIES:EM Event
END:VEVENT
BEGIN:VEVENT
DTSTART;TZID=America/New_York:20180329T210000
DTEND;TZID=America/New_York:20180329T220000
DTSTAMP:20260421T185138
CREATED:20180322T015221Z
LAST-MODIFIED:20180322T015221Z
UID:16067-1522357200-1522360800@uo.com
SUMMARY:The Rift Is Real - Chessy - 9pm Est
DESCRIPTION:The Rift Is Real event on Chessy will happen on March 29th at 9pm Est.
URL:https://uo.com/event/the-rift-is-real-chessy-9pm-est/
LOCATION:Chesapeake
CATEGORIES:EM Event
END:VEVENT
END:VCALENDAR