BEGIN:VCALENDAR
VERSION:2.0
PRODID:-//Ultima Online - ECPv5.16.4.1//NONSGML v1.0//EN
CALSCALE:GREGORIAN
METHOD:PUBLISH
X-WR-CALNAME:Ultima Online
X-ORIGINAL-URL:https://uo.com
X-WR-CALDESC:Events for Ultima Online
BEGIN:VTIMEZONE
TZID:America/Los_Angeles
BEGIN:DAYLIGHT
TZOFFSETFROM:-0800
TZOFFSETTO:-0700
TZNAME:PDT
DTSTART:20180311T100000
END:DAYLIGHT
BEGIN:STANDARD
TZOFFSETFROM:-0700
TZOFFSETTO:-0800
TZNAME:PST
DTSTART:20181104T090000
END:STANDARD
TZID:Europe/Berlin
BEGIN:DAYLIGHT
TZOFFSETFROM:+0100
TZOFFSETTO:+0200
TZNAME:CEST
DTSTART:20180325T010000
END:DAYLIGHT
BEGIN:STANDARD
TZOFFSETFROM:+0200
TZOFFSETTO:+0100
TZNAME:CET
DTSTART:20181028T010000
END:STANDARD
END:VTIMEZONE
BEGIN:VEVENT
DTSTART;TZID=America/Los_Angeles:20180415T180000
DTEND;TZID=America/Los_Angeles:20180415T183000
DTSTAMP:20260421T185133
CREATED:20180404T224030Z
LAST-MODIFIED:20180404T224030Z
UID:16279-1523815200-1523817000@uo.com
SUMMARY:Origin ~ The King’s Meeting
DESCRIPTION:
URL:https://uo.com/event/origin-the-kings-meeting-7/
LOCATION:Blackthorn Castle meeting room
CATEGORIES:EM Event
END:VEVENT
BEGIN:VEVENT
DTSTART;TZID=America/Los_Angeles:20180415T183000
DTEND;TZID=America/Los_Angeles:20180415T193000
DTSTAMP:20260421T185133
CREATED:20180404T224420Z
LAST-MODIFIED:20180404T224420Z
UID:16281-1523817000-1523820600@uo.com
SUMMARY:Origin ~ O.R.G. Boot Camp XXV (Spring Session I)
DESCRIPTION:
URL:https://uo.com/event/origin-o-r-g-boot-camp-xxv-spring-session-i/
LOCATION:O.R.G. Training Grounds (Malas)
CATEGORIES:EM Event
END:VEVENT
BEGIN:VEVENT
DTSTART;TZID=Europe/Berlin:20180415T203000
DTEND;TZID=Europe/Berlin:20180415T213000
DTSTAMP:20260421T185133
CREATED:20180330T212659Z
LAST-MODIFIED:20180330T212659Z
UID:16142-1523824200-1523827800@uo.com
SUMMARY:Drachenfels: Rainbow Spring Festival | Regenbogen Frühjahrs Festival (HoF/RP)
DESCRIPTION:Time: 8:30pm CEST (UTC+2). Location: Luna Fairegrounds\, Malas.\nMain HoF (RP) Event: A convivial and colourful festival\, with good games and nice conversations and of course a few things to eat and drink from the buffet! (This means: Yes\, come colourful!) \nZeit: 20:30 Uhr CEST (UTC+2). Ort: Luna Fairegrounds\, Malas.\nHauptevent HoF (RP): Ein geselliges und farbenfrohes Festival\, mit guten Spielen und netten Gesprächen und natürlich ein paar Dingen zum Essen und Trinken vom Buffet! (Das heißt: Ja\, kommt farbenfroh daher!)
URL:https://uo.com/event/drachenfels-rainbow-spring-festival-regenbogen-fruhjahrs-festival-hof-rp/
LOCATION:Drachenfels
CATEGORIES:EM Event
END:VEVENT
END:VCALENDAR