BEGIN:VCALENDAR
VERSION:2.0
PRODID:-//Ultima Online - ECPv5.16.4.1//NONSGML v1.0//EN
CALSCALE:GREGORIAN
METHOD:PUBLISH
X-WR-CALNAME:Ultima Online
X-ORIGINAL-URL:https://uo.com
X-WR-CALDESC:Events for Ultima Online
BEGIN:VTIMEZONE
TZID:America/New_York
BEGIN:DAYLIGHT
TZOFFSETFROM:-0500
TZOFFSETTO:-0400
TZNAME:EDT
DTSTART:20180311T070000
END:DAYLIGHT
BEGIN:STANDARD
TZOFFSETFROM:-0400
TZOFFSETTO:-0500
TZNAME:EST
DTSTART:20181104T060000
END:STANDARD
TZID:America/Los_Angeles
BEGIN:DAYLIGHT
TZOFFSETFROM:-0800
TZOFFSETTO:-0700
TZNAME:PDT
DTSTART:20180311T100000
END:DAYLIGHT
BEGIN:STANDARD
TZOFFSETFROM:-0700
TZOFFSETTO:-0800
TZNAME:PST
DTSTART:20181104T090000
END:STANDARD
TZID:America/Chicago
BEGIN:DAYLIGHT
TZOFFSETFROM:-0600
TZOFFSETTO:-0500
TZNAME:CDT
DTSTART:20180311T080000
END:DAYLIGHT
BEGIN:STANDARD
TZOFFSETFROM:-0500
TZOFFSETTO:-0600
TZNAME:CST
DTSTART:20181104T070000
END:STANDARD
TZID:Europe/London
BEGIN:DAYLIGHT
TZOFFSETFROM:+0000
TZOFFSETTO:+0100
TZNAME:BST
DTSTART:20180325T010000
END:DAYLIGHT
BEGIN:STANDARD
TZOFFSETFROM:+0100
TZOFFSETTO:+0000
TZNAME:GMT
DTSTART:20181028T010000
END:STANDARD
END:VTIMEZONE
BEGIN:VEVENT
DTSTART;TZID=America/New_York:20180421T170000
DTEND;TZID=America/New_York:20180421T190000
DTSTAMP:20260421T185116
CREATED:20180403T214232Z
LAST-MODIFIED:20180403T214232Z
UID:16201-1524330000-1524337200@uo.com
SUMMARY:Siege Perilous - Orcish Infamy
DESCRIPTION:King Blackthorn stared at the strange scroll in his lap\, a mixture of bewilderment and awe on his face. After much thought\, he turned to his advisors. \n“A settlement of Meer? Unknown\, all this time?” he asked \n“It would seem so\, sire. Unknown\, undetected – until now. And now\, it may be too late\, if that scroll is any indication.” \n“Indeed.” mused the king. “Well\, let us hope it is not. We have seen the damage these orcs can do. First\, send scouts. I will not send our forces into an orcish trap – although I’ve yet to meet the orc who could write so eloquently\, or in such a fine hand. Once we are certain that this is not a trap\, send reinforcements\, and hope that something of this colony survives.” \n“At once sire.”  The senior advisor turned smartly on his heel\, and strode from the room\, golden robes flowing behind him. \n  \nWhat you need to know \nAn offshoot of the Meer who fought beside Queen Dawn have been found\, trapped beneath the ground. There\, they had made themselves a new kingdom – one which it seems the orcs have discovered\, and immediately waged war upon. \nOur goal is to save them – or avenge them. \nThis will be your first look at the new dungeon area where we will be holding many events this year. \nIt is not in a guard zone\, and this is Siege Perilous. Come prepared! \n 
URL:https://uo.com/event/siege-perilous-orcish-infamy/
LOCATION:Siege Perilous
CATEGORIES:EM Event
END:VEVENT
BEGIN:VEVENT
DTSTART;TZID=America/Los_Angeles:20180421T190000
DTEND;TZID=America/Los_Angeles:20180421T200000
DTSTAMP:20260421T185116
CREATED:20180409T211510Z
LAST-MODIFIED:20180409T211510Z
UID:16330-1524337200-1524340800@uo.com
SUMMARY:*Pacific* Civil Obedience
DESCRIPTION:
URL:https://uo.com/event/pacific-civil-obedience/
LOCATION:Castle Blackthorn Courtyard
CATEGORIES:EM Event
END:VEVENT
BEGIN:VEVENT
DTSTART;TZID=America/Chicago:20180421T200000
DTEND;TZID=America/Chicago:20180421T210000
DTSTAMP:20260421T185116
CREATED:20180414T094223Z
LAST-MODIFIED:20180414T094223Z
UID:16374-1524340800-1524344400@uo.com
SUMMARY:Lake Austin - Princes and Roses
DESCRIPTION:All hands on deck! The hunt for the first rose of spring is on! Meeting at EM Hall at 8pm Central Time (9 Eastern) . Come prepared to fight\, the Jade Orc clan must be pushed back! \nTransportation provided at Luna and West Brit banks.
URL:https://uo.com/event/lake-austin-princes-and-roses/
CATEGORIES:EM Event
END:VEVENT
BEGIN:VEVENT
DTSTART;TZID=Europe/London:20180421T203000
DTEND;TZID=Europe/London:20180421T213000
DTSTAMP:20260421T185116
CREATED:20180403T103404Z
LAST-MODIFIED:20180403T103440Z
UID:16185-1524342600-1524346200@uo.com
SUMMARY:Europa - PvP event - 3vs3 tournament
DESCRIPTION:This month we will have a tournament in a customized area\, simple and basic rules: \nno ress \nno pets \nno mounts \nno summons \n(best out of three) \nGather at EM Hall 8.30 pm UK time zone
URL:https://uo.com/event/europa-pvp-event-3vs3-tournament-2/
CATEGORIES:EM Event
END:VEVENT
END:VCALENDAR