BEGIN:VCALENDAR
VERSION:2.0
PRODID:-//Ultima Online - ECPv5.16.4.1//NONSGML v1.0//EN
CALSCALE:GREGORIAN
METHOD:PUBLISH
X-WR-CALNAME:Ultima Online
X-ORIGINAL-URL:https://uo.com
X-WR-CALDESC:Events for Ultima Online
BEGIN:VTIMEZONE
TZID:America/New_York
BEGIN:DAYLIGHT
TZOFFSETFROM:-0500
TZOFFSETTO:-0400
TZNAME:EDT
DTSTART:20180311T070000
END:DAYLIGHT
BEGIN:STANDARD
TZOFFSETFROM:-0400
TZOFFSETTO:-0500
TZNAME:EST
DTSTART:20181104T060000
END:STANDARD
END:VTIMEZONE
BEGIN:VEVENT
DTSTART;TZID=America/New_York:20180425T210000
DTEND;TZID=America/New_York:20180425T220000
DTSTAMP:20260421T185126
CREATED:20180413T180720Z
LAST-MODIFIED:20180413T180720Z
UID:16369-1524690000-1524693600@uo.com
SUMMARY:Atlantic - Missing Ingredients
DESCRIPTION:There is a disease sweeping Britannia and killing off plant and wild life. The King has been missing for quite some time now. What is going on? The King has been searching the realm for ingredients his Alchemist needs to make a cure for this Disease. The missing ingredients have been troublesome for the King to find and he comes to you tonight to ask for your help. The King has returned and needs your help in tracking down these last 4 ingredients. They are spread out among the facets and will need help in reaching them in time before the disease spreads. Please gather at Castle Blackthorns Courtyard for information on where to find these ingredients.
URL:https://uo.com/event/atlantic-missing-ingredients/
LOCATION:Blackthorn’s Castle Courtyard
CATEGORIES:EM Event
END:VEVENT
END:VCALENDAR