BEGIN:VCALENDAR
VERSION:2.0
PRODID:-//Ultima Online - ECPv5.16.4.1//NONSGML v1.0//EN
CALSCALE:GREGORIAN
METHOD:PUBLISH
X-WR-CALNAME:Ultima Online
X-ORIGINAL-URL:https://uo.com
X-WR-CALDESC:Events for Ultima Online
BEGIN:VTIMEZONE
TZID:America/New_York
BEGIN:DAYLIGHT
TZOFFSETFROM:-0500
TZOFFSETTO:-0400
TZNAME:EDT
DTSTART:20180311T070000
END:DAYLIGHT
BEGIN:STANDARD
TZOFFSETFROM:-0400
TZOFFSETTO:-0500
TZNAME:EST
DTSTART:20181104T060000
END:STANDARD
END:VTIMEZONE
BEGIN:VEVENT
DTSTART;TZID=America/New_York:20180426T183000
DTEND;TZID=America/New_York:20180426T203000
DTSTAMP:20260421T185125
CREATED:20180418T104341Z
LAST-MODIFIED:20180424T194151Z
UID:16408-1524767400-1524774600@uo.com
SUMMARY:Catskills - RBG Promotions and Governors Meeting
DESCRIPTION:RBG Promotions to take place at the courtyard in Castle Blackthornat 6:30. \nGovernors to gather in the council room at 7.
URL:https://uo.com/event/catskills-governors-meeting-19/
LOCATION:Catskills
CATEGORIES:EM Event
END:VEVENT
BEGIN:VEVENT
DTSTART;TZID=America/New_York:20180426T200000
DTEND;TZID=America/New_York:20180426T210000
DTSTAMP:20260421T185125
CREATED:20180411T024557Z
LAST-MODIFIED:20180411T024557Z
UID:16347-1524772800-1524776400@uo.com
SUMMARY:Legends - Demanding Answers [RP]
DESCRIPTION:On Thursday\, April 26th at 8:00 PM EST\, meet at the Rangers Guild Hall in Skara Brae.\nNote: This event will have heavy roleplay\, moderate combat\, no reward.
URL:https://uo.com/event/legends-demanding-answers-rp/
LOCATION:Legends
CATEGORIES:EM Event
END:VEVENT
BEGIN:VEVENT
DTSTART;TZID=America/New_York:20180426T210000
DTEND;TZID=America/New_York:20180426T220000
DTSTAMP:20260421T185125
CREATED:20180413T180520Z
LAST-MODIFIED:20180413T180520Z
UID:16367-1524776400-1524780000@uo.com
SUMMARY:Atlantic - Kings Meeting
DESCRIPTION:This meeting is for the Governors and the citizens of Britannia. All are welcome to attend
URL:https://uo.com/event/atlantic-kings-meeting/
LOCATION:Blackthorn Castle meeting room
CATEGORIES:EM Event
END:VEVENT
BEGIN:VEVENT
DTSTART;TZID=America/New_York:20180426T210000
DTEND;TZID=America/New_York:20180426T220000
DTSTAMP:20260421T185125
CREATED:20180423T011902Z
LAST-MODIFIED:20180423T011902Z
UID:16453-1524776400-1524780000@uo.com
SUMMARY:The Arms Of The Darkness Grow - 4/26/18 - Chessy - 9pm Est
DESCRIPTION:The Arms Of The Darkness Grow – 4/26/18 – Chessy – 9pm Est. Gates will be up at WBB\, Luna Mint and The HoC. See you there! \nEM Ulric
URL:https://uo.com/event/the-arms-of-the-darkness-grow-4-26-18-chessy-9pm-est/
LOCATION:Chesapeake
CATEGORIES:EM Event
END:VEVENT
END:VCALENDAR