BEGIN:VCALENDAR
VERSION:2.0
PRODID:-//Ultima Online - ECPv5.16.4.1//NONSGML v1.0//EN
CALSCALE:GREGORIAN
METHOD:PUBLISH
X-WR-CALNAME:Ultima Online
X-ORIGINAL-URL:https://uo.com
X-WR-CALDESC:Events for Ultima Online
BEGIN:VTIMEZONE
TZID:America/Los_Angeles
BEGIN:DAYLIGHT
TZOFFSETFROM:-0800
TZOFFSETTO:-0700
TZNAME:PDT
DTSTART:20180311T100000
END:DAYLIGHT
BEGIN:STANDARD
TZOFFSETFROM:-0700
TZOFFSETTO:-0800
TZNAME:PST
DTSTART:20181104T090000
END:STANDARD
TZID:Asia/Taipei
BEGIN:STANDARD
TZOFFSETFROM:+0800
TZOFFSETTO:+0800
TZNAME:CST
DTSTART:20180101T000000
END:STANDARD
TZID:Asia/Tokyo
BEGIN:STANDARD
TZOFFSETFROM:+0900
TZOFFSETTO:+0900
TZNAME:JST
DTSTART:20180101T000000
END:STANDARD
END:VTIMEZONE
BEGIN:VEVENT
DTSTART;TZID=America/Los_Angeles:20180427T190000
DTEND;TZID=America/Los_Angeles:20180427T200000
DTSTAMP:20260421T203345
CREATED:20180404T224935Z
LAST-MODIFIED:20180404T224935Z
UID:16283-1524855600-1524859200@uo.com
SUMMARY:Origin ~ Have Gear Will Travel #32: 'The Squealer' *Felucca/Ilshenar*
DESCRIPTION:
URL:https://uo.com/event/origin-have-gear-will-travel-32-the-squealer-felucca-ilshenar/
LOCATION:Luna Stables (meet at)
CATEGORIES:EM Event
END:VEVENT
BEGIN:VEVENT
DTSTART;TZID=America/Los_Angeles:20180427T200000
DTEND;TZID=America/Los_Angeles:20180427T210000
DTSTAMP:20260421T203345
CREATED:20180416T030346Z
LAST-MODIFIED:20180416T030346Z
UID:16378-1524859200-1524862800@uo.com
SUMMARY:Baja - Going Under
DESCRIPTION:The Ratman Queen’s Den has been located. Your help is requested in bringing her to justice!
URL:https://uo.com/event/baja-going-under/
LOCATION:Meet At Counselor Hall
CATEGORIES:EM Event
END:VEVENT
BEGIN:VEVENT
DTSTART;TZID=Asia/Taipei:20180427T210000
DTEND;TZID=Asia/Taipei:20180427T220000
DTSTAMP:20260421T203345
CREATED:20180418T074224Z
LAST-MODIFIED:20180418T074224Z
UID:16398-1524862800-1524866400@uo.com
SUMMARY:Formosa April Cherry Blossom Event
DESCRIPTION:April Season of Cherry Blossom !!
URL:https://uo.com/event/formosa-april-cherry-blossom-event/
LOCATION:Formosa Britain EM Hall
CATEGORIES:EM Event
END:VEVENT
BEGIN:VEVENT
DTSTART;TZID=Asia/Tokyo:20180427T220000
DTEND;TZID=Asia/Tokyo:20180427T230000
DTSTAMP:20260421T203345
CREATED:20180314T140030Z
LAST-MODIFIED:20180314T140030Z
UID:15983-1524866400-1524870000@uo.com
SUMMARY:Mizuho – The Council Meeting With The King
DESCRIPTION:The monthly governor’s meeting with King Blackthorn. Everyone is invited. \n 
URL:https://uo.com/event/mizuho-the-council-meeting-with-the-king-19/
CATEGORIES:EM Event
END:VEVENT
END:VCALENDAR