BEGIN:VCALENDAR
VERSION:2.0
PRODID:-//Ultima Online - ECPv5.16.4.1//NONSGML v1.0//EN
CALSCALE:GREGORIAN
METHOD:PUBLISH
X-WR-CALNAME:Ultima Online
X-ORIGINAL-URL:https://uo.com
X-WR-CALDESC:Events for Ultima Online
BEGIN:VTIMEZONE
TZID:Asia/Seoul
BEGIN:STANDARD
TZOFFSETFROM:+0900
TZOFFSETTO:+0900
TZNAME:KST
DTSTART:20180101T000000
END:STANDARD
TZID:America/Chicago
BEGIN:DAYLIGHT
TZOFFSETFROM:-0600
TZOFFSETTO:-0500
TZNAME:CDT
DTSTART:20180311T080000
END:DAYLIGHT
BEGIN:STANDARD
TZOFFSETFROM:-0500
TZOFFSETTO:-0600
TZNAME:CST
DTSTART:20181104T070000
END:STANDARD
TZID:Europe/London
BEGIN:DAYLIGHT
TZOFFSETFROM:+0000
TZOFFSETTO:+0100
TZNAME:BST
DTSTART:20180325T010000
END:DAYLIGHT
BEGIN:STANDARD
TZOFFSETFROM:+0100
TZOFFSETTO:+0000
TZNAME:GMT
DTSTART:20181028T010000
END:STANDARD
END:VTIMEZONE
BEGIN:VEVENT
DTSTART;TZID=Asia/Seoul:20180505T200000
DTEND;TZID=Asia/Seoul:20180505T210000
DTSTAMP:20260421T185139
CREATED:20180419T180557Z
LAST-MODIFIED:20180419T180557Z
UID:16435-1525550400-1525554000@uo.com
SUMMARY:Arirang - 2nd The Quiz
DESCRIPTION:Event Schedule\nDate/Time: May 5th\, 2017 08:00PM KST\nMeeting Place: Britain EM Hall \nCaution!\nThis is non-reward event.\nThis is Quiz mini-event. The one who reaches to final destination win the game by answer various quiz that NPC asks! Your knowledge about Ultima Online will needed to answer those questions. Don’t miss this as it is perfect time to show off your knowledge and passion about the game! \nWarning\nIf anyone disrupt the event\, spamming\, insulting\, and harassing others or EM\, event will be stopped until the situation is handled. Please be advice that any inappropriate behavior will noted to your account\, and some of them can be fatal. EM will trying to hear your suggestion\, complain\, question\, and feedback willingly. Even though EM willing to hear and deal with the issue\, please note that there are some things that EM cannot deal with. \nEvent Chat Channel\nDuring the event\, we’ll use “Arirang EM Event” chat channel. To communicate with EM\, it is highly recommended to join the channel. EM will not take any responsibility for any penalties of information because of this.
URL:https://uo.com/event/arirang-2nd-the-quiz/
LOCATION:Arirang
CATEGORIES:EM Event
END:VEVENT
BEGIN:VEVENT
DTSTART;TZID=America/Chicago:20180505T200000
DTEND;TZID=America/Chicago:20180505T210000
DTSTAMP:20260421T185139
CREATED:20180504T013214Z
LAST-MODIFIED:20180504T013214Z
UID:16529-1525550400-1525554000@uo.com
SUMMARY:Lake Austin - "The Burial of Anne" 8PM
DESCRIPTION:The King pays respects to Anne may she rest in peace \n8PM Central Time \nTransportation provided from Luna bank
URL:https://uo.com/event/lake-austin-the-burial-of-anne-8pm/
CATEGORIES:EM Event
END:VEVENT
BEGIN:VEVENT
DTSTART;TZID=Europe/London:20180505T203000
DTEND;TZID=Europe/London:20180505T213000
DTSTAMP:20260421T185139
CREATED:20180423T181944Z
LAST-MODIFIED:20180423T181944Z
UID:16465-1525552200-1525555800@uo.com
SUMMARY:Europa - The Golden Man believes in Pkers!
DESCRIPTION:The Golden Man visits Felucca…(is he seeking an alliance with murderers?) \nGather at EM Hall 8.30 pm UK Time zone! \n*Event will take place in Felucca\, be ready!*
URL:https://uo.com/event/europa-the-golden-man-believes-in-pkers/
CATEGORIES:EM Event
END:VEVENT
END:VCALENDAR