BEGIN:VCALENDAR
VERSION:2.0
PRODID:-//Ultima Online - ECPv5.16.4.1//NONSGML v1.0//EN
CALSCALE:GREGORIAN
METHOD:PUBLISH
X-WR-CALNAME:Ultima Online
X-ORIGINAL-URL:https://uo.com
X-WR-CALDESC:Events for Ultima Online
BEGIN:VTIMEZONE
TZID:Europe/London
BEGIN:DAYLIGHT
TZOFFSETFROM:+0000
TZOFFSETTO:+0100
TZNAME:BST
DTSTART:20180325T010000
END:DAYLIGHT
BEGIN:STANDARD
TZOFFSETFROM:+0100
TZOFFSETTO:+0000
TZNAME:GMT
DTSTART:20181028T010000
END:STANDARD
TZID:America/Los_Angeles
BEGIN:DAYLIGHT
TZOFFSETFROM:-0800
TZOFFSETTO:-0700
TZNAME:PDT
DTSTART:20180311T100000
END:DAYLIGHT
BEGIN:STANDARD
TZOFFSETFROM:-0700
TZOFFSETTO:-0800
TZNAME:PST
DTSTART:20181104T090000
END:STANDARD
TZID:Europe/Berlin
BEGIN:DAYLIGHT
TZOFFSETFROM:+0100
TZOFFSETTO:+0200
TZNAME:CEST
DTSTART:20180325T010000
END:DAYLIGHT
BEGIN:STANDARD
TZOFFSETFROM:+0200
TZOFFSETTO:+0100
TZNAME:CET
DTSTART:20181028T010000
END:STANDARD
END:VTIMEZONE
BEGIN:VEVENT
DTSTART;TZID=Europe/London:20180506T173000
DTEND;TZID=Europe/London:20180506T183000
DTSTAMP:20260421T185132
CREATED:20180423T181510Z
LAST-MODIFIED:20180423T181510Z
UID:16463-1525627800-1525631400@uo.com
SUMMARY:Europa - Royal Council
DESCRIPTION:Meet your King at castle Blackthorn! 5.30 pm Uk Time zone
URL:https://uo.com/event/europa-royal-council-8/
CATEGORIES:EM Event
END:VEVENT
BEGIN:VEVENT
DTSTART;TZID=America/Los_Angeles:20180506T180000
DTEND;TZID=America/Los_Angeles:20180506T193000
DTSTAMP:20260421T185132
CREATED:20180502T201436Z
LAST-MODIFIED:20180502T201436Z
UID:16506-1525629600-1525635000@uo.com
SUMMARY:Origin ~ Fireside Chat & Zig’s *Mini Farm Bash*!
DESCRIPTION:
URL:https://uo.com/event/origin-fireside-chat-zigs-mini-farm-bash/
LOCATION:Award Hall BBQ Area (Malas)
CATEGORIES:EM Event
END:VEVENT
BEGIN:VEVENT
DTSTART;TZID=Europe/London:20180506T203000
DTEND;TZID=Europe/London:20180506T213000
DTSTAMP:20260421T185132
CREATED:20180423T181238Z
LAST-MODIFIED:20180423T181238Z
UID:16461-1525638600-1525642200@uo.com
SUMMARY:Europa - The Golden Man V (Retreat)
DESCRIPTION:gather at EM Hall – 8.30 pm UK time zone \n 
URL:https://uo.com/event/europa-the-golden-man-v-retreat/
CATEGORIES:EM Event
END:VEVENT
BEGIN:VEVENT
DTSTART;TZID=Europe/Berlin:20180506T203000
DTEND;TZID=Europe/Berlin:20180506T213000
DTSTAMP:20260421T185132
CREATED:20180502T055424Z
LAST-MODIFIED:20180502T055424Z
UID:16491-1525638600-1525642200@uo.com
SUMMARY:Drachenfels: EM Meet & Greet
DESCRIPTION:Time: 8:30pm CEST (UTC+2).  Location: EM Hall\, Britain\, Trammel.\nA happy get-together with EM Lyraa\, dedicated especially to all new and returning players (HoF participants will get their points for visiting this event). \nZeit: 20:30 Uhr CEST (UTC+2). Ort: EM Halle\, Britain\, Trammel.\nEin fröhliches Zusammentreffen mit EM Lyraa\, speziell für Fragen von Neulingen und Rückkehrer gedacht (HoF Teilnehmer erhalten Punkte für den Besuch des  Events).
URL:https://uo.com/event/drachenfels-em-meet-greet/
LOCATION:Drachenfels
CATEGORIES:EM Event
END:VEVENT
END:VCALENDAR