BEGIN:VCALENDAR
VERSION:2.0
PRODID:-//Ultima Online - ECPv5.16.4.1//NONSGML v1.0//EN
CALSCALE:GREGORIAN
METHOD:PUBLISH
X-WR-CALNAME:Ultima Online
X-ORIGINAL-URL:https://uo.com
X-WR-CALDESC:Events for Ultima Online
BEGIN:VTIMEZONE
TZID:America/New_York
BEGIN:DAYLIGHT
TZOFFSETFROM:-0500
TZOFFSETTO:-0400
TZNAME:EDT
DTSTART:20180311T070000
END:DAYLIGHT
BEGIN:STANDARD
TZOFFSETFROM:-0400
TZOFFSETTO:-0500
TZNAME:EST
DTSTART:20181104T060000
END:STANDARD
TZID:America/Chicago
BEGIN:DAYLIGHT
TZOFFSETFROM:-0600
TZOFFSETTO:-0500
TZNAME:CDT
DTSTART:20180311T080000
END:DAYLIGHT
BEGIN:STANDARD
TZOFFSETFROM:-0500
TZOFFSETTO:-0600
TZNAME:CST
DTSTART:20181104T070000
END:STANDARD
TZID:Asia/Seoul
BEGIN:STANDARD
TZOFFSETFROM:+0900
TZOFFSETTO:+0900
TZNAME:KST
DTSTART:20180101T000000
END:STANDARD
END:VTIMEZONE
BEGIN:VEVENT
DTSTART;TZID=America/New_York:20180519T170000
DTEND;TZID=America/New_York:20180519T180000
DTSTAMP:20260421T170655
CREATED:20180504T163107Z
LAST-MODIFIED:20180504T163107Z
UID:16543-1526749200-1526752800@uo.com
SUMMARY:Siege - Council Meeting
DESCRIPTION:
URL:https://uo.com/event/siege-council-meeting/
LOCATION:Siege Perilous
CATEGORIES:EM Event
END:VEVENT
BEGIN:VEVENT
DTSTART;TZID=America/Chicago:20180519T200000
DTEND;TZID=America/Chicago:20180519T210000
DTSTAMP:20260421T170655
CREATED:20180504T013800Z
LAST-MODIFIED:20180504T013800Z
UID:16533-1526760000-1526763600@uo.com
SUMMARY:Lake Austin - "A Circus Cometh" 8pm
DESCRIPTION:“A Circus Cometh” \nEM Event: The citizens prepare to host a circus! \n8pm Central Time – Transportation provided at Luna and West Brit banks.
URL:https://uo.com/event/lake-austin-a-circus-cometh-8pm/
CATEGORIES:EM Event
END:VEVENT
BEGIN:VEVENT
DTSTART;TZID=Asia/Seoul:20180519T200000
DTEND;TZID=Asia/Seoul:20180519T210000
DTSTAMP:20260421T170655
CREATED:20180511T053234Z
LAST-MODIFIED:20180511T053234Z
UID:16565-1526760000-1526763600@uo.com
SUMMARY:Arirang - The Earthcore
DESCRIPTION:Event Schedule \nDate/Time: May 19th\, 2018 08:00PM KST\nMeeting Place: Britain EM Hall \nEvent Story \nAfter the flood\, drowned turned into undead. Royal Inspector Alberich cleared them all with adventurers\, and burn the remaining bodies. Also he found and deliver San-lem who tried to save human and died to her fellow gargoyles. However\, Vesper still need to be recover\, and in order to do so\, they need resources from other cities. \nCaution! \nWe’re expecting battle in this event\, please insure your precious items or leave them to your bank box. Event time is not that long so we’ll start it right in time. \nWarning \nIf anyone disrupt the event\, spamming\, insulting\, and harassing others or EM\, event will be stopped until the situation is handled. Please be advice that any inappropriate behavior will noted to your account\, and some of them can be fatal. EM will trying to hear your suggestion\, complain\, question\, and feedback willingly. Even though EM willing to hear and deal with the issue\, please note that there are some things that EM cannot deal with. \nEvent Chat Channel \nDuring the event\, we’ll use “Arirang EM Event” chat channel. To communicate with EM\, it is highly recommended to join the channel. EM will not take any responsibility for any penalties of information because of this.
URL:https://uo.com/event/arirang-the-earthcore/
LOCATION:Arirang
CATEGORIES:EM Event
END:VEVENT
END:VCALENDAR