BEGIN:VCALENDAR
VERSION:2.0
PRODID:-//Ultima Online - ECPv5.16.4.1//NONSGML v1.0//EN
CALSCALE:GREGORIAN
METHOD:PUBLISH
X-WR-CALNAME:Ultima Online
X-ORIGINAL-URL:https://uo.com
X-WR-CALDESC:Events for Ultima Online
BEGIN:VTIMEZONE
TZID:America/New_York
BEGIN:DAYLIGHT
TZOFFSETFROM:-0500
TZOFFSETTO:-0400
TZNAME:EDT
DTSTART:20180311T070000
END:DAYLIGHT
BEGIN:STANDARD
TZOFFSETFROM:-0400
TZOFFSETTO:-0500
TZNAME:EST
DTSTART:20181104T060000
END:STANDARD
TZID:America/Chicago
BEGIN:DAYLIGHT
TZOFFSETFROM:-0600
TZOFFSETTO:-0500
TZNAME:CDT
DTSTART:20180311T080000
END:DAYLIGHT
BEGIN:STANDARD
TZOFFSETFROM:-0500
TZOFFSETTO:-0600
TZNAME:CST
DTSTART:20181104T070000
END:STANDARD
END:VTIMEZONE
BEGIN:VEVENT
DTSTART;TZID=America/New_York:20180522T200000
DTEND;TZID=America/New_York:20180522T210000
DTSTAMP:20260421T170721
CREATED:20180422T161048Z
LAST-MODIFIED:20180422T161048Z
UID:16449-1527019200-1527022800@uo.com
SUMMARY:Legends - Council Meeting
DESCRIPTION:On Tuesday\, May 22nd at 8:00 PM EST\, Lord Blackthorn will preside over a council meeting.
URL:https://uo.com/event/legends-council-meeting-14/
LOCATION:Legends
CATEGORIES:EM Event
END:VEVENT
BEGIN:VEVENT
DTSTART;TZID=America/Chicago:20180522T200000
DTEND;TZID=America/Chicago:20180522T200000
DTSTAMP:20260421T170721
CREATED:20180503T014229Z
LAST-MODIFIED:20180503T014229Z
UID:16524-1527019200-1527019200@uo.com
SUMMARY:Great Lakes - Royal Britannian Guard
DESCRIPTION:This Royal Britannian Guard mission has the codename “Front Lines”. To attend\, go through the moongate inside the Britain Counselor Hall.
URL:https://uo.com/event/great-lakes-royal-britannian-guard-44/
LOCATION:Great Lakes – Counselor Hall
CATEGORIES:EM Event
END:VEVENT
BEGIN:VEVENT
DTSTART;TZID=America/New_York:20180522T210000
DTEND;TZID=America/New_York:20180522T220000
DTSTAMP:20260421T170721
CREATED:20180510T015213Z
LAST-MODIFIED:20180510T015213Z
UID:16563-1527022800-1527026400@uo.com
SUMMARY:Atlantic - Shadowfalls
DESCRIPTION:Hiwyn the Archmage requests your help with bringing Mallus Luzar the Necromancer to justice! Meet at the Counselor Hall!
URL:https://uo.com/event/atlantic-shadowfalls/
LOCATION:Meet At Counselor Hall
CATEGORIES:EM Event
END:VEVENT
END:VCALENDAR