BEGIN:VCALENDAR
VERSION:2.0
PRODID:-//Ultima Online - ECPv5.16.4.1//NONSGML v1.0//EN
CALSCALE:GREGORIAN
METHOD:PUBLISH
X-WR-CALNAME:Ultima Online
X-ORIGINAL-URL:https://uo.com
X-WR-CALDESC:Events for Ultima Online
BEGIN:VTIMEZONE
TZID:America/Los_Angeles
BEGIN:DAYLIGHT
TZOFFSETFROM:-0800
TZOFFSETTO:-0700
TZNAME:PDT
DTSTART:20180311T100000
END:DAYLIGHT
BEGIN:STANDARD
TZOFFSETFROM:-0700
TZOFFSETTO:-0800
TZNAME:PST
DTSTART:20181104T090000
END:STANDARD
TZID:America/New_York
BEGIN:DAYLIGHT
TZOFFSETFROM:-0500
TZOFFSETTO:-0400
TZNAME:EDT
DTSTART:20180311T070000
END:DAYLIGHT
BEGIN:STANDARD
TZOFFSETFROM:-0400
TZOFFSETTO:-0500
TZNAME:EST
DTSTART:20181104T060000
END:STANDARD
TZID:Asia/Tokyo
BEGIN:STANDARD
TZOFFSETFROM:+0900
TZOFFSETTO:+0900
TZNAME:JST
DTSTART:20180101T000000
END:STANDARD
END:VTIMEZONE
BEGIN:VEVENT
DTSTART;TZID=America/Los_Angeles:20180525T190000
DTEND;TZID=America/Los_Angeles:20180525T200000
DTSTAMP:20260421T170605
CREATED:20180502T211858Z
LAST-MODIFIED:20180527T031147Z
UID:16514-1527274800-1527278400@uo.com
SUMMARY:Origin ~ Have Gear Will Travel #33: ‘Ghostly Game of Death’ *Felucca*
DESCRIPTION:
URL:https://uo.com/event/origin-have-gear-will-travel-33-ghostly-game-of-death-felucca/
LOCATION:Luna Stables (meet at)
CATEGORIES:EM Event
END:VEVENT
BEGIN:VEVENT
DTSTART;TZID=America/New_York:20180525T210000
DTEND;TZID=America/New_York:20180525T220000
DTSTAMP:20260421T170605
CREATED:20180508T005425Z
LAST-MODIFIED:20180508T005425Z
UID:16557-1527282000-1527285600@uo.com
SUMMARY:Atlantic - Kings Meeting
DESCRIPTION:This meeting is for the Governors and the citizens of Britannia. All are welcome to attend
URL:https://uo.com/event/atlantic-kings-meeting-2/
LOCATION:Castle Blackthorn Governors Hall
CATEGORIES:EM Event
END:VEVENT
BEGIN:VEVENT
DTSTART;TZID=Asia/Tokyo:20180525T220000
DTEND;TZID=Asia/Tokyo:20180525T220000
DTSTAMP:20260421T170605
CREATED:20180511T054312Z
LAST-MODIFIED:20180511T054312Z
UID:16571-1527285600-1527285600@uo.com
SUMMARY:Mizuho - Event
DESCRIPTION:Chat: Mizuho EM Event
URL:https://uo.com/event/mizuho-event-14/
CATEGORIES:EM Event
END:VEVENT
END:VCALENDAR