BEGIN:VCALENDAR
VERSION:2.0
PRODID:-//Ultima Online - ECPv5.16.4.1//NONSGML v1.0//EN
CALSCALE:GREGORIAN
METHOD:PUBLISH
X-WR-CALNAME:Ultima Online
X-ORIGINAL-URL:https://uo.com
X-WR-CALDESC:Events for Ultima Online
BEGIN:VTIMEZONE
TZID:America/Los_Angeles
BEGIN:DAYLIGHT
TZOFFSETFROM:-0800
TZOFFSETTO:-0700
TZNAME:PDT
DTSTART:20180311T100000
END:DAYLIGHT
BEGIN:STANDARD
TZOFFSETFROM:-0700
TZOFFSETTO:-0800
TZNAME:PST
DTSTART:20181104T090000
END:STANDARD
TZID:America/Chicago
BEGIN:DAYLIGHT
TZOFFSETFROM:-0600
TZOFFSETTO:-0500
TZNAME:CDT
DTSTART:20180311T080000
END:DAYLIGHT
BEGIN:STANDARD
TZOFFSETFROM:-0500
TZOFFSETTO:-0600
TZNAME:CST
DTSTART:20181104T070000
END:STANDARD
TZID:Asia/Seoul
BEGIN:STANDARD
TZOFFSETFROM:+0900
TZOFFSETTO:+0900
TZNAME:KST
DTSTART:20180101T000000
END:STANDARD
TZID:Asia/Tokyo
BEGIN:STANDARD
TZOFFSETFROM:+0900
TZOFFSETTO:+0900
TZNAME:JST
DTSTART:20180101T000000
END:STANDARD
END:VTIMEZONE
BEGIN:VEVENT
DTSTART;TZID=America/Los_Angeles:20180526T190000
DTEND;TZID=America/Los_Angeles:20180526T200000
DTSTAMP:20260421T170603
CREATED:20180511T192241Z
LAST-MODIFIED:20180511T192241Z
UID:16575-1527361200-1527364800@uo.com
SUMMARY:*Pacific* - Flame Risen
DESCRIPTION:
URL:https://uo.com/event/pacific-flame-risen/
LOCATION:Castle Blackthorn Courtyard
CATEGORIES:EM Event
END:VEVENT
BEGIN:VEVENT
DTSTART;TZID=America/Chicago:20180526T200000
DTEND;TZID=America/Chicago:20180526T210000
DTSTAMP:20260421T170603
CREATED:20180504T013945Z
LAST-MODIFIED:20180504T013945Z
UID:16535-1527364800-1527368400@uo.com
SUMMARY:Lake Austin - "Dragon Hunt" - 8PM
DESCRIPTION:Dragon Hunt! \nTransportation provided from Luna and WBB 8PM Central Time
URL:https://uo.com/event/lake-austin-dragon-hunt-8pm/
CATEGORIES:EM Event
END:VEVENT
BEGIN:VEVENT
DTSTART;TZID=Asia/Seoul:20180526T200000
DTEND;TZID=Asia/Seoul:20180526T210000
DTSTAMP:20260421T170603
CREATED:20180511T053358Z
LAST-MODIFIED:20180511T053358Z
UID:16567-1527364800-1527368400@uo.com
SUMMARY:Arirang - 2nd Bagball Tournament
DESCRIPTION:Event Schedule \nDate/Time: May 26th\, 2017 08:00PM KST\nMeeting Place: Britain EM Hall \nCaution! \nThis is non-reward event\, but the competition event. \nBagball has been traditional sports in Britannia. There will be a bag ball tournament for end of spring! Anyone who wants to participate can join in group of two. Match list will be set when how many players participate the day. Basic rule is same as UO.com bag ball section so if you do not familiar with the rules\, you can see it here. \nWarning \nIf anyone disrupt the event\, spamming\, insulting\, and harassing others or EM\, event will be stopped until the situation is handled. Please be advice that any inappropriate behavior will noted to your account\, and some of them can be fatal. EM will trying to hear your suggestion\, complain\, question\, and feedback willingly. Even though EM willing to hear and deal with the issue\, please note that there are some things that EM cannot deal with. \nEvent Chat Channel \nDuring the event\, we’ll use “Arirang EM Event” chat channel. To communicate with EM\, it is highly recommended to join the channel. EM will not take any responsibility for any penalties of information because of this.
URL:https://uo.com/event/arirang-2nd-bagball-tournament/
LOCATION:Arirang
CATEGORIES:EM Event
END:VEVENT
BEGIN:VEVENT
DTSTART;TZID=Asia/Tokyo:20180526T220000
DTEND;TZID=Asia/Tokyo:20180526T220000
DTSTAMP:20260421T170603
CREATED:20180417T114203Z
LAST-MODIFIED:20180417T114203Z
UID:16387-1527372000-1527372000@uo.com
SUMMARY:Sakura - Event
DESCRIPTION:TBD\nchat# JapanEMevent
URL:https://uo.com/event/sakura-event-12/
LOCATION:Sakura – EM Hall\, Japan
CATEGORIES:EM Event
END:VEVENT
END:VCALENDAR