BEGIN:VCALENDAR
VERSION:2.0
PRODID:-//Ultima Online - ECPv5.16.4.1//NONSGML v1.0//EN
CALSCALE:GREGORIAN
METHOD:PUBLISH
X-WR-CALNAME:Ultima Online
X-ORIGINAL-URL:https://uo.com
X-WR-CALDESC:Events for Ultima Online
BEGIN:VTIMEZONE
TZID:America/Los_Angeles
BEGIN:DAYLIGHT
TZOFFSETFROM:-0800
TZOFFSETTO:-0700
TZNAME:PDT
DTSTART:20180311T100000
END:DAYLIGHT
BEGIN:STANDARD
TZOFFSETFROM:-0700
TZOFFSETTO:-0800
TZNAME:PST
DTSTART:20181104T090000
END:STANDARD
TZID:Europe/Berlin
BEGIN:DAYLIGHT
TZOFFSETFROM:+0100
TZOFFSETTO:+0200
TZNAME:CEST
DTSTART:20180325T010000
END:DAYLIGHT
BEGIN:STANDARD
TZOFFSETFROM:+0200
TZOFFSETTO:+0100
TZNAME:CET
DTSTART:20181028T010000
END:STANDARD
TZID:America/New_York
BEGIN:DAYLIGHT
TZOFFSETFROM:-0500
TZOFFSETTO:-0400
TZNAME:EDT
DTSTART:20180311T070000
END:DAYLIGHT
BEGIN:STANDARD
TZOFFSETFROM:-0400
TZOFFSETTO:-0500
TZNAME:EST
DTSTART:20181104T060000
END:STANDARD
TZID:Asia/Taipei
BEGIN:STANDARD
TZOFFSETFROM:+0800
TZOFFSETTO:+0800
TZNAME:CST
DTSTART:20180101T000000
END:STANDARD
END:VTIMEZONE
BEGIN:VEVENT
DTSTART;TZID=America/Los_Angeles:20180530T190000
DTEND;TZID=America/Los_Angeles:20180530T200000
DTSTAMP:20260421T152258
CREATED:20180515T015903Z
LAST-MODIFIED:20180515T015903Z
UID:16584-1527706800-1527710400@uo.com
SUMMARY:Baja - Governors Meeting
DESCRIPTION:King Blackthorn invites all to attend May’s Governor Meeting!
URL:https://uo.com/event/baja-governors-meeting-12/
CATEGORIES:EM Event
END:VEVENT
BEGIN:VEVENT
DTSTART;TZID=Europe/Berlin:20180530T203000
DTEND;TZID=Europe/Berlin:20180530T213000
DTSTAMP:20260421T152258
CREATED:20180502T060731Z
LAST-MODIFIED:20180502T060731Z
UID:16499-1527712200-1527715800@uo.com
SUMMARY:Drachenfels: Royal Audience | Königliche Audienz & HoF Event
DESCRIPTION:Time: 8:30pm CEST (UTC+2). Location: Castle Blackthorn\, Britain\, Trammel.\nA Royal Audience will be held. Afterwards there will be a Scavenger Hunt (HoF/RP)\, gates will be provided from the usual locations. \nZeit: 20:30 Uhr CEST (UTC+2). Ort: Schloss Blackthorn\, Britain\, Trammel.\nEine Königliche Audienz wird abgehalten. Danach folgt eine Schnitzeljagd (HoF/RP)\, Mondtore werden von den üblichen Orten gestellt.
URL:https://uo.com/event/drachenfels-royal-audience-konigliche-audienz-hof-event/
LOCATION:Drachenfels
CATEGORIES:EM Event
END:VEVENT
BEGIN:VEVENT
DTSTART;TZID=America/New_York:20180530T210000
DTEND;TZID=America/New_York:20180530T220000
DTSTAMP:20260421T152258
CREATED:20180519T012510Z
LAST-MODIFIED:20180519T012510Z
UID:16619-1527714000-1527717600@uo.com
SUMMARY:Chessy - The Circle Of Blood Event - 9pm Est
DESCRIPTION:Chessy – The Circle Of Blood Event – 9pm Est
URL:https://uo.com/event/chessy-the-circle-of-blood-event-9pm-est/
LOCATION:Chesapeake
CATEGORIES:EM Event
END:VEVENT
BEGIN:VEVENT
DTSTART;TZID=Asia/Taipei:20180530T210000
DTEND;TZID=Asia/Taipei:20180530T223000
DTSTAMP:20260421T152258
CREATED:20180522T102625Z
LAST-MODIFIED:20180522T102625Z
UID:16629-1527714000-1527719400@uo.com
SUMMARY:Formosa The Ocean Debris of Tokuna
DESCRIPTION:EM Britain Hall
URL:https://uo.com/event/formosa-the-ocean-debris-of-tokuna/
LOCATION:Formosa Britain EM Hall
CATEGORIES:EM Event
END:VEVENT
END:VCALENDAR