BEGIN:VCALENDAR
VERSION:2.0
PRODID:-//Ultima Online - ECPv5.16.4.1//NONSGML v1.0//EN
CALSCALE:GREGORIAN
METHOD:PUBLISH
X-WR-CALNAME:Ultima Online
X-ORIGINAL-URL:https://uo.com
X-WR-CALDESC:Events for Ultima Online
BEGIN:VTIMEZONE
TZID:America/New_York
BEGIN:DAYLIGHT
TZOFFSETFROM:-0500
TZOFFSETTO:-0400
TZNAME:EDT
DTSTART:20180311T070000
END:DAYLIGHT
BEGIN:STANDARD
TZOFFSETFROM:-0400
TZOFFSETTO:-0500
TZNAME:EST
DTSTART:20181104T060000
END:STANDARD
TZID:Asia/Seoul
BEGIN:STANDARD
TZOFFSETFROM:+0900
TZOFFSETTO:+0900
TZNAME:KST
DTSTART:20180101T000000
END:STANDARD
END:VTIMEZONE
BEGIN:VEVENT
DTSTART;VALUE=DATE:20180531
DTEND;VALUE=DATE:20180601
DTSTAMP:20260421T152453
CREATED:20180504T162054Z
LAST-MODIFIED:20180504T162054Z
UID:16537-1527724800-1527811199@uo.com
SUMMARY:Siege - Fishing Competition
DESCRIPTION:Bring me… a shrubbery!   No\, no – I’ve got enough shrubs. What don’t I have… hmm.. how about a Fairy Salmon? That’ll do nicely. These tasty little guys can be caught in the waters of Ter Mur\, and should be easy pickings for all our fine fishermen and women! \nEntries can be deposited in the mailbox at the EM Hall. \nThe winner of April’s Fishing Contest was Lord Creeger\, with a 195 Stone Giant Koi. That really is a giant! Well done\, Creeger! Your fish is on display in the Hall of Champions!
URL:https://uo.com/event/siege-fishing-competition/
LOCATION:Siege Perilous
CATEGORIES:EM Event
END:VEVENT
BEGIN:VEVENT
DTSTART;TZID=America/New_York:20180531T190000
DTEND;TZID=America/New_York:20180531T203000
DTSTAMP:20260421T152453
CREATED:20180418T104544Z
LAST-MODIFIED:20180418T104544Z
UID:16412-1527793200-1527798600@uo.com
SUMMARY:Catskills - Governors Meeting
DESCRIPTION:Governors to meet at Castle Blackthorn!
URL:https://uo.com/event/catskills-governors-meeting-20/
LOCATION:Catskills
CATEGORIES:EM Event
END:VEVENT
BEGIN:VEVENT
DTSTART;TZID=Asia/Seoul:20180531T220000
DTEND;TZID=Asia/Seoul:20180531T233000
DTSTAMP:20260421T152453
CREATED:20180522T102734Z
LAST-MODIFIED:20180522T102734Z
UID:16631-1527804000-1527809400@uo.com
SUMMARY:Balhae The Ocean Debris of Tokuna
DESCRIPTION:EM Britain Hall
URL:https://uo.com/event/balhae-the-ocean-debris-of-tokuna/
LOCATION:Balhae EM Britain Hall
CATEGORIES:EM Event
END:VEVENT
END:VCALENDAR