BEGIN:VCALENDAR
VERSION:2.0
PRODID:-//Ultima Online - ECPv5.16.4.1//NONSGML v1.0//EN
CALSCALE:GREGORIAN
METHOD:PUBLISH
X-WR-CALNAME:Ultima Online
X-ORIGINAL-URL:https://uo.com
X-WR-CALDESC:Events for Ultima Online
BEGIN:VTIMEZONE
TZID:America/Los_Angeles
BEGIN:DAYLIGHT
TZOFFSETFROM:-0800
TZOFFSETTO:-0700
TZNAME:PDT
DTSTART:20180311T100000
END:DAYLIGHT
BEGIN:STANDARD
TZOFFSETFROM:-0700
TZOFFSETTO:-0800
TZNAME:PST
DTSTART:20181104T090000
END:STANDARD
TZID:America/New_York
BEGIN:DAYLIGHT
TZOFFSETFROM:-0500
TZOFFSETTO:-0400
TZNAME:EDT
DTSTART:20180311T070000
END:DAYLIGHT
BEGIN:STANDARD
TZOFFSETFROM:-0400
TZOFFSETTO:-0500
TZNAME:EST
DTSTART:20181104T060000
END:STANDARD
END:VTIMEZONE
BEGIN:VEVENT
DTSTART;TZID=America/Los_Angeles:20180613T190000
DTEND;TZID=America/Los_Angeles:20180613T200000
DTSTAMP:20260421T152505
CREATED:20180604T020655Z
LAST-MODIFIED:20180604T020655Z
UID:16774-1528916400-1528920000@uo.com
SUMMARY:Baja - The Oppressed
DESCRIPTION:Jennifer the Guard needs your help with launching an assault on the Red Goblin Army!
URL:https://uo.com/event/baja-the-oppressed/
LOCATION:Meet At Counselor Hall
CATEGORIES:EM Event
END:VEVENT
BEGIN:VEVENT
DTSTART;TZID=America/New_York:20180613T210000
DTEND;TZID=America/New_York:20180613T220000
DTSTAMP:20260421T152505
CREATED:20180519T012753Z
LAST-MODIFIED:20180519T012753Z
UID:16625-1528923600-1528927200@uo.com
SUMMARY:Chessy - Clean Up The City Event - 9pm est
DESCRIPTION:Chessy – Clean Up The City Event – 9pm est
URL:https://uo.com/event/chessy-clean-up-the-city-event-9pm-est/
LOCATION:Chesapeake
CATEGORIES:EM Event
END:VEVENT
END:VCALENDAR