BEGIN:VCALENDAR
VERSION:2.0
PRODID:-//Ultima Online - ECPv5.16.4.1//NONSGML v1.0//EN
CALSCALE:GREGORIAN
METHOD:PUBLISH
X-WR-CALNAME:Ultima Online
X-ORIGINAL-URL:https://uo.com
X-WR-CALDESC:Events for Ultima Online
BEGIN:VTIMEZONE
TZID:America/Los_Angeles
BEGIN:DAYLIGHT
TZOFFSETFROM:-0800
TZOFFSETTO:-0700
TZNAME:PDT
DTSTART:20180311T100000
END:DAYLIGHT
BEGIN:STANDARD
TZOFFSETFROM:-0700
TZOFFSETTO:-0800
TZNAME:PST
DTSTART:20181104T090000
END:STANDARD
TZID:Asia/Seoul
BEGIN:STANDARD
TZOFFSETFROM:+0900
TZOFFSETTO:+0900
TZNAME:KST
DTSTART:20180101T000000
END:STANDARD
TZID:America/Chicago
BEGIN:DAYLIGHT
TZOFFSETFROM:-0600
TZOFFSETTO:-0500
TZNAME:CDT
DTSTART:20180311T080000
END:DAYLIGHT
BEGIN:STANDARD
TZOFFSETFROM:-0500
TZOFFSETTO:-0600
TZNAME:CST
DTSTART:20181104T070000
END:STANDARD
END:VTIMEZONE
BEGIN:VEVENT
DTSTART;TZID=America/Los_Angeles:20180616T190000
DTEND;TZID=America/Los_Angeles:20180616T200000
DTSTAMP:20260421T152341
CREATED:20180602T052544Z
LAST-MODIFIED:20180602T052544Z
UID:16738-1529175600-1529179200@uo.com
SUMMARY:*Pacific* - Forging Destiny
DESCRIPTION:
URL:https://uo.com/event/pacific-forging-destiny/
LOCATION:Castle Blackthorn Courtyard
CATEGORIES:EM Event
END:VEVENT
BEGIN:VEVENT
DTSTART;TZID=Asia/Seoul:20180616T200000
DTEND;TZID=Asia/Seoul:20180616T210000
DTSTAMP:20260421T152341
CREATED:20180530T114318Z
LAST-MODIFIED:20180530T114318Z
UID:16712-1529179200-1529182800@uo.com
SUMMARY:Arirang - Blurred Justice
DESCRIPTION:Event Schedule \nDate/Time: June 16th\, 2018 08:00PM KST \nMeeting Place: Britain EM Hall \nEvent Story \nThe reason why Minoc couldn’t deliver the resources was the conflict with an ancient earth elemental living beneath of the Mountain Kendall. After they resolve the misunderstanding\, miners of Minoc now start digging again. However\, it is still mystery despite of this difficulty\, why they didn’t ask any help to other cities or Britain. Alberich the Royal Inspector returned to city hall to find out. \nCaution! \nWe’re expecting battle in this event\, please insure your precious items or leave them to your bank box. Event time is not that long so we’ll start it right in time. \nWarning \nIf anyone disrupt the event\, spamming\, insulting\, and harassing others or EM\, event will be stopped until the situation is handled. Please be advice that any inappropriate behavior will noted to your account\, and some of them can be fatal. EM will trying to hear your suggestion\, complain\, question\, and feedback willingly. Even though EM willing to hear and deal with the issue\, please note that there are some things that EM cannot deal with. \nEvent Chat Channel \nDuring the event\, we’ll use “Arirang EM Event” chat channel. To communicate with EM\, it is highly recommended to join the channel. EM will not take any responsibility for any penalties of information because of this.
URL:https://uo.com/event/arirang-blurred-justice/
LOCATION:Arirang
CATEGORIES:EM Event
END:VEVENT
BEGIN:VEVENT
DTSTART;TZID=America/Chicago:20180616T200000
DTEND;TZID=America/Chicago:20180616T210000
DTSTAMP:20260421T152341
CREATED:20180611T012650Z
LAST-MODIFIED:20180611T012650Z
UID:16831-1529179200-1529182800@uo.com
SUMMARY:Lake Austin - Town Hall Meeting
DESCRIPTION:June 16 8PM Central- Town Hall Meeting - All citizens encouraged to\nattend. Fishers bring your May Unicorn Fish! Because it is election season\nthis meeting is in lieu of a governor's meeting.
URL:https://uo.com/event/lake-austin-town-hall-meeting/
CATEGORIES:EM Event
END:VEVENT
END:VCALENDAR