BEGIN:VCALENDAR
VERSION:2.0
PRODID:-//Ultima Online - ECPv5.16.4.1//NONSGML v1.0//EN
CALSCALE:GREGORIAN
METHOD:PUBLISH
X-WR-CALNAME:Ultima Online
X-ORIGINAL-URL:https://uo.com
X-WR-CALDESC:Events for Ultima Online
BEGIN:VTIMEZONE
TZID:America/Los_Angeles
BEGIN:DAYLIGHT
TZOFFSETFROM:-0800
TZOFFSETTO:-0700
TZNAME:PDT
DTSTART:20180311T100000
END:DAYLIGHT
BEGIN:STANDARD
TZOFFSETFROM:-0700
TZOFFSETTO:-0800
TZNAME:PST
DTSTART:20181104T090000
END:STANDARD
TZID:Europe/Berlin
BEGIN:DAYLIGHT
TZOFFSETFROM:+0100
TZOFFSETTO:+0200
TZNAME:CEST
DTSTART:20180325T010000
END:DAYLIGHT
BEGIN:STANDARD
TZOFFSETFROM:+0200
TZOFFSETTO:+0100
TZNAME:CET
DTSTART:20181028T010000
END:STANDARD
TZID:Asia/Tokyo
BEGIN:STANDARD
TZOFFSETFROM:+0900
TZOFFSETTO:+0900
TZNAME:JST
DTSTART:20180101T000000
END:STANDARD
END:VTIMEZONE
BEGIN:VEVENT
DTSTART;TZID=America/Los_Angeles:20180617T180000
DTEND;TZID=America/Los_Angeles:20180617T183000
DTSTAMP:20260421T152158
CREATED:20180609T140931Z
LAST-MODIFIED:20180609T140931Z
UID:16817-1529258400-1529260200@uo.com
SUMMARY:Origin ~ The King’s Meeting
DESCRIPTION:
URL:https://uo.com/event/origin-the-kings-meeting-9/
LOCATION:Blackthorn Castle meeting room
CATEGORIES:EM Event
END:VEVENT
BEGIN:VEVENT
DTSTART;TZID=America/Los_Angeles:20180617T183000
DTEND;TZID=America/Los_Angeles:20180617T193000
DTSTAMP:20260421T152158
CREATED:20180609T141241Z
LAST-MODIFIED:20180829T193650Z
UID:16819-1529260200-1529263800@uo.com
SUMMARY:Origin Royal Guard ~ Spring Graduation
DESCRIPTION:
URL:https://uo.com/event/origin-royal-guard-winter-graduation-3/
LOCATION:Blackthorn Castle meeting room
CATEGORIES:EM Event
END:VEVENT
BEGIN:VEVENT
DTSTART;TZID=Europe/Berlin:20180617T203000
DTEND;TZID=Europe/Berlin:20180617T213000
DTSTAMP:20260421T152158
CREATED:20180603T141403Z
LAST-MODIFIED:20180603T141403Z
UID:16756-1529267400-1529271000@uo.com
SUMMARY:Drachenfels: The trade routes | Die Handelsrouten (HoF/RP)
DESCRIPTION:Time: 8:30pm CEST (UTC+2).  Location: Castle Blackthorn\, Britain\, Trammel.\nMain HoF (RP) Event: You are new in the lands of Sosaria and always wanted to help out on the trade routes? With a team of fellow adventurers\, this is your opportunity to learn the trade doing those. Come and bring your weapons\, pets or spellbook to help! \nZeit: 20:30 Uhr CEST (UTC+2). Ort: Schloss Blackthorn\, Britain\, Trammel.\nHaupt HoF (RP) Event: Ihr seid neu in den Ländern Sosarias und wolltet schon immer auf den Handelsrouten helfen? Mit einem Team von Abenteurerkollegen ist dies eure Chance\, dieses Handwerk zu erlernen. Kommt und bringt eure Waffen\, Haustiere oder Zauberbücher mit!
URL:https://uo.com/event/drachenfels-the-trade-routes-die-handelsrouten-hof-rp/
LOCATION:Drachenfels
CATEGORIES:EM Event
END:VEVENT
BEGIN:VEVENT
DTSTART;TZID=Asia/Tokyo:20180617T220000
DTEND;TZID=Asia/Tokyo:20180617T220000
DTSTAMP:20260421T152158
CREATED:20180612T143507Z
LAST-MODIFIED:20180612T143507Z
UID:16844-1529272800-1529272800@uo.com
SUMMARY:Mizuho - Event
DESCRIPTION:Chat: Mizuho EM Event
URL:https://uo.com/event/mizuho-event-15/
CATEGORIES:EM Event
END:VEVENT
END:VCALENDAR