BEGIN:VCALENDAR
VERSION:2.0
PRODID:-//Ultima Online - ECPv5.16.4.1//NONSGML v1.0//EN
CALSCALE:GREGORIAN
METHOD:PUBLISH
X-WR-CALNAME:Ultima Online
X-ORIGINAL-URL:https://uo.com
X-WR-CALDESC:Events for Ultima Online
BEGIN:VTIMEZONE
TZID:America/Los_Angeles
BEGIN:DAYLIGHT
TZOFFSETFROM:-0800
TZOFFSETTO:-0700
TZNAME:PDT
DTSTART:20180311T100000
END:DAYLIGHT
BEGIN:STANDARD
TZOFFSETFROM:-0700
TZOFFSETTO:-0800
TZNAME:PST
DTSTART:20181104T090000
END:STANDARD
TZID:America/New_York
BEGIN:DAYLIGHT
TZOFFSETFROM:-0500
TZOFFSETTO:-0400
TZNAME:EDT
DTSTART:20180311T070000
END:DAYLIGHT
BEGIN:STANDARD
TZOFFSETFROM:-0400
TZOFFSETTO:-0500
TZNAME:EST
DTSTART:20181104T060000
END:STANDARD
END:VTIMEZONE
BEGIN:VEVENT
DTSTART;TZID=America/Los_Angeles:20180622T190000
DTEND;TZID=America/Los_Angeles:20180622T200000
DTSTAMP:20260421T152454
CREATED:20180613T144331Z
LAST-MODIFIED:20180613T144331Z
UID:16875-1529694000-1529697600@uo.com
SUMMARY:Origin ~ Have Gear Will Travel #34: ‘ROTGUT’ *Felucca*
DESCRIPTION:
URL:https://uo.com/event/origin-have-gear-will-travel-34-rotgut-felucca/
LOCATION:Gates at W. Britain\, Haven & Luna Banks
CATEGORIES:EM Event
END:VEVENT
BEGIN:VEVENT
DTSTART;TZID=America/New_York:20180622T220000
DTEND;TZID=America/New_York:20180622T230000
DTSTAMP:20260421T152454
CREATED:20180619T022959Z
LAST-MODIFIED:20180619T022959Z
UID:16945-1529704800-1529708400@uo.com
SUMMARY:Sonoma - Fishing Net Toss Event - 7PM PDT
DESCRIPTION:Join us on June 22nd @ 7PM PDT for a White net Toss event!
URL:https://uo.com/event/sonoma-fishing-net-toss-event-7pm-pdt/
LOCATION:Sonoma
CATEGORIES:EM Event
END:VEVENT
END:VCALENDAR